{"text_format":"2","workbook":"xlsx","n_sheets":87,"sheets":["Adressen Daten 25","Schiri_25","Sieger Vorrunde","2022_Adressen ","CH Cup Tableau 2025","Aus_Losung","Leer","CH Cup Tableau 2021 (2)","Eigaben","Tabelle1","zusammenfassung_25","Aufgebot A","Tabelle2","Spielbericht A","Aufgebot B","Spielbericht B","Aufgebot C","Spielbericht C","Aufgebot D","Spielbericht D","Aufgebot E","Spielbericht E","Aufgebot F","Spielbericht F","Aufgebot 1","Spielbericht 1","Aufgebot 2","Spielbericht 2","Aufgebot 3","Spielbericht 3","Aufgebot 4","Spielbericht 4","Aufgebot 5","Spielbericht 5","Aufgebot 6","Spielbericht 6","Aufgebot 7","Spielbericht 7","Aufgebot 8","Spielbericht 8","Aufgebot 9","Spielbericht 9","Aufgebot 10","Spielbericht 10","Aufgebot 11","Spielbericht 11","Aufgebot 12","Spielbericht 12","Aufgebot 13","Spielbericht 13","Aufgebot 14","Spielbericht 14","Aufgebot 15","Spielbericht 15","Aufgebot 16","Spielbericht 16","Aufgebot 17","Spielbericht 17","Aufgebot 18","Spielbericht 18","Aufgebot 19","Spielbericht 19","Aufgebot 20","Spielbericht 20","Aufgebot 21","Spielbericht 21","Aufgebot 22","Spielbericht 22","Aufgebot 23","Spielbericht 23","Aufgebot 24","Spielbericht 24","Aufgebot 25","Spielbericht 25","Aufgebot 26","Spielbericht 26","Aufgebot 27","Spielbericht 27","Aufgebot 28","Spielbericht 28","Aufgebot 29","Anfrage 29","Spielbericht 29","Aufgebot 30","Spielbericht 30","Final 2024","SB_Final 2004"],"not_rendered":{"charts":0,"images":3,"macros":0,"external_links":0,"defined_names":44,"comments":53,"pivot_tables":0},"unopened":[],"bounds":{"document_bytes":16777216,"sheet_cells":100000,"run_cost":"one","rows_first":2000,"rows_last":500,"rows_between":2000,"halvings":0,"cell_chars":16384,"cell_head_chars":4096},"cells_cut":0,"cells_raw":0,"read":"whole","date_system":"1900"}

{"sheet":"Adressen Daten 25","index":0,"n_rows":65,"n_cols":19,"rows_kept":65,"cut":false,"hidden":false,"merged":[[51,6,51,7],[46,6,46,7],[0,0,0,5],[45,6,45,7],[44,6,44,7],[43,6,43,7],[42,6,42,7],[1,6,1,7],[1,0,1,5]]}
[2025,{"$nulls":5},"Veband",null,"Name ","Vorname","Strasse","PLZ","Ort","Tel","Natel","E - Mail","Anm","Bez"]
[{"$f":"Eigaben!Z3","v":"37. Schweizer Cup Männer 2025"}]
[1,"3. L",null,null,null,"TSV","Waldkirch ( 3. Liga F )",null,"Stefan ","Zielger","Birkenstr 6",9205,"Waldkirch",null,"076 824 52 22","ziege81@icloud.com","x",null,1]
[2,"2. L",null,null,null,"MR","Beringen ( 2. Liga )",null,"Stefan","Kunz","Mühleweg 15",8222,"Beringen","052 685 20 53","052 685 01 01","faustball@mrberingen.ch","x",null,2]
[3,"2. L",null,null,null,"STV","Elgg ( 2. Liga )",null,"Oliver","Lang",{"$nulls":4},"079 672 93 60","lang@swissfaustball.ch","x",null,3]
[4,"2. L",null,null,null,"FBV","Ettenhausen ( 2. Liga S )",null,"Simon ","Kunz","Matthofstr 43",8355,"Aadorf",null,"079 438 17 59","simon.kunz@fbv-ettenhausen.ch","x",null,4]
[5,"2. L",null,null,null,"STV","Felben-W.hausen ( 2. Liga )",null,"Patrick","Oderbolz",{"$nulls":4},"079 346 01 18","patrick@oderbolz.ch","x",null,5]
[6,"2. L",null,null,null,"STV","Müllheim ( 2. L )",null,"Raphael","Gubser",{"$nulls":4},"079 519 86 51","raffigubser@bluewin.ch","x",null,6]
[7,"2. L",null,null,null,"STV","Oberentfelden   ( 2. Liga )",null,"Christian","Suter","Aeppenhaldenstr 3b",4800,"Zofingen",null,"079 476 04 32","christian.suter@faustballcenter.ch","x",null,7]
[8,"2. L",null,null,null,"STV","Töss ( 2. Liga )",null,"Benjamin","Boldo","Metzggasse 6",8400,"Winterthur",null,"076 320 86 65","b.boldo@bluewin.ch","x",null,8]
[9,"2. L",null,null,null,"SUS","Widnau   ( 2. Liga F )",null,"Marco","Nüesch",{"$nulls":4},"079 404 47 21","marco.nueesch@faustball-widnau.ch","x",null,9]
[10,"2. L",null,null,null,"TV","Widnau ( 2. Liga F ) ",null,"Jerome","Sepin",{"$nulls":4},"079 929 89 85","jerome.sepin@gmail.com","x",null,10]
[11,null,"1.L",null,null,"STV","Alpnach  ( 1. Liga ) W",null,"Kasper","Tobias","Schneggenhubel 5",6064,"Kerns",null,"079 713 39 48","m.bucher@hs-team.ch","x",null,11]
[12,null,"1. L",null,null,"FB","Burgdorf (1. Liga  W)",null,"Stefan","Tschannen","Rumiweg 9",4900,"Langenthal",null,"079 329 41 52","st.fb_burgdorf@bluewin.ch","x",null,12]
[13,null,"1. L",null,null,"TSV","Jona 2  ( 1. Liga O )  ",null,"Fabian","Zahner",{"$nulls":4},"076 592 09 17","tkchef@fbjona.ch","x",null,13]
[14,null,"1. L",null,null,"STV","Spreitenbach 1 ( 1. Liga W )",null,"Thomas","Isenschmid",{"$nulls":4},"079 481 86 81","thomas@isenschmid.com","x",null,14]
[15,null,"1. L",null,null,"STV","Vordemwald 2  ( 1. Liga W)",null,"Reto","Von Ballmoos","Rotfarbstr 9",4800,"Zofingen",null,"079 721 45 82","reto.vonballmoos@gmail.com","x",null,15]
[16,null,null,"NLB",null,"STV","Dägerlen ( NLB O )",null,"Aron","Werder",{"$nulls":4},"077 423 20 05","materialwart@fbrdaegerlen.ch","x",null,16]
[17,null,null,"NLB",null,"STV","Dozwil ( NLB O )",null,"Josua","Schlattinger",{"$nulls":4},"076 320 30 46","j.schlattinger@gmx.ch","X",null,17]
[18,null,null,"NLB",null,"FG","Elgg-Ettenhausen 2 ( NLB O )",null,"Christian","Götsch","Handestr 15",8357,"Guntershausen"," ","078 711 66 45","christian.goetsch@fbv-ettenhausen.ch","x",null,18]
[19,null,null,"NLB",null,"TSV","Jona 1( NLB O )",null,"Fabian","Zahner",{"$nulls":4},"076 592 09 17","tkchef@fbjona.ch","x",null,19]
[20,null,null,"NLB",null,"STV","Kirchberg  ( NLB W )",null,"Rudolf","Nyffenegger","Solothurnerstr 31",3422,"Kirchberg",null,"079 376 96 25","faustball@tvkirchberg.ch","x",null,20]
[21,null,null,"NLB",null,"TV","Oberwinterthur  (NLB )",null,"Fabio","Schiess","Hofwis 12",8352,"Elsau",null,"079 913 84 85","fabio.schiess@schiessag.ch","x",null,21]
[22,null,null,"NLB",null,"STV","Rickenbach-Wilen 2 ( NLB )",null,"Jonas","Hess",{"$nulls":4},"079 900 69 17","spiko@fgriwi.ch","x",null,22]
[23,null,null,"NLB",null,"STV","Schlieren ( NLB O )",null,"Andreas","Fritschi",{"$nulls":4},"079 602 18 32","maenner@faustballschlieren.ch","x",null,23]
[24,null,null,"NLB",null,"STV","Schlossrued ( NLB W )",null,"Michael","Hochuli","Gartenstr 4a",5043,"Holzikon",null,"079 607 23 24","michi_ho1997@hotmail.com","x",null,24]
[25,null,null,"NLB",null,"FB","Schwellbrunn ( NLB  O)",null,"Kenneth","Schoch","Ahornstr ",9100,"Herisau",null,"079 603 88 30","kennethschoch@bluewin.ch","x",null,25]
[26,null,null,"NLB",null,"STV","Vordemwald 1 ( NLB W )",null,"Reto","von Ballmoos","Rotfarbstr 9",4800,"Zofingen",null,"079 721 45 82","reto.vonballmoos@gmail.com","x",null,26]
[27,null,null,null,"NLA","STV","Affeltrangen  ( NLA )",null,"Andreas","Ribi","Unterdorfstr 2b",8507,"Hörhausen",null,"079 585 70 85","faustball@stv-affeltrangen.ch ","x",null,27]
[28,null,null,null,"NLA","SVD","Diepoldsau-Schmitter (NLA)",null,"Lorena","Lipp","Unterdorfstr 47",9443,"Widnau",null,"076 573 09 99","spiko@faustball-svd.clubdesk.com","x",null,28]
[29,null,null,null,"NLA","FG","Elgg-Ettenhausen 1 ( NLA )",null,"Markus","Fehr","Hintergasse 3a",8353,"Elgg"," ","078 613 39 28","fehr.markus@bluewin.ch","x",null,29]
[30,null,null,null,"NLA","FG","Fricktal ( NLA  )",null,"Patrick","Hochreuter","Scheuerackerweg 16",5223,"Riniken",null,"079 238 91 30","info@fgfricktal.ch","x",null,30]
[31,null,null,null,"NLA","STV","Oberentfelden   ( NLA )",null,"Christian","Suter","Aeppenhaldenstr 3b",4800,"Zofingen",null,"079 476 04 32","christian.suter@faustballcenter.ch","x",null,31]
[32,null,null,null,"NLA","FG","Rickenbach-Wilen ( NLA )",null,"Jonas","Hess",{"$nulls":4},"079 900 69 17","spiko@fgriwi.ch","x",null,32]
[33,null,null,null,"NLA","SUS","Widnau   ( NLA )",null,"Remo","Pinchera",{"$nulls":4},"079 404 47 21","remo.pinchera@faustball-widnau.ch","x",null,33]
[34,null,null,null,"NLA","STV","Wigoltingen   ( NLA )",null,"David","Berger","Eggrainstr 25",8556,"Wigoltingen","052 763 10 81","079 388 63 87","d_berger@bluewin.ch","x",null,34]
[34]
[35]
[36]
[37]
[38]
[41]
[42,{"$nulls":15},{"$f":"COUNTIFS(Q3:Q41,\"X\")","v":34},{"$f":"COUNTIFS(R3:R41,\"X\")","v":0}]
[43,{"$f":"COUNTIFS(B3:B42,\"2. L\")","v":9}]
[44,{"$f":"COUNTIFS(B3:B43,\"3. L\")","v":1},{"$f":"COUNTIFS(C3:C43,\"1. L\")","v":4}]
[45,null,null,{"$f":"COUNTIFS(D22:D43,\"NLB\")","v":7}]
[46,null,null,null,{"$f":"COUNTIFS(E3:E45,\"NLA\")","v":8}]
[47,{"$nulls":5},"Widnau   ( NLA )",null,"Pinchera","Remo","Gemperenstr 2",9442,"Berneck",null,"079 451 73 13","remo.pinchera@bluewin.ch"]
[48,null,"1.L",null,null,"STV","Alpnach  ( 1. Liga ) W",null,"Kasper","Tobias","Schneggenhubel 5",6064,"Kerns",null,"079 713 39 48","m.bucher@hs-team.ch","x"]
[49,{"$f":"B44+C45+D46+E47+B45","v":29},null,null,null,"STV","Alpnach  ( NLB )",null,"Tobias","Kasper","Untere Feldstr 17",6055,"Alpnach Dorf",null,"079 713 39 48","tobias_kasper@hotmail.com"]
[{"$nulls":5},"TV","Niedererlinsbach ( 1. Liga )",null,"Martin","Buser","Fuchsbühl 19",5018,"Erlinsbach",null,"079 798 18 81","martin.w.buser@gmail.com"]
[{"$nulls":5},"TSV","Schneisingen ( 1. Liga )",null,"Simon","Schweri","Mühleweg 57",5420,"Ehrendingen","056 241 19 75","076 347 79 71","schweri.simon@gmail.com Rückzug"]
[{"$nulls":5},"TSV","Waldkirch ( 2. Liga )",null,"Stefan","Ziegler","Birkenstr 6",9205,"Waldkirch",null,"079 139 52 22","szi@gft-fassaden.swiss"]
[{"$nulls":5},"FB","Schwellbunn 2 ( 2. Liga )",null,"Peter ","Rohner","Oberer Toracker 36",9100,"Herisau","071 891 46 78 ","079 757 39 79","peter.rohner@ar.ch"]
[{"$nulls":5},"FB","Elgg ( Senioren )",null,"Rolf","Pfister","Büelstr 6",8356,"Ettenhausen","052 365 40 56","077 401 14 82","familie_pfister@bluewin.ch"]
[{"$nulls":5},"Satus ","Schaffhausen   ( 1. Liga O )",null,"Lorenz","Moser","Birkenstr 11",8200,"Schaffhausen",null,"076 442 82 96","lorenz.moser@hotmail.com"]
[{"$nulls":5},"MTV","Herznach ( 2. Liga )",null,"Ruedi","Heiniger","Schulstr 408",5058,"Effingn ",null,"079 669 67 76","rh@wwag.ch"]
[{"$nulls":5},"STV","Walzenhausen ( NLB )",null,"Beda","Kellenberger","Hauptstr6",9434,"Au",null,"079 578 93 83","beda.95@hotmail.com"]
[{"$nulls":5},"FBR","Dozwil ( NLB O )",null,"Elias","Schläpfer","Mittelland 4",8582,"Dozwil",null,"071 517 88 37","elias.schlaepfergmail.com"]
[{"$nulls":5},"FB","Neuendorf 1  ( NLA )",null,"Dani","Nützi","Wolfwilerstr 40",4623,"Neuendorf",null,"079 335 51 51","tk@fbneuendorf.ch"]
[{"$nulls":5},"TSV","Deitingen ( 1. Liga W )",null,"Marco","Giger","Ahornweg 20",4543,"Deitingen",null,null,"giger.marco@sunrise.ch"]
[]
[{"$nulls":5},"FB","Wollerau ( NLB W)",null,"Daniel","Beeler","Feldmoos 11",8832,"Wollerau",null,"078 637 94 24","beeler-daniel@outlook.com"]
[{"$nulls":5},"STV","Wigoltingen 2 ( 1. Liga O )",null,"Pascal","Wyss","Riedwiesen 6",8603,"Schwarzenbach",null,"078 748 68 40","pascal-wyss@gmx.net"]
[{"$nulls":5},"STV","Müllheim 1 ( 2. Liga )",null,"Raphael","Gubser"]

{"sheet":"Schiri_25","index":1,"n_rows":127,"n_cols":13,"rows_kept":127,"cut":false,"hidden":false,"merged":[[80,12,115,12],[1,12,15,12],[16,12,45,12],[46,12,79,12]]}
["Ref_Nr","Vorname","Jg","Name","Name","PLZ","Ort","Tel  P","Tel  Natel","Tel.G","Verein","E-Mail"]
[1,"Back","Lukas",{"$f":"B2","v":"Back"},{"$f":"C2","v":"Lukas"},4057,"Basel",null,"+41 79 662 92 42",null,"TV Kleinhüningen","lukas.back@bluemail.ch","I - Schiri"]
[2,"Beeler","Roger",{"$f":"B3","v":"Beeler"},{"$f":"C3","v":"Roger"},8832,"Wollerau","0792396257","+41 79 239 62 57",null,"Faustball Wollerau/ Faustball Jona","roger_beeler@gmx.ch"]
[3,"Bühler","Rolf","Bühler","Rolf",8903,"Birmensdorf","+41 44 777 70 33","+41 79 661 00 39","+41 76 571 65 77","STV Schlieren","buehlerbirmi@bluewin.ch"]
[4,"Cavasin","Bruno","Cavasin","Bruno",5615,"Fahrwangen",null,"+41 79 505 14 73","+41 51 281 26 02","STV Wohlen","bruno.cavasin@sbb.ch"]
[5,"Chollet","Cornelia","Chollet","Cornelia",8471,"Rutschwil","+41 52 233 93 58","+41 78 859 60 54",null,"FG Riwi","cocho76@hispeed.ch"]
[6,"Flück","Marc","Flück","Marc",4612,"Wangen bei Olten",null,"+41 79 230 17 08",null,"FB Neuendorf","marc.flueck@gmail.com"]
[7,"Graf","Daniel","Graf","Daniel",8472,"Seuzach",null,"+41 79 431 31 31",null,"STV Seuzach","darf@bluewin.ch"]
[8,"Hochuli","Jürg","Hochuli","Jürg",5046,"Schmiedrued","+41 62 726 30 06","+41 79 713 67 44",null,"STV Schlossrued","rfrf@sunrise.ch"]
[9,"Mähr","Reto","Mähr","Reto",9242,"Oberuzwil",null,"+41 79 452 77 62",null,"Faustball Widnau","rmaehr@bluewin.ch"]
[10,"Meier","Marcel","Meier","Marcel",8605,"Gutenswil","+41 44 945 59 14","+41 79 424 36 23","+41 58 911 14 48","STV Rüti","m.meier@fistball.sport"]
[11,"Meyerhans","Richard","Meyerhans","Richard",9424,"Rheineck",null,"+41 79 748 52 87","+41 71 888 14 80","STV Walzenhausen","richi4fistball@bluewin.ch"]
[12,"Müller","Daniel","Müller","Daniel",4552,"Derendingen",null,"+41 76 581 75 15","+41 32 627 96 18","TSV Faustball Deitingen","mueller@swissfaustball.ch"]
[13,"Sieber","Patrick","Sieber","Patrick",9444,"Diepoldsau","+41 79 473 61 88","+41 79 473 61 88",null,"Faustball SVD Diepoldsau-Schmitter","sieber.patrick@rsnweb.ch"]
[14,"Sitz","Jessica","Sitz","Jessica",4552,"Derendingen",null,"+41 76 683 12 83",null,"TSV Faustball Deitingen","joker-jess@web.de"]
[15,"Sprenger","Fredy","Sprenger","Fredy",9532,"Rickenbach","+41 71 923 26 08","+41 79 791 22 59","+41 71 973 75 48","FG Rickenbach-Wilen","f.sprenger@thurweb.ch"]
[16,"Baumann","Marius","Baumann","Marius",8820,"Wädenswil",null,"+49 151 2400 4139",null,"TSV Jona","baumann-marius@gmx.de","A - Schiri"]
[17,"Berger","Lukas",{"$f":"B18","v":"Berger"},{"$f":"C18","v":"Lukas"},9103,"Schwellbrunn",null,"+41 79 625 39 38",null,"FB Schwellbrunn","lukasberger@bluemail.ch"]
[18,"Bolliger","Walter","Bolliger","Walter",5723,"Teufenthal",null,"+41 79 668 84 73",null,"STV Schöftland","wbolliger@ziknet.ch"]
[19,"Bosshart","Marco","Bosshart","Marco",9545,"Wängi",null,"+41 79 649 41 47",null,"FG Rickenbach-Wilen","marco-bosshart@gmx.ch"]
[20,"Brammann","Ralf","Brammann","Ralf",79576,"Weil am Rhein","004976219359654","+41 79 410 76 87",null,"TV Weil","ralfbramm@web.de"]
[21,"Egli","Roman","Egli","Roman",4623,"Neuendorf",null,"+41 79 715 73 52",null,"FB Neuendorf","roman.egli@fbneuendorf.ch"]
[22,"Eicher","Marcel","Eicher","Marcel",9535,"Wilen",null,"+41 79 259 57 21",null,"FG Rickenbach-Wilen","marcel.eicher@thurweb.ch"]
[23,"Götsch","Jörg","Götsch","Jörg",8575,"Bürglen TG","+41 71 633 16 43","+41 78 894 35 44",null,"Waldkirch","j.goetsch@gmx.ch"]
[24,"Haefeli","Robin","Haefeli","Robin",4600,"Olten",null,"+41 79 767 86 83",null,"STV Oberentfelden","Robin.haefeli@hotmail.com"]
[25,"Häner","Rolf","Häner","Rolf",5620,"Bremgarten",null,"+41 76 465 99 66",null,"SUS Dietikon","haener.rolf@bluewin.ch"]
[26,"Kehl","Daniel","Kehl","Daniel",9443,"Widnau","+41 71 722 04 24","+41 76 441 78 30",null,"Faustball Widnau","fam.kehl@gmail.com"]
[27,"Kunz","Marcel","Kunz","Marcel",5708,"Birrwil AG",null,"+41 79 688 38 82",null,"FG Meisterschwanden-Schafisheim","mar.kunz@hispeed.ch"]
[28,"Kunz","Roger","Kunz","Roger",3421,"Lyssach",null,"+41 79 481 99 49",null,"FB Burgdorf","kunz_10@yahoo.de"]
[29,"Kunz","Stefan","Kunz","Stefan",8222,"Beringen","+41 52 685 20 53","+41 79 449 88 88","+41 52 685 01 01","MR Beringen","steff.kunz@bluewin.ch"]
[30,"Lenz","Thomas","Lenz","Thomas","A-6858","Schwarzach",null,"+43 699 1582 4455",null,"SVD Diepoldsau","thomas.lenz@konback.com"]
[31,"Lüdi","Daniel","Lüdi","Daniel",4914,"Roggwil",null,"+41 79 750 21 11","+41 62 916 92 74","FB Roggwil","dluedi@besonet.ch"]
[32,"Meier","Michael","Meier","Michael",9436,"Balgach","+41 77 720 00 46","+41 79 792 30 26",null,"TV Rebstein","Meier_x@hotmail.com"]
[33,"Meier","Stephan","Meier","Stephan",8154,"Oberglatt","+41 44 850 74 32","+41 79 217 99 05",null,"STV Embrach","brummbaer76@bluewin.ch"]
[34,"Meili","René","Meili","René",8406,"Winterthur",null,"+41 76 488 80 08",null,"STV Töss","rene-meili@bluewin.ch"]
[35,"Notaro","Luigi","Notaro","Luigi",3432,"Lützelflüh-Goldbach","+41 34 461 04 32","+41 78 626 32 08",null,"FB Burgdorf + TV Kirchberg","luigi.notaro@sunrise.ch"]
[36,"Schaufelberger","Sascha","Schaufelberger","Sascha",5276,"Wil",null,"+41 76 588 37 66",null,"SATUS Basel NS","sapesch@googlemail.com"]
[37,"Schönenberger","Marco","Schönenberger","Marco",8424,"Embrach","+41 44 554 95 37","+41 76 373 90 80","+41 44 405 40 80","STV Embrach","marco.schoenenberger@sunrise.ch"]
[38,"Soller","Simon","Soller","Simon",9547,"Wittenwil",null,"+41 76 332 95 51",null,"STV Wigoltingen","simonsoller@hotmail.com"]
[39,"Steudler","Jürg","Steudler","Jürg",3421,"Lyssach",null,"+41 79 625 12 64",null,"TV Kirchberg","steudler23@gmail.com"]
[40,"Steuer","Christian","Steuer","Christian",8424,"Embrach",null,"+41 76 566 88 43",null,"STV Schlieren","ch.steuer81@gmail.com"]
[41,"Stoffel","Marcel","Stoffel","Marcel",9443,"Widnau",null,"+41 79 262 52 80",null,"Faustball Widnau","stom@sfs.com"]
[42,"Stürchler","Alexander","Stürchler","Alexander",5083,"Ittenthal",null,"+41 79 448 12 31",null,"MTV Gipf-Oberfrick","scroche@gmx.ch"]
[43,"Tenini","Rico","Tenini","Rico",9565,"Bussnang",null,"+41 78 686 52 32",null,"STV Affeltrangen","briri.tenini@bluewin.ch"]
[44,"Wagner","Stephan","Wagner","Stephan",4626,"Niederbuchsiten","+41 62 393 19 07","+41 79 651 82 59",null,"STV Olten","t.s.wagner@bluewin.ch"]
[45,"Zahner","Fabian","Zahner","Fabian",8645,"Jona",null,"+41 76 592 09 17",null,"TSV Jona","fabian_zahner@bluemail.ch"]
[46,"Angstmann","Christian","Angstmann","Christian",5619,"Büttikon","+41 56 633 72 45","+41 79 476 65 91","+41 56 633 21 33","TV Olten","angstme@bluewin.ch","B - Schiri"]
[47,"Back","René","Back","René",4057,"Basel","+41 61 631 39 58","+41 79 649 26 01",null,"TV Kleinhüningen","rene.back@bluewin.ch"]
[48,"Bär","Liliane","Bär","Liliane",8400,"Winterthur",null,"+41 79 677 00 31",null,"FB Elgg","lili.baer@gmx.ch"]
[49,"Binggeli","Roland","Binggeli","Roland",4455,"Zunzgen",null,"+41 79 450 26 17",null,"STV Tecknau","binggeli.roland@bluewin.ch"]
[50,"Burkhalter","Claudine","Burkhalter","Claudine",8103,"Unterengstringen",null,"+41 79 599 87 74",null,"STV Schlieren","c.burkhalter@cesis.ch"]
[51,"Burkhalter","Patrick","Burkhalter","Patrick",8104,"Weiningen",null,"+41 78 824 40 11",null,"Satus Schlieren","burkipa@hotmail.com"]
[52,"Fehr","Joël","Fehr","Joël",8406,"Winterthur",null,"+41 78 811 54 67",null,"FG Elgg-Ettenhausen &#40;FB Elgg&#41;","joel.fehr@bluewin.ch"]
[53,"Fehr","Nicolas","Fehr","Nicolas",8406,"Winterthur",null,"+41 78 811 54 66",null,"FG Elgg-Ettenhausen &#40;FB Elgg&#41;","nicolas.fehr@bluewin.ch"]
[54,"Fluri","Christian","Fluri","Christian",6016,"Hellbühl",null,"+41 78 831 47 28",null,"STV Kriens","fluri.chregu@hotmail.com"]
[55,"Frehner","Megan","Frehner","Megan",8400,"Winterthur",null,"+41 76 681 01 45",null,"FB Elgg","meganfrehner@gmx.ch"]
[56,"Frei","Simon","Frei","Simon",9008,"St. Gallen",null,"+41 78 716 57 33",null,"FBV Ettenhausen","frei.simon@bluewin.ch"]
[57,"Friedlos","Manfred","Friedlos","Manfred",8854,"Galgenen","+41 55 440 83 80","+41 79 468 57 67","+41 44 927 12 16","Faustball Wollerau","manfred.friedlos@af21.ch"]
[58,"Frischknecht","Fabienne","Frischknecht","Fabienne",9000,"St. Gallen",null,"+41 76 446 42 51",null,"Satus Kreuzlingen","fafrischknecht@icloud.com"]
[59,"Grüninger","Philipp","Grüninger","Philipp",8888,"Heiligkreuz",null,"+41 79 961 48 39",null,"FBT Flums","phgrueninger@hotmail.com"]
[60,"Haller","Raphael","Haller","Raphael",6023,"Rothenburg",null,"+41 79 350 32 08",null,"STV Weggis","kerstin.cina@bluewin.ch"]
[61,"Krautter","Heinz","Krautter","Heinz",5027,"Herznach",null,"+41 79 203 54 53",null,"FBS Schlieren","heinz@krautter.ch"]
[62,"Kupper","Pascal","Kupper","Pascal",8353,"Elgg","+41 52 364 23 87","+41 78 900 00 76",null,"FG Elgg-Ettenhausen &#40;FB Elgg&#41;","pascal@kupper-obst.ch"]
[63,"Leu","Peter","Leu","Peter",6014,"Luzern",null,"+41 79 445 11 16",null,"STV Kriens / Faustball Alpnach","peterleu61@bluewin.ch"]
[64,"Lieberherr","Claudio","Lieberherr","Claudio",8308,"Illnau",null,"+41 76 390 86 90",null,"MTV Illnau","c.lieberherr@hotmail.com"]
[65,"Lotz","Horst","Lotz","Horst",8309,"Nürensdorf",null,"+41 78 651 68 80","+41 44 836 51 69","MR Illnau","horst.lotz@gmail.com"]
[66,"Meier","Peter","Meier","Peter",8552,"Felben-Wellhausen","+41 52 765 26 64","+41 79 798 39 15","+41 52 369 50 00","STV Felben-Wellhausen","felben.meier@outlook.com"]
[67,"Meierhofer","Robert","Meierhofer","Robert",8645,"Jona",null,"+41 79 936 39 42",null,"TSV Jona","robert_meierhofer@hotmail.com"]
[68,"Müller","Nadia","Müller","Nadia",5013,"Niedergösgen","+41 62 849 15 59","+41 78 914 58 08",null,"STV Däniken","nadiamul98@hotmail.com"]
[69,"Omlin","Mischa","Omlin","Mischa",6353,"Weggis",null,"+41 00 000 00 00",null,"STV Weggis","mischa.omlin936@hotmail.com"]
[70,"Pacifico","Fabio","Pacifico","Fabio",6340,"Sihlbrugg","+41 41 760 34 70","+41 00 000 00 00",null,"STV TSV 2001 Rotkreuz","f.pacifico@bluewin.ch"]
[71,"Raschle","Thomas","Raschle","Thomas",9215,"Buhwil","+41 71 642 22 64","+41 79 586 66 24","+41 71 644 92 53","STV Ermatingen","thomas.raschle@bluewin.ch"]
[72,"Rölli","Bruno","Rölli","Bruno",4600,"Olten","+41 62 212 20 45","+41 79 334 06 92",null,"STV Olten","info@gravomobil.ch"]
[73,"Shabanaj","Valon","Shabanaj","Valon",6260,"Reiden",null,"+41 79 460 34 25",null,"TV Olten","valon.shabanaj@outlook.com"]
[74,"Stanger","Marc","Stanger","Marc",6252,"Dagmarsellen",null,"+41 79 834 23 33",null,"MR Reiden","carhartt_marc93@hotmail.com"]
[75,"Strassmann","Rico","Strassmann","Rico",8400,"Winterthur",null,"+41 78 658 09 99",null,"FG Elgg-Ettenhausen &#40;FB Elgg&#41;","rico.strassmann@bluewin.ch"]
[76,"Werder","Manuel","Werder","Manuel",8471,"Rutschwil",null,"+41 79 823 98 71",null,"FBR Dägerlen","schmaerae@bluewin.ch"]
[77,"Wirth","Lukas","Wirth","Lukas",9452,"Hinterforst",null,"+41 78 771 36 28",null,"TV Rebstein","wirthlukas@hotmail.com"]
[78,"Wyss","Pascal","Wyss","Pascal",8603,"Schwerzenbach",null,"+41 78 748 68 40",null,"STV Wigoltingen","pascal-wyss@gmx.net"]
[79,"Ziereisen","Daniel","Ziereisen","Daniel",8523,"Hagenbuch","+41 52 364 23 90","+41 79 672 26 12","+41 52 320 04 45","SATUS Ohringen","daniel.ziereisen@hcs-controls.ch"]
[80,"Bächler","Florian","Bächler","Florian",8592,"Uttwil",null,"+41 78 941 84 35",null,"STV Dozwil","bauer_flo@hotmail.de","Z Schiri"]
[81,"Barth","Mathis",{"$f":"B82","v":"Barth"},{"$f":"C82","v":"Mathis"},8353,"Elgg",null,"+41 79 610 23 40",null,"FB Elgg","mathis.barth@bluewin.ch"]
[82,"Barth","Timo","Barth","Timo",8400,"Winterthur",null,"+41 79 811 97 32",null,"FB Elgg","timo.barth@bluewin.ch"]
[83,"Baumberger","Evi","Baumberger","Evi",3425,"Koppigen","0767222111","076 722 21 11",null,"TV Kirchberg","baumberger.e@gawnet.ch"]
[84,"Baumgartner","Daniel","Baumgartner","Daniel",8505,"Pfyn",null,"079 746 30 05",null,"FG RiWi","daniel.baumgartner91@gmail.com"]
[85,"Baumgartner","Tobias","Baumgartner","Tobias",8356,"Ettenhausen","0767229281","+41 76 722 92 81",null,"FG Elgg-Ettenhausen","tobias25baumgartner@gmail.com"]
[86,"Berger","David","Berger","David",8556,"Wigoltingen",null,"+41 79 388 63 87",null,"Wigoltingen","d_berger@bluewin.ch"]
[87,"Blaser","Sandro","Blaser","Sandro",3552,"Bärau",null,"+41 79 560 19 01",null,"MR Bärau","19saendu91@gmail.com"]
[88,"Borath","Tanja","Borath","Tanja",8280,"Kreuzlingen",null,"079 333 09 69",null,"Satus Kreuzlingen","tanja.borath@bluewin.ch"]
[89,"Broccon","Fabrice","Broccon","Fabrice",8353,"Elgg",null,"079 131 31 86",null,"FB Elgg-Ettenhausen","Fabrice.broccon@icloud.com"]
[90,"Clalüna","Andri","Clalüna","Andri",4803,"Vordemwald",null,"+41 79 906 64 46",null,"STV Vordemwald","a.claluena@hotmail.ch"]
[91,"Flückiger","Luca","Flückiger","Luca",4803,"Vordemwald",null,"+41 79 441 95 68",null,"STV Vordemwald","lucaflueckiger@bluewin.ch"]
[92,"Hänni","Michael","Hänni","Michael",4623,"Neuendorf",null,"+41 77 520 11 21",null,"FB Neuendorf","haennim@bluewin.ch"]
[93,"Heitz","Leon","Heitz","Leon",8353,"Elgg",null,"+41 77 426 49 99",null,"FB Elgg","leon.heitz@gmail.com"]
[94,"Hirsiger","Kevin","Hirsiger","Kevin",4803,"Vordemwald",null,"+41 79 867 67 06",null,"STV Vordemwald","kevinhir03@gmail.com"]
[95,"Hochuli","Luca","Hochuli","Luca",5046,"Schmiedrued","062 726 30 06","076 247 29 07",null,"STV Schlossrued","lucahochuli261@gmail.com"]
[96,"Isliker","Nils","Isliker","Nils",8353,"Elgg",null,"+41 79 739 55 35",null,"FB Elgg","nils.isliker@gmail.com"]
[97,"Kammer","Sebastian","Kammer","Sebastian",8645,"Jona",null,"079 254 36 41",null,"TSV Jona","sebastian_kammer@gmx.de"]
[98,"Kupper","Alina","Kupper","Alina",8353,"Elgg",null,"+41 79 357 00 78",null,"FB Elgg","alinakupper3@gmail.com"]
[99,"Lang","Adela","Lang","Adela",8353,"Elgg",null,"+41 76 342 99 50",null,"FB Elgg","adelalang04@gmail.com"]
[100,"Lenz","Jonas","Lenz","Jonas",6858,"Schwarzach",null,"+43 660 220 8809",null,"SVD Diepoldsau-Schmitter","jonas.lenz@gmx.at"]
[101,"Martin","Lino","Martin","Lino",8404,"Winterthur","0786999509","078 699 95 09",null,"TV Oberwinterthur","lino.martin2006@gmail.com"]
[102,"Meier","Michael","Meier","Michael",8404,"Winterthur",null,"079 888 11 85",null,"TV Oberwinterthur","michael.j.meier@gmx.ch"]
[103,"Meissner","Malte","Meissner","Malte",8356,"Ettenhausen",null,"+41 76 762 92 94",null,"FG Elgg-Ettenhausen","maltefinnmeissner@gmail.com"]
[104,"Menz","Moritz","Menz","Moritz",8406,"Winterthur",null,"+41 76 607 81 59",null,"FB Elgg","menzmoritz1@gmail.com"]
[105,"Morgentahler","Brian","Morgentahler","Brian",5053,"Staffelbach",null,"079 383 46 75",null,"STV Staffelbach","brian@morg.ch"]
[106,"Schär","Loris","Schär","Loris",8406,"Winterthur",null,"+41 79 718 95 42",null,"FB Elgg","loris.schaer@bluewin.ch"]
[107,"Schiegg","Christoff","Schiegg","Christoff",8234,"Stetten SH",null,"+41 78 870 66 19",null,"MR Herblingen","rx4@renaultclub.ch"]
[108,"Schlattinger","Mirjam","Schlattinger","Mirjam",9320,"Arbon","+41 71 411 95 89","+41 79 126 13 34",null,"STV Dozwil","mi.schlattinger@gmx.ch"]
[109,"Schmid","Michel","Schmid","Michel",4123,"Allschwil","+41 61 711 56 75","+41 79 735 14 36",null,"BTV Basel","schmid.michel@sunrise.ch"]
[110,"Sprenger","Livio","Sprenger","Livio",9532,"Rickenbach",null,"079 344 42 37",null,"FG RIWI","livio.sprenger@thurweb.ch"]
[111,"Steinauer","Peter","Steinauer","Peter",8004,"Zürich","+41 44 242 88 65","+41 76 771 36 17","+41 44 242 88 65","SUS  Peter & Paul  Züri","dompedro.pp@gmail.com"]
[112,"Stierli","Mark","Stierli","Mark",5015,"Erlinsbach SO",null,"+41 79 820 92 35",null,"STV Niedererlinsbach","mark.stierli@gmx.net"]
[113,"Tortelli","Angelo","Tortelli","Angelo",8353,"Elgg",null,"+41 79 944 77 48",null,"FB Elgg","tortelli.angelo@gmail.com"]
[114,"Walker","Lorenz","Walker","Lorenz",8353,"Elgg",null,"+41 78 403 65 85",null,"FB Elgg","lorenz.walker@hispeed.ch"]
[115,"Hagen","Cassandra","Hagen","Cassandra",9240,"Uzwil",null,"076 529 27 03",null,"FG Elgg-Ettenhausen","cassandra.hagen@hotmail.com"]
[116,"Götsch","Christian","Götsch","Christian",8357,"Guntershausen",null,"+41 78 711 66 45",null,"FBV Ettenhausen","ch.christian.goetsch@gmail.com"]
[117,"Hofmann","Patrick","Hofmann","Patrick",8304,"Wallisellen",null,"+41 76 456 37 35",null,"STV Wallisellen","paho@gmx.ch"]
[118,"Krause","Ole","Krause","Ole",9535,"Wilen",null,"076 307 88 86",null,"FG RIWI","ole@thurweb.ch"]
[119,"Kündig","Anja","Kündig","Anja",8356,"Ettenhausen",null,"+41 77 446 80 35",null,"FG Elgg-Ettenhausen","anjakuendig02@gmail.com"]
[120,"Meissner","Janne","Meissner","Janne",8356,"Ettenhausen",null,"+41 76 686 77 76",null,"FG Elgg-Ettenhausen","janne.meissner@gmx.ch"]
[121,"Schär","Fabienne","Schär","Fabienne",8408,"Winterthur",null,"078 766 66 48",null,"FB Elgg-Ettenhausen","fabienneschaer@bluewin.ch"]
[122,"Spiranelli","Karin","Spiranelli","Karin",8355,"Aadorf",null,"076 521 90 80",null,"FG Elgg-Ettenhausen","karin.spiranelli@bluewin.ch"]
[123,"Tenini","Marco","Tenini","Marco",9556,"Zezikon","+41 78 825 63 91","+41 79 236 95 92",null,"STV Affeltrangen","marco.tenini@silvanojud.ch"]
[124,"Tobler","Roman","Tobler","Roman",8645,"Jona",null,"+41 79 729 54 20",null,"TSV Jona","ro.tobler@hotmail.com"]
[125,"Zeltner","Dominik","Zeltner","Dominik",4626,"Niederbuchsiten",null,"+41 79 929 27 20",null,"FB Neuendorf","dominik.zeltner@ggs.ch"]
[126,"Hagen","Cassandra","Hagen","Cassandra",9240,"Uzwil",null,"076 529 27 03",null,"FG Elgg-Ettenhausen","cassandra.hagen@hotmail.com"]

{"sheet":"Sieger Vorrunde","index":2,"n_rows":111,"n_cols":10,"rows_kept":111,"cut":false,"hidden":true,"merged":[[38,2,41,3]]}
[null,"Sieger Vorrunde","Sp No"]
[1,{"$f":"IF('CH Cup Tableau 2025'!$F8>'CH Cup Tableau 2025'!$F10,'CH Cup Tableau 2025'!$C8,'CH Cup Tableau 2025'!$C10)","v":"SUS Widnau   ( 2. Liga F )"},"A",1]
[2,{"$f":"IF('CH Cup Tableau 2025'!$F14>'CH Cup Tableau 2025'!$F16,'CH Cup Tableau 2025'!$C14,'CH Cup Tableau 2025'!$C16)","v":"STV Elgg ( 2. Liga )"},"B",2]
[3,{"$f":"IF('CH Cup Tableau 2025'!$F20>'CH Cup Tableau 2025'!$F22,'CH Cup Tableau 2025'!$C20,'CH Cup Tableau 2025'!$C22)","v":" "},"C",3]
[4,{"$f":"IF('CH Cup Tableau 2025'!$F26>'CH Cup Tableau 2025'!$F28,'CH Cup Tableau 2025'!$C26,'CH Cup Tableau 2025'!$C28)","v":" "},"D",4]
[5,{"$f":"IF('CH Cup Tableau 2025'!$F32>'CH Cup Tableau 2025'!$F34,'CH Cup Tableau 2025'!$C32,'CH Cup Tableau 2025'!$C34)","v":" "},"E",5]
[6,{"$f":"IF('CH Cup Tableau 2025'!$F38>'CH Cup Tableau 2025'!$F40,'CH Cup Tableau 2025'!$C38,'CH Cup Tableau 2025'!$C40)","v":" "},"F",6]
[7,{"$f":"IF('CH Cup Tableau 2025'!$F45>'CH Cup Tableau 2025'!$F47,'CH Cup Tableau 2025'!$C45,'CH Cup Tableau 2025'!$C47)","v":""},"G",7]
[8,{"$f":"IF('CH Cup Tableau 2025'!$F51>'CH Cup Tableau 2025'!$F53,'CH Cup Tableau 2025'!$C51,'CH Cup Tableau 2025'!$C53)","v":""},"H",8]
[9,{"$f":"IF('CH Cup Tableau 2025'!$F57>'CH Cup Tableau 2025'!$F59,'CH Cup Tableau 2025'!$C57,'CH Cup Tableau 2025'!$C59)","v":""},"I",9]
[10,{"$f":"IF('CH Cup Tableau 2025'!$F63>'CH Cup Tableau 2025'!$F65,'CH Cup Tableau 2025'!$C63,'CH Cup Tableau 2025'!$C65)","v":""},"J",10]
[11,null,"K",11]
[12,null,"L",12]
[13,null,"M",13]
[14,null,"N",14]
[15,null,"O",15]
[16,null,"P",16]
[]
[17,"Sieger Spiel A"]
[18,"Sieger Spiel B"]
[19,"Sieger Spiel C"]
[20,"Sieger Spiel D"]
[21,"Sieger Spiel E"]
[22,"Sieger Spiel F"]
[23,"Sieger Spiel G"]
[24,"Sieger Spiel H"]
[25,"Sieger Spiel I"]
[26,"Sieger Spiel J"]
[27,"Sieger Spiel K"]
[28,"Sieger Spiel L"]
[29,"Sieger Spiel M"]
[30,"Sieger Spiel N"]
[31,"Sieger Spiel O"]
[32,"Sieger Spiel P"]
[]
[]
[]
[]
[35,{"$f":"'Adressen Daten 25'!F34&\" \"&'Adressen Daten 25'!G34","v":"FG Rickenbach-Wilen ( NLA )"},"Rang 1 bis 4\nder Meisterschaft\nFeld Vorjahr\nwerden Gesezt"]
[36,{"$f":"'Adressen Daten 25'!#REF!&\" \"&'Adressen Daten 25'!#REF!","v":{"$error":"#REF!"}}]
[37,{"$f":"'Adressen Daten 25'!F38&\" \"&'Adressen Daten 25'!G38","v":" "}]
[38,{"$f":"'Adressen Daten 25'!F40&\" \"&'Adressen Daten 25'!G40","v":" "}]
[]
[39,{"$f":"'Adressen Daten 25'!F3&\" \"&'Adressen Daten 25'!G3","v":"TSV Waldkirch ( 3. Liga F )"},{"$f":"'Adressen Daten 25'!I3","v":"Stefan "},{"$f":"'Adressen Daten 25'!J3","v":"Zielger"},{"$f":"'Adressen Daten 25'!K3","v":"Birkenstr 6"},{"$f":"'Adressen Daten 25'!L3&\" \"&'Adressen Daten 25'!M3","v":"9205 Waldkirch"},{"$f":"'Adressen Daten 25'!N3","v":0},{"$f":"'Adressen Daten 25'!O3","v":"076 824 52 22"},{"$f":"'Adressen Daten 25'!P3","v":"ziege81@icloud.com"},1]
[40,{"$f":"'Adressen Daten 25'!F4&\" \"&'Adressen Daten 25'!G4","v":"MR Beringen ( 2. Liga )"},{"$f":"'Adressen Daten 25'!I4","v":"Stefan"},{"$f":"'Adressen Daten 25'!J4","v":"Kunz"},{"$f":"'Adressen Daten 25'!K4","v":"Mühleweg 15"},{"$f":"'Adressen Daten 25'!L4&\" \"&'Adressen Daten 25'!M4","v":"8222 Beringen"},{"$f":"'Adressen Daten 25'!N4","v":"052 685 20 53"},{"$f":"'Adressen Daten 25'!O4","v":"052 685 01 01"},{"$f":"'Adressen Daten 25'!P4","v":"faustball@mrberingen.ch"},2]
[41,{"$f":"'Adressen Daten 25'!F5&\" \"&'Adressen Daten 25'!G5","v":"STV Elgg ( 2. Liga )"},{"$f":"'Adressen Daten 25'!I5","v":"Oliver"},{"$f":"'Adressen Daten 25'!J5","v":"Lang"},{"$f":"'Adressen Daten 25'!K5","v":0},{"$f":"'Adressen Daten 25'!L5&\" \"&'Adressen Daten 25'!M5","v":" "},{"$f":"'Adressen Daten 25'!N5","v":0},{"$f":"'Adressen Daten 25'!O5","v":"079 672 93 60"},{"$f":"'Adressen Daten 25'!P5","v":"lang@swissfaustball.ch"},3]
[42,{"$f":"'Adressen Daten 25'!F6&\" \"&'Adressen Daten 25'!G6","v":"FBV Ettenhausen ( 2. Liga S )"},{"$f":"'Adressen Daten 25'!I6","v":"Simon "},{"$f":"'Adressen Daten 25'!J6","v":"Kunz"},{"$f":"'Adressen Daten 25'!K6","v":"Matthofstr 43"},{"$f":"'Adressen Daten 25'!L6&\" \"&'Adressen Daten 25'!M6","v":"8355 Aadorf"},{"$f":"'Adressen Daten 25'!N6","v":0},{"$f":"'Adressen Daten 25'!O6","v":"079 438 17 59"},{"$f":"'Adressen Daten 25'!P6","v":"simon.kunz@fbv-ettenhausen.ch"},4]
[43,{"$f":"'Adressen Daten 25'!#REF!&\" \"&'Adressen Daten 25'!#REF!","v":{"$error":"#REF!"}},{"$f":"'Adressen Daten 25'!#REF!","v":{"$error":"#REF!"}},{"$f":"'Adressen Daten 25'!#REF!","v":{"$error":"#REF!"}},{"$f":"'Adressen Daten 25'!#REF!","v":{"$error":"#REF!"}},{"$f":"'Adressen Daten 25'!#REF!&\" \"&'Adressen Daten 25'!#REF!","v":{"$error":"#REF!"}},{"$f":"'Adressen Daten 25'!#REF!","v":{"$error":"#REF!"}},{"$f":"'Adressen Daten 25'!#REF!","v":{"$error":"#REF!"}},{"$f":"'Adressen Daten 25'!#REF!","v":{"$error":"#REF!"}},5]
[44,{"$f":"'Adressen Daten 25'!F7&\" \"&'Adressen Daten 25'!G7","v":"STV Felben-W.hausen ( 2. Liga )"},{"$f":"'Adressen Daten 25'!I7","v":"Patrick"},{"$f":"'Adressen Daten 25'!J7","v":"Oderbolz"},{"$f":"'Adressen Daten 25'!K7","v":0},{"$f":"'Adressen Daten 25'!L7&\" \"&'Adressen Daten 25'!M7","v":" "},{"$f":"'Adressen Daten 25'!N7","v":0},{"$f":"'Adressen Daten 25'!O7","v":"079 346 01 18"},{"$f":"'Adressen Daten 25'!P7","v":"patrick@oderbolz.ch"},6]
[45,{"$f":"'Adressen Daten 25'!F8&\" \"&'Adressen Daten 25'!G8","v":"STV Müllheim ( 2. L )"},{"$f":"'Adressen Daten 25'!I8","v":"Raphael"},{"$f":"'Adressen Daten 25'!J8","v":"Gubser"},{"$f":"'Adressen Daten 25'!K8","v":0},{"$f":"'Adressen Daten 25'!L8&\" \"&'Adressen Daten 25'!M8","v":" "},{"$f":"'Adressen Daten 25'!N8","v":0},{"$f":"'Adressen Daten 25'!O8","v":"079 519 86 51"},{"$f":"'Adressen Daten 25'!P8","v":"raffigubser@bluewin.ch"},7]
[46,{"$f":"'Adressen Daten 25'!F9&\" \"&'Adressen Daten 25'!G9","v":"STV Oberentfelden   ( 2. Liga )"},{"$f":"'Adressen Daten 25'!I9","v":"Christian"},{"$f":"'Adressen Daten 25'!J9","v":"Suter"},{"$f":"'Adressen Daten 25'!K9","v":"Aeppenhaldenstr 3b"},{"$f":"'Adressen Daten 25'!L9&\" \"&'Adressen Daten 25'!M9","v":"4800 Zofingen"},{"$f":"'Adressen Daten 25'!N9","v":0},{"$f":"'Adressen Daten 25'!O9","v":"079 476 04 32"},{"$f":"'Adressen Daten 25'!P9","v":"christian.suter@faustballcenter.ch"},8]
[47,{"$f":"'Adressen Daten 25'!F10&\" \"&'Adressen Daten 25'!G10","v":"STV Töss ( 2. Liga )"},{"$f":"'Adressen Daten 25'!I10","v":"Benjamin"},{"$f":"'Adressen Daten 25'!J10","v":"Boldo"},{"$f":"'Adressen Daten 25'!K10","v":"Metzggasse 6"},{"$f":"'Adressen Daten 25'!L10&\" \"&'Adressen Daten 25'!M10","v":"8400 Winterthur"},{"$f":"'Adressen Daten 25'!N10","v":0},{"$f":"'Adressen Daten 25'!O10","v":"076 320 86 65"},{"$f":"'Adressen Daten 25'!P10","v":"b.boldo@bluewin.ch"},9]
[48,{"$f":"'Adressen Daten 25'!F11&\" \"&'Adressen Daten 25'!G11","v":"SUS Widnau   ( 2. Liga F )"},{"$f":"'Adressen Daten 25'!I11","v":"Marco"},{"$f":"'Adressen Daten 25'!J11","v":"Nüesch"},{"$f":"'Adressen Daten 25'!K11","v":0},{"$f":"'Adressen Daten 25'!L11&\" \"&'Adressen Daten 25'!M11","v":" "},{"$f":"'Adressen Daten 25'!N11","v":0},{"$f":"'Adressen Daten 25'!O11","v":"079 404 47 21"},{"$f":"'Adressen Daten 25'!P11","v":"marco.nueesch@faustball-widnau.ch"},10]
[49,{"$f":"'Adressen Daten 25'!F14&\" \"&'Adressen Daten 25'!G14","v":"FB Burgdorf (1. Liga  W)"},{"$f":"'Adressen Daten 25'!I14","v":"Stefan"},{"$f":"'Adressen Daten 25'!J14","v":"Tschannen"},{"$f":"'Adressen Daten 25'!K14","v":"Rumiweg 9"},{"$f":"'Adressen Daten 25'!L14&\" \"&'Adressen Daten 25'!M14","v":"4900 Langenthal"},{"$f":"'Adressen Daten 25'!N14","v":0},{"$f":"'Adressen Daten 25'!O14","v":"079 329 41 52"},{"$f":"'Adressen Daten 25'!P14","v":"st.fb_burgdorf@bluewin.ch"},11]
[50,{"$f":"'Adressen Daten 25'!F15&\" \"&'Adressen Daten 25'!G15","v":"TSV Jona 2  ( 1. Liga O )  "},{"$f":"'Adressen Daten 25'!I15","v":"Fabian"},{"$f":"'Adressen Daten 25'!J15","v":"Zahner"},{"$f":"'Adressen Daten 25'!K15","v":0},{"$f":"'Adressen Daten 25'!L15&\" \"&'Adressen Daten 25'!M15","v":" "},{"$f":"'Adressen Daten 25'!N15","v":0},{"$f":"'Adressen Daten 25'!O15","v":"076 592 09 17"},{"$f":"'Adressen Daten 25'!P15","v":"tkchef@fbjona.ch"},12]
[51,{"$f":"'Adressen Daten 25'!F17&\" \"&'Adressen Daten 25'!G17","v":"STV Vordemwald 2  ( 1. Liga W)"},{"$f":"'Adressen Daten 25'!I17","v":"Reto"},{"$f":"'Adressen Daten 25'!J17","v":"Von Ballmoos"},{"$f":"'Adressen Daten 25'!K17","v":"Rotfarbstr 9"},{"$f":"'Adressen Daten 25'!L17&\" \"&'Adressen Daten 25'!M17","v":"4800 Zofingen"},{"$f":"'Adressen Daten 25'!N17","v":0},{"$f":"'Adressen Daten 25'!O17","v":"079 721 45 82"},{"$f":"'Adressen Daten 25'!P17","v":"reto.vonballmoos@gmail.com"},13]
[52,{"$f":"'Adressen Daten 25'!F18&\" \"&'Adressen Daten 25'!G18","v":"STV Dägerlen ( NLB O )"},{"$f":"'Adressen Daten 25'!I18","v":"Aron"},{"$f":"'Adressen Daten 25'!J18","v":"Werder"},{"$f":"'Adressen Daten 25'!K18","v":0},{"$f":"'Adressen Daten 25'!L18&\" \"&'Adressen Daten 25'!M18","v":" "},{"$f":"'Adressen Daten 25'!N18","v":0},{"$f":"'Adressen Daten 25'!O18","v":"077 423 20 05"},{"$f":"'Adressen Daten 25'!P18","v":"materialwart@fbrdaegerlen.ch"},14]
[53,{"$f":"'Adressen Daten 25'!F19&\" \"&'Adressen Daten 25'!G19","v":"STV Dozwil ( NLB O )"},{"$f":"'Adressen Daten 25'!I19","v":"Josua"},{"$f":"'Adressen Daten 25'!J19","v":"Schlattinger"},{"$f":"'Adressen Daten 25'!K19","v":0},{"$f":"'Adressen Daten 25'!L19&\" \"&'Adressen Daten 25'!M19","v":" "},{"$f":"'Adressen Daten 25'!N19","v":0},{"$f":"'Adressen Daten 25'!O19","v":"076 320 30 46"},{"$f":"'Adressen Daten 25'!P19","v":"j.schlattinger@gmx.ch"},15]
[54,{"$f":"'Adressen Daten 25'!F21&\" \"&'Adressen Daten 25'!G21","v":"TSV Jona 1( NLB O )"},{"$f":"'Adressen Daten 25'!I21","v":"Fabian"},{"$f":"'Adressen Daten 25'!J21","v":"Zahner"},{"$f":"'Adressen Daten 25'!K21","v":0},{"$f":"'Adressen Daten 25'!L21&\" \"&'Adressen Daten 25'!M21","v":" "},{"$f":"'Adressen Daten 25'!N21","v":0},{"$f":"'Adressen Daten 25'!O21","v":"076 592 09 17"},{"$f":"'Adressen Daten 25'!P21","v":"tkchef@fbjona.ch"},16]
[55,{"$f":"'Adressen Daten 25'!#REF!&\" \"&'Adressen Daten 25'!#REF!","v":{"$error":"#REF!"}},{"$f":"'Adressen Daten 25'!#REF!","v":{"$error":"#REF!"}},{"$f":"'Adressen Daten 25'!#REF!","v":{"$error":"#REF!"}},{"$f":"'Adressen Daten 25'!#REF!","v":{"$error":"#REF!"}},{"$f":"'Adressen Daten 25'!#REF!&\" \"&'Adressen Daten 25'!#REF!","v":{"$error":"#REF!"}},{"$f":"'Adressen Daten 25'!#REF!","v":{"$error":"#REF!"}},{"$f":"'Adressen Daten 25'!#REF!","v":{"$error":"#REF!"}},{"$f":"'Adressen Daten 25'!#REF!","v":{"$error":"#REF!"}},17]
[56,{"$f":"'Adressen Daten 25'!F22&\" \"&'Adressen Daten 25'!G22","v":"STV Kirchberg  ( NLB W )"},{"$f":"'Adressen Daten 25'!I22","v":"Rudolf"},{"$f":"'Adressen Daten 25'!J22","v":"Nyffenegger"},{"$f":"'Adressen Daten 25'!K22","v":"Solothurnerstr 31"},{"$f":"'Adressen Daten 25'!L22&\" \"&'Adressen Daten 25'!M22","v":"3422 Kirchberg"},{"$f":"'Adressen Daten 25'!N22","v":0},{"$f":"'Adressen Daten 25'!O22","v":"079 376 96 25"},{"$f":"'Adressen Daten 25'!P22","v":"faustball@tvkirchberg.ch"},18]
[57,{"$f":"'Adressen Daten 25'!F23&\" \"&'Adressen Daten 25'!G23","v":"TV Oberwinterthur  (NLB )"},{"$f":"'Adressen Daten 25'!I23","v":"Fabio"},{"$f":"'Adressen Daten 25'!J23","v":"Schiess"},{"$f":"'Adressen Daten 25'!K23","v":"Hofwis 12"},{"$f":"'Adressen Daten 25'!L23&\" \"&'Adressen Daten 25'!M23","v":"8352 Elsau"},{"$f":"'Adressen Daten 25'!N23","v":0},{"$f":"'Adressen Daten 25'!O23","v":"079 913 84 85"},{"$f":"'Adressen Daten 25'!P23","v":"fabio.schiess@schiessag.ch"},19]
[58,{"$f":"'Adressen Daten 25'!F24&\" \"&'Adressen Daten 25'!G24","v":"STV Rickenbach-Wilen 2 ( NLB )"},{"$f":"'Adressen Daten 25'!I24","v":"Jonas"},{"$f":"'Adressen Daten 25'!J24","v":"Hess"},{"$f":"'Adressen Daten 25'!K24","v":0},{"$f":"'Adressen Daten 25'!L24&\" \"&'Adressen Daten 25'!M24","v":" "},{"$f":"'Adressen Daten 25'!N24","v":0},{"$f":"'Adressen Daten 25'!O24","v":"079 900 69 17"},{"$f":"'Adressen Daten 25'!P24","v":"spiko@fgriwi.ch"},20]
[59,{"$f":"'Adressen Daten 25'!#REF!&\" \"&'Adressen Daten 25'!#REF!","v":{"$error":"#REF!"}},{"$f":"'Adressen Daten 25'!#REF!","v":{"$error":"#REF!"}},{"$f":"'Adressen Daten 25'!#REF!","v":{"$error":"#REF!"}},{"$f":"'Adressen Daten 25'!#REF!","v":{"$error":"#REF!"}},{"$f":"'Adressen Daten 25'!#REF!&\" \"&'Adressen Daten 25'!#REF!","v":{"$error":"#REF!"}},{"$f":"'Adressen Daten 25'!#REF!","v":{"$error":"#REF!"}},{"$f":"'Adressen Daten 25'!#REF!","v":{"$error":"#REF!"}},{"$f":"'Adressen Daten 25'!#REF!","v":{"$error":"#REF!"}},21]
[60,{"$f":"'Adressen Daten 25'!F25&\" \"&'Adressen Daten 25'!G25","v":"STV Schlieren ( NLB O )"},{"$f":"'Adressen Daten 25'!I25","v":"Andreas"},{"$f":"'Adressen Daten 25'!J25","v":"Fritschi"},{"$f":"'Adressen Daten 25'!K25","v":0},{"$f":"'Adressen Daten 25'!L25&\" \"&'Adressen Daten 25'!M25","v":" "},{"$f":"'Adressen Daten 25'!N25","v":0},{"$f":"'Adressen Daten 25'!O25","v":"079 602 18 32"},{"$f":"'Adressen Daten 25'!P25","v":"maenner@faustballschlieren.ch"},22]
[61,{"$f":"'Adressen Daten 25'!F27&\" \"&'Adressen Daten 25'!G27","v":"FB Schwellbrunn ( NLB  O)"},{"$f":"'Adressen Daten 25'!I27","v":"Kenneth"},{"$f":"'Adressen Daten 25'!J27","v":"Schoch"},{"$f":"'Adressen Daten 25'!K27","v":"Ahornstr "},{"$f":"'Adressen Daten 25'!L27&\" \"&'Adressen Daten 25'!M27","v":"9100 Herisau"},{"$f":"'Adressen Daten 25'!N27","v":0},{"$f":"'Adressen Daten 25'!O27","v":"079 603 88 30"},{"$f":"'Adressen Daten 25'!P27","v":"kennethschoch@bluewin.ch"},23]
[62,{"$f":"'Adressen Daten 25'!F28&\" \"&'Adressen Daten 25'!G28","v":"STV Vordemwald 1 ( NLB W )"},{"$f":"'Adressen Daten 25'!I28","v":"Reto"},{"$f":"'Adressen Daten 25'!J28","v":"von Ballmoos"},{"$f":"'Adressen Daten 25'!K28","v":"Rotfarbstr 9"},{"$f":"'Adressen Daten 25'!L28&\" \"&'Adressen Daten 25'!M28","v":"4800 Zofingen"},{"$f":"'Adressen Daten 25'!N28","v":0},{"$f":"'Adressen Daten 25'!O28","v":"079 721 45 82"},{"$f":"'Adressen Daten 25'!P28","v":"reto.vonballmoos@gmail.com"},24]
[63,{"$f":"'Adressen Daten 25'!F30&\" \"&'Adressen Daten 25'!G30","v":"SVD Diepoldsau-Schmitter (NLA)"},{"$f":"'Adressen Daten 25'!I30","v":"Lorena"},{"$f":"'Adressen Daten 25'!J30","v":"Lipp"},{"$f":"'Adressen Daten 25'!K30","v":"Unterdorfstr 47"},{"$f":"'Adressen Daten 25'!L30&\" \"&'Adressen Daten 25'!M30","v":"9443 Widnau"},{"$f":"'Adressen Daten 25'!N30","v":0},{"$f":"'Adressen Daten 25'!O30","v":"076 573 09 99"},{"$f":"'Adressen Daten 25'!P30","v":"spiko@faustball-svd.clubdesk.com"},25]
[64,{"$f":"'Adressen Daten 25'!F31&\" \"&'Adressen Daten 25'!G31","v":"FG Elgg-Ettenhausen 1 ( NLA )"},{"$f":"'Adressen Daten 25'!I31","v":"Markus"},{"$f":"'Adressen Daten 25'!J31","v":"Fehr"},{"$f":"'Adressen Daten 25'!K31","v":"Hintergasse 3a"},{"$f":"'Adressen Daten 25'!L31&\" \"&'Adressen Daten 25'!M31","v":"8353 Elgg"},{"$f":"'Adressen Daten 25'!N31","v":" "},{"$f":"'Adressen Daten 25'!O31","v":"078 613 39 28"},{"$f":"'Adressen Daten 25'!P31","v":"fehr.markus@bluewin.ch"},26]
[65,{"$f":"'Adressen Daten 25'!F32&\" \"&'Adressen Daten 25'!G32","v":"FG Fricktal ( NLA  )"},{"$f":"'Adressen Daten 25'!I32","v":"Patrick"},{"$f":"'Adressen Daten 25'!J32","v":"Hochreuter"},{"$f":"'Adressen Daten 25'!K32","v":"Scheuerackerweg 16"},{"$f":"'Adressen Daten 25'!L32&\" \"&'Adressen Daten 25'!M32","v":"5223 Riniken"},{"$f":"'Adressen Daten 25'!N32","v":0},{"$f":"'Adressen Daten 25'!O32","v":"079 238 91 30"},{"$f":"'Adressen Daten 25'!P32","v":"info@fgfricktal.ch"},27]
[66,{"$f":"'Adressen Daten 25'!F33&\" \"&'Adressen Daten 25'!G33","v":"STV Oberentfelden   ( NLA )"},{"$f":"'Adressen Daten 25'!I33","v":"Christian"},{"$f":"'Adressen Daten 25'!J33","v":"Suter"},{"$f":"'Adressen Daten 25'!K33","v":"Aeppenhaldenstr 3b"},{"$f":"'Adressen Daten 25'!L33&\" \"&'Adressen Daten 25'!M33","v":"4800 Zofingen"},{"$f":"'Adressen Daten 25'!N33","v":0},{"$f":"'Adressen Daten 25'!O33","v":"079 476 04 32"},{"$f":"'Adressen Daten 25'!P33","v":"christian.suter@faustballcenter.ch"},28]
[67,{"$f":"'Adressen Daten 25'!#REF!&\" \"&'Adressen Daten 25'!#REF!","v":{"$error":"#REF!"}},{"$f":"'Adressen Daten 25'!#REF!","v":{"$error":"#REF!"}},{"$f":"'Adressen Daten 25'!#REF!","v":{"$error":"#REF!"}},{"$f":"'Adressen Daten 25'!#REF!","v":{"$error":"#REF!"}},{"$f":"'Adressen Daten 25'!#REF!&\" \"&'Adressen Daten 25'!#REF!","v":{"$error":"#REF!"}},{"$f":"'Adressen Daten 25'!#REF!","v":{"$error":"#REF!"}},{"$f":"'Adressen Daten 25'!#REF!","v":{"$error":"#REF!"}},{"$f":"'Adressen Daten 25'!#REF!","v":{"$error":"#REF!"}},29]
[68,{"$f":"'Adressen Daten 25'!F34&\" \"&'Adressen Daten 25'!G34","v":"FG Rickenbach-Wilen ( NLA )"},{"$f":"'Adressen Daten 25'!I34","v":"Jonas"},{"$f":"'Adressen Daten 25'!J34","v":"Hess"},{"$f":"'Adressen Daten 25'!K34","v":0},{"$f":"'Adressen Daten 25'!L34&\" \"&'Adressen Daten 25'!M34","v":" "},{"$f":"'Adressen Daten 25'!N34","v":0},{"$f":"'Adressen Daten 25'!O34","v":"079 900 69 17"},{"$f":"'Adressen Daten 25'!P34","v":"spiko@fgriwi.ch"},30]
[69,{"$f":"'Adressen Daten 25'!#REF!&\" \"&'Adressen Daten 25'!#REF!","v":{"$error":"#REF!"}},{"$f":"'Adressen Daten 25'!#REF!","v":{"$error":"#REF!"}},{"$f":"'Adressen Daten 25'!#REF!","v":{"$error":"#REF!"}},{"$f":"'Adressen Daten 25'!#REF!","v":{"$error":"#REF!"}},{"$f":"'Adressen Daten 25'!#REF!&\" \"&'Adressen Daten 25'!#REF!","v":{"$error":"#REF!"}},{"$f":"'Adressen Daten 25'!#REF!","v":{"$error":"#REF!"}},{"$f":"'Adressen Daten 25'!#REF!","v":{"$error":"#REF!"}},{"$f":"'Adressen Daten 25'!#REF!","v":{"$error":"#REF!"}},31]
[70,{"$f":"'Adressen Daten 25'!F36&\" \"&'Adressen Daten 25'!G36","v":"STV Wigoltingen   ( NLA )"},{"$f":"'Adressen Daten 25'!I36","v":"David"},{"$f":"'Adressen Daten 25'!J36","v":"Berger"},{"$f":"'Adressen Daten 25'!K36","v":"Eggrainstr 25"},{"$f":"'Adressen Daten 25'!L36&\" \"&'Adressen Daten 25'!M36","v":"8556 Wigoltingen"},{"$f":"'Adressen Daten 25'!N36","v":"052 763 10 81"},{"$f":"'Adressen Daten 25'!O36","v":"079 388 63 87"},{"$f":"'Adressen Daten 25'!P36","v":"d_berger@bluewin.ch"},32]
[71,{"$f":"'Adressen Daten 25'!#REF!&\" \"&'Adressen Daten 25'!#REF!","v":{"$error":"#REF!"}},{"$f":"'Adressen Daten 25'!#REF!","v":{"$error":"#REF!"}},{"$f":"'Adressen Daten 25'!#REF!","v":{"$error":"#REF!"}},{"$f":"'Adressen Daten 25'!#REF!","v":{"$error":"#REF!"}},{"$f":"'Adressen Daten 25'!#REF!&\" \"&'Adressen Daten 25'!#REF!","v":{"$error":"#REF!"}},{"$f":"'Adressen Daten 25'!#REF!","v":{"$error":"#REF!"}},{"$f":"'Adressen Daten 25'!#REF!","v":{"$error":"#REF!"}},{"$f":"'Adressen Daten 25'!#REF!","v":{"$error":"#REF!"}},33]
[72,{"$f":"'Adressen Daten 25'!#REF!&\" \"&'Adressen Daten 25'!#REF!","v":{"$error":"#REF!"}},{"$f":"'Adressen Daten 25'!#REF!","v":{"$error":"#REF!"}},{"$f":"'Adressen Daten 25'!#REF!","v":{"$error":"#REF!"}},{"$f":"'Adressen Daten 25'!#REF!","v":{"$error":"#REF!"}},{"$f":"'Adressen Daten 25'!#REF!&\" \"&'Adressen Daten 25'!#REF!","v":{"$error":"#REF!"}},{"$f":"'Adressen Daten 25'!#REF!","v":{"$error":"#REF!"}},{"$f":"'Adressen Daten 25'!#REF!","v":{"$error":"#REF!"}},{"$f":"'Adressen Daten 25'!#REF!","v":{"$error":"#REF!"}},34]
[73,{"$f":"'Adressen Daten 25'!F38&\" \"&'Adressen Daten 25'!G38","v":" "},{"$f":"'Adressen Daten 25'!I38","v":0},{"$f":"'Adressen Daten 25'!J38","v":0},{"$f":"'Adressen Daten 25'!K38","v":0},{"$f":"'Adressen Daten 25'!L38&\" \"&'Adressen Daten 25'!M38","v":" "},{"$f":"'Adressen Daten 25'!N38","v":0},{"$f":"'Adressen Daten 25'!O38","v":0},{"$f":"'Adressen Daten 25'!P38","v":0},35]
[74,{"$f":"'Adressen Daten 25'!F39&\" \"&'Adressen Daten 25'!G39","v":" "},{"$f":"'Adressen Daten 25'!I39","v":0},{"$f":"'Adressen Daten 25'!J39","v":0},{"$f":"'Adressen Daten 25'!K39","v":0},{"$f":"'Adressen Daten 25'!L39&\" \"&'Adressen Daten 25'!M39","v":" "},{"$f":"'Adressen Daten 25'!N39","v":0},{"$f":"'Adressen Daten 25'!O39","v":0},{"$f":"'Adressen Daten 25'!P39","v":0},36]
[75,{"$f":"'Adressen Daten 25'!F40&\" \"&'Adressen Daten 25'!G40","v":" "},{"$f":"'Adressen Daten 25'!I40","v":0},{"$f":"'Adressen Daten 25'!J40","v":0},{"$f":"'Adressen Daten 25'!K40","v":0},{"$f":"'Adressen Daten 25'!L40&\" \"&'Adressen Daten 25'!M40","v":" "},{"$f":"'Adressen Daten 25'!N40","v":0},{"$f":"'Adressen Daten 25'!O40","v":0},{"$f":"'Adressen Daten 25'!P40","v":0},37]
[76,{"$f":"'Adressen Daten 25'!F41&\" \"&'Adressen Daten 25'!G41","v":" "},{"$f":"'Adressen Daten 25'!I41","v":0},{"$f":"'Adressen Daten 25'!J41","v":0},{"$f":"'Adressen Daten 25'!K41","v":0},{"$f":"'Adressen Daten 25'!L41&\" \"&'Adressen Daten 25'!M41","v":" "},{"$f":"'Adressen Daten 25'!N41","v":0},{"$f":"'Adressen Daten 25'!O41","v":0},{"$f":"'Adressen Daten 25'!P41","v":0},38]
[77,{"$f":"'Adressen Daten 25'!F42&\" \"&'Adressen Daten 25'!G48","v":" Widnau   ( NLA )"}]
[78,{"$f":"'Adressen Daten 25'!F43&\" \"&'Adressen Daten 25'!G43","v":" "}]
[79]
[80]
[81,"Freilos"]
[82,"Freilos"]
[83,"Freilos"]
[84,"Freilos"]
[85,"Freilos"]
[86,"Freilos"]
[87,"Freilos"]
[88,"Freilos"]
[89,"Freilos"]
[90,"Freilos"]
[91,"Freilos"]
[92,"Freilos"]
[93,"Freilos"]
[94,"Freilos"]
[95,"Freilos"]
[96,"Freilos"]
[97,"Freilos"]
[98,"Freilos"]
[99,"Freilos"]
[100,"Freilos"]
[101,"Freilos"]
[102,"Freilos"]
[103,"Freilos"]
[104,"Freilos"]
[105,"Freilos"]
[106]

{"sheet":"2022_Adressen ","index":3,"n_rows":70,"n_cols":23,"rows_kept":70,"cut":false,"hidden":true,"merged":[[0,7,0,11],[0,0,0,6]]}
["Adressen",{"$nulls":6},{"$f":"Eigaben!Z3","v":"37. Schweizer Cup Männer 2025"}]
[{"$nulls":4},"Lig","1. L","NLB","NLA",null,null,"Name ","Vorname","Strasse","PLZ","Ort","Tel","Natel","E - Mail","Anm","Bez",null,"Angemeldet "]
[1,null,null,null,2,null,null,null,"STV","Affeltrangen ( 2. Liga )","Andrea","Steinbauer","Grosackerstr 31",9542,"Müchwilen",null,"079 303 77 35","faustball@stv-affeltrangen.ch"]
[2,null,null,null,2,null,null,null,"STV","Affoltern A/A  (2. Liga )","Johan","Schoch","Loorenstr 17",8910,"Affoltern am Albis",null,"079 567 82 36","jf.schoch@bluewin.ch",null,null,60]
[3,null,null,null,2,null,null,null,"FBT","Amsteg ( 2. Liga )","Adi","König","Ennerbergstr 12",6374,"Buochs",null,"079 778 92 06","adi.koenig@gmail.com",null,null,60]
[4,null,null,null,2,null,null,null,"MTV","Herznach ( 2. Liga )","Guido","Acklin","Hübstelstr 1b",5027,"Herznach",null,"079 237 32 72","acklin@sunrise.ch",null,null,60]
[5,null,null,null,2,null,null,null,"TSV","Höchst ( 2. Liga ) C.F","Markus","Nagel","Landstr 29",6973,"Höchst",null,436781228600,"nagel.markus@outlok.com",null,null,60]
[6,null,null,null,2,null,null,null,"FBV","Ostermundigen ( 2. Liga )","Roger","Chapuis","Axenstr 32",6454,"Flüelen",null,"079 233 72 84","r.chapuis@bluewin.ch",null,null,60]
[7,null,null,null,2,null,null,null,"TV","Töss 1 ( 2. Liga )","Benny","Boldo","Giesserstr 27",8406,"Winterthur",null,"076 320 86 65","b.boldo@bluewin.ch",null,null,60]
[8,null,null,null,2,null,null,null,"TSV","Waldkirch ( 4. Liga )","Severin","Holzer","Breitestr 9",8588,"Zielschlacht",null,"079 709 78 12","severin_holzer@hotmail.com",null,null,60]
[9,"A-PRIORITY","P.P","8512 Thundorf","Sen",null,null,null,"SVD","Diepoldsau (4. Liga ) C","Norbert ","Sindler",null,9444,"Deipoldsau",null,"079 797 47 86","spiko@faustball-diepoldsau.ch",null,null,60]
[10,null,null,null,"Sen",null,null,null,"MTV","Thundorf ( 4. Liga ) F","Stefan","Bommer","Kirchberg 8",8512,"Thundorf","052 366 30 69","079 481 59 70","bommers@bluewin.ch",null,null,60]
[11,"A-PRIORITY","P.P","8512 Thundorf",null,null,null,"NLA","STV","Affeltrangen  ( NLA )","Andreas","Steinbauer","Grossackerstr 31",9542,"Münchwielen","058 215 46 79","079 303 77 35","andreas@steinbauer.ch","X",null,60]
[{"$nulls":6},"NLB",null,"STV","Dozwil ( NLB O )","Elias","Schläpfer","Mittelland 4",8582,"Dozwil",null,"071 955 26 70","elias.schlaepfer@gmail.com",null,null,60]
[12,{"$nulls":5},"NLB",null,"FG","FG Fricktal ( NLB W )","Patrick","Hochreute","Obere Gasse",5064,"Wittnau",null,"079 238 91 30",null,"X",null,60,"Patrick Hochreuter","hochi41@hotmail.com"]
[13,{"$nulls":5},"NLB",null,"TV","Kirchberg ( NLB W )","Ruedi","Nyffenegger","Solenthurnerstr 17",3422,"Kirchberg",null,null,"faustball@tvkirchberg.ch",null,null,60]
[14,{"$nulls":5},"NLB",null,"TV","Oberwinterthur 1 (NLB )","Fabio","Schiess","Reismühleweg 67",8409,"Winterthur",null,"079 913 84 85","fabio.schiess@schiessag.ch","X",null,60]
[15,{"$nulls":5},"NLB",null,"TV","Olten ( NLB W )","Valon","Shabanaj","Hauptstrasse 75a",6260,"Reiden",null,"079 460 34 25","valon.shabanaj@outlook.com",null,null,60]
[16,{"$nulls":5},"NLB",null,"STV","Schlieren  ( NLB O )","Andreas","Fritschi","Römerstr 14",8162,"Steimaur",null,"079 602 18 32","maenner@faustballschlieren.ch",null,null,60]
[17,{"$nulls":5},"NLB",null,"TV STV","Vordemwald  ( NLB W )","Reto","von Ballmoos","Sagigasse 33",4803,"Vordemwald",null,"079 721 45 82","reto.vonballmoos@gmail.com",null,null,60]
[18,{"$nulls":5},"NLB",null,"FG","Elgg-Ettenhausen  ( NLB)","Simon","Kunz","Mattenhofstr 43",8355,"Aadorf"," ","079 438 17 59","simon.kunz@fbv-ettenhausen.ch","X",null,60]
[19,{"$nulls":4},1,null,null,"STV","Alpnach  ( 1. Liga W ) ","Tobias","Kasper","Untere Feldstr 17",6055,"Alpnach Dorf",null,"079 713 39 48","tobias_kasper@hotmail.com",null,null,60]
[20,{"$nulls":4},1,null,null,"MR","Beringen ( 1. Liga O ) ","Stefan","Kunz","Mühleweg 15",8222,"Beringen","052 685 20 53","079 449 88 88","faustball@mrberingen.ch","X",null,60]
[21,{"$nulls":4},1,null,null,"FBR","Dägerlen ( 1. Liga O  )","Manuel","Weder","Dorfstr 12",8471,"Rutschwil",null,"079 823 98 71","schmaerae@bluewin.ch",null,null,60]
[22,"A-PRIORITY","P.P","8512 Thundorf",null,1,null,null,"TSV","Deitingen ( 1. Liga W )","Pascal","Barrière","Blockgasse 7",4552,"Derendingen",null,"079 227 94 81","pascal.barriere@bd.so.ch",null,null,60]
[23,{"$nulls":4},1,null,null,"TV","Rebstein ( 1. Liga O )","Michael","Meier","Wiesenstr 13B",9436,"Balgach",null,"079 792 30 26","meier_x@hotmail.com",null,null,60]
[24,"A-PRIORITY","P.P","8512 Thundorf",null,1,null,null,"FB","Roggwil 1  ( 1. Liga W )","Daniel","Lüdi","Nelkenweg 12",4914,"Roggwil",null,"079 750 21 11","dluedi@besonet.ch","X",null,60]
[25,{"$nulls":4},1,null,null,"Satus ","Schaffhausen   ( 1. Liga O )","Lorenz","Moser","Birkenstr 11",8200,"Schaffhausen",null,"076 442 82 96","lorenz.moser@hotmail.com","X",null,60]
[26,"A-PRIORITY","P.P","8512 Thundorf",null,1,null,null,"STV","Schlieren  ( 1. Liga O )","Andrea","Fritschi","Römerstr 14",8162,"Steimaur",null,"079 602 18 32","maenner@faustballschlieren.ch",null,null,60]
[27,{"$nulls":4},1,null,null,"FB","Schwellbunn 2 ( 1. Liga O )","Cyrill","Hagen","Wiesenrain 992",9103,"Schwellbrunn",null,"079 864 40 28","cyrill.hagen@gmail.com",null,null,60]
[28,"A-PRIORITY","P.P","8512 Thundorf",null,1,null,null,"STV","Vordemwald  (1. Liga W )","Reto","von Ballmoos","Sagigasse 33",4803,"Vordemwald",null,"079 721 45 82","reto.vonballmoos@gmail.com",null,null,60]
[29,{"$nulls":4},1,null,null,"FB","Wollerau ( NLB W )","Daniel","Beeler","Feldmoos 11",8832,"Wollerau",null,"078 637 94 24","beeler-daniel@outlook.com",null,null,60]
[30,"A-PRIORITY","P.P","8512 Thundorf",null,1,null,null,"STV","Staffelbach  ( 1. Liga W )","Jan","Haller","Feldmattweg 8D",5040,"Schöftland",null,"079 252 07 47","jan.haller@schulemuhen.ch","X",null,60]
[31,{"$nulls":6},"NLA","SVD","Diepoldsau ( NLA )","Norbert ","Sindler",null,9444,"Deipoldsau",null,"079 797 47 86","spiko@faustball-diepoldsau.ch",null,null,60]
[32,"A-PRIORITY","P.P","8512 Thundorf",null,null,null,"NLA","FG","Elgg-Ettenhausen  ( NLA )","Simon","Kunz","Mattenhofstr 43",8355,"Aadorf"," ","079 438 17 59","simon.kunz@fbv-ettenhausen.ch","X",null,60]
[33,"A-PRIORITY","P.P","8512 Thundorf",null,null,null,"NLA","TSV","Jona   ( NLA )  ","Fabian","Zahner","Tägernaustr 65",8645,"Jona",null,"076 592 09 17","tkchef@fbjona.ch","X",null,60]
[34,"A-PRIORITY","P.P","8512 Thundorf",null,null,null,"NLA","FB","Neuendorf 1  ( NLA )","Daniel","Nützi","Wolfwilerstr 40",4623,"Neuendorf",null,"062 388 74 58 ","tk@fbneuendorf.ch ","X",null,60]
[35,"A-PRIORITY","P.P","8512 Thundorf",null,null,null,"NLA","STV","Oberentfelden   ( NLA )","Dev","Morgenthaler","Gersagestr 25",6020,"Emmenbrücke",null,"079 367 54 35","spielbetrieb@faustballcenter.ch",null,null,60]
[36,"A-PRIORITY","P.P","8512 Thundorf",null,null,null,"NLA","FG","Rickenbach-Wilen ( NLA )","Philipp","Jung","Sonnenwiesstr 2a",9512,"Rossrüti",null,"079 542 88 83","spiko@fgriwi.ch","X",null,60]
[37,{"$nulls":6},"NLA","STV","Walzenhausen ( NLA )","Beda","Kellenberger","Hauptstr 6",9434,"Au"," ","079 578 93 83","beda.95@hotmail.com",null,null,60]
[38,{"$nulls":6},"NLA","FB","Widnau   ( NLA )","Remo","Pinchera","Gemperstr 2",9436,"Balgach",null,"079 404 47 21","remo-pinchera-widnau.ch","X",null,60]
[39,{"$nulls":6},"NLA","STV","Wigoltingen   ( NLA )","David","Berger","Eggrainstr 25",8556,"Wigoltingen","052 763 10 81","079 388 63 87","d_berger@bluewin.ch","X"]
[40,{"$nulls":19},{"$f":"SUM(U4:U42)","v":2280}]
[41,{"$nulls":8},"test 3"]
[42,{"$nulls":8},"test 4"]
[43,{"$nulls":8},"test 5"]
[{"$nulls":8},"Sen",{"$f":"COUNTIF(E2:E49,\"Sen\")","v":2},{"$nulls":7},"Angemeldet",{"$f":"COUNTIF(S3:S46,\"x\")","v":14}]
[{"$nulls":8},"3. Liga",{"$f":"COUNTIF(E3:E50,3)","v":0},{"$nulls":7},"Bezhalt",null,{"$f":"COUNTIF(T3:T46,\"j\")","v":0}]
[{"$nulls":8},"2. Liga",{"$f":"COUNTIF(E3:E38,2)","v":8}]
[{"$nulls":8},"1. Liga",{"$f":"COUNTIF(F3:F46,1)","v":12}]
[{"$nulls":8},"NLB",{"$f":"COUNTIF(G3:G49,\"NLB\")","v":8}]
[{"$nulls":8},"NLA",{"$f":"COUNTIF(H3:H48,\"NLA\")","v":10}]
[{"$nulls":9},{"$f":"SUM(J47:J52)","v":40}]
{"$rows_empty":16}
[null,"A-PRIORITY","P.P","8512 Thundorf"]

{"sheet":"CH Cup Tableau 2025","index":4,"n_rows":101,"n_cols":33,"rows_kept":101,"cut":false,"hidden":false,"merged":[[7,0,10,0],[7,1,8,1],[7,2,8,4],[7,5,8,5],[7,6,10,6],[7,7,8,7],[7,8,8,10],[9,1,10,1],[9,2,10,4],[9,5,10,5],[9,7,10,7],[9,8,10,10],[5,2,6,4],[21,2,22,4],[21,5,22,5],[21,7,22,7],[21,8,22,10],[15,1,16,1],[15,2,16,4],[32,15,33,18],[16,25,17,25],[8,15,9,18],[14,22,15,24],[9,11,10,11],[9,12,10,12],[15,5,16,5],[15,7,16,7],[13,1,14,1],[13,5,14,5],[13,6,16,6],[13,7,14,7],[21,1,22,1],[13,2,14,4],[13,0,16,0],[12,19,13,19],[19,8,20,10],[19,11,20,11],[19,12,20,12],[19,1,20,1],[19,2,20,4],[19,5,20,5],[19,6,22,6],[19,7,20,7],[11,2,12,4],[17,8,18,11],[19,0,22,0],[0,0,0,29],[3,1,3,2],[3,4,3,5],[3,10,3,11],[3,14,3,15],[3,17,3,18],[3,21,3,22],[3,24,3,25],[3,28,3,29],[3,31,3,32],[4,8,4,10],[16,26,17,26],[18,22,19,24],[18,25,19,25],[18,26,19,26],[13,8,14,10],[13,11,14,11],[13,12,14,12],[10,14,13,14],[10,15,11,17],[10,18,11,18],[10,19,11,19],[12,15,13,17],[7,11,8,11],[7,12,8,12],[15,8,16,10],[15,11,16,11],[15,12,16,12],[11,8,12,10],[16,21,19,21],[16,22,17,24],[12,18,13,18],[5,8,6,10],[25,0,28,0],[25,1,26,1],[25,2,26,4],[25,5,26,5],[25,6,28,6],[25,7,26,7],[27,12,28,12],[28,28,31,28],[28,29,29,31],[27,1,28,1],[27,2,28,4],[27,5,28,5],[27,7,28,7],[27,8,28,10],[27,11,28,11],[28,32,29,32],[30,29,31,31],[30,32,31,32],[25,8,26,10],[25,11,26,11],[25,12,26,12],[26,32,27,32],[22,14,25,14],[22,15,23,17],[22,18,23,18],[22,19,23,19],[24,15,25,17],[24,18,25,18],[24,19,25,19],[27,27,28,27],[21,11,22,11],[21,12,22,12],[29,8,30,11],[23,8,24,11],[20,15,21,18],[32,32,33,32],[33,1,34,1],[33,2,34,4],[33,5,34,5],[33,7,34,7],[33,8,34,10],[33,11,34,11],[31,0,34,0],[31,1,32,1],[31,2,32,4],[31,5,32,5],[31,6,34,6],[31,7,32,7],[33,12,34,12],[34,14,37,14],[34,15,35,17],[34,18,35,18],[34,19,35,19],[36,15,37,17],[36,18,37,18],[36,19,37,19],[31,8,32,10],[31,11,32,11],[31,12,32,12],[38,31,39,32],[39,1,40,1],[39,2,40,4],[39,5,40,5],[39,7,40,7],[39,8,40,10],[39,11,40,11],[37,1,38,1],[37,2,38,4],[37,5,38,5],[37,6,40,6],[37,7,38,7],[39,22,40,24],[44,0,47,0],[44,1,45,1],[44,2,45,4],[44,5,45,5],[44,6,47,6],[44,7,45,7],[39,12,40,12],[40,21,44,21],[37,0,40,0],[44,12,45,12],[37,8,38,10],[37,11,38,11],[37,12,38,12],[45,27,48,32],[46,1,47,1],[46,2,47,4],[46,5,47,5],[46,7,47,7],[46,8,47,10],[46,11,47,11],[40,31,42,32],[43,22,44,24],[43,25,44,25],[43,26,44,26],[40,28,42,29],[46,12,47,12],[47,14,50,14],[47,15,48,17],[47,18,48,18],[47,19,48,19],[49,15,50,17],[49,18,50,18],[49,19,50,19],[44,8,45,10],[44,11,45,11],[41,22,42,24],[49,27,51,32],[50,0,53,0],[50,1,51,1],[50,2,51,4],[50,5,51,5],[52,33,54,33],[55,27,57,31],[55,32,57,32],[52,1,53,1],[52,2,53,4],[52,5,53,5],[52,7,53,7],[52,8,53,10],[52,11,53,11],[50,6,53,6],[50,7,51,7],[50,8,51,10],[50,11,51,11],[50,12,51,12],[57,15,58,17],[52,27,54,31],[52,32,54,32],[56,8,57,10],[56,11,57,11],[56,12,57,12],[62,0,65,0],[62,1,63,1],[62,2,63,4],[62,5,63,5],[62,6,65,6],[62,7,63,7],[56,0,59,0],[56,1,57,1],[56,2,57,4],[56,5,57,5],[56,6,59,6],[56,7,57,7],[64,1,65,1],[64,2,65,4],[64,5,65,5],[64,7,65,7],[58,1,59,1],[58,2,59,4],[58,5,59,5],[58,7,59,7],[68,0,71,0],[74,8,75,10],[74,11,75,11],[74,12,75,12],[73,15,74,17],[73,18,74,18],[68,8,69,10],[68,11,69,11],[70,1,71,1],[70,4,71,4],[70,5,71,5],[70,7,71,7],[70,8,71,10],[70,11,71,11],[68,1,69,1],[68,4,69,4],[74,0,77,0],[74,1,75,1],[74,5,75,5],[74,6,77,6],[74,7,75,7],[68,5,69,5],[68,6,71,6],[68,7,69,7],[77,28,80,28],[77,29,78,31],[77,32,78,32],[79,29,80,31],[79,32,80,32],[80,1,81,1],[80,5,81,5],[80,6,83,6],[83,15,84,17],[83,18,84,18],[83,19,84,19],[80,7,81,7],[80,27,81,27],[73,2,78,4],[86,0,89,0],[86,1,87,1],[86,6,89,6],[86,7,87,7],[86,8,87,10],[82,11,83,11],[82,12,83,12],[80,0,83,0],[80,2,81,4],[86,12,87,12],[88,1,89,1],[88,5,89,5],[88,7,89,7],[88,8,89,10],[88,11,89,11],[88,12,89,12],[85,2,86,5],[80,8,81,10],[82,1,83,1],[82,5,83,5],[82,7,83,7],[82,8,83,10],[104,4,105,4],[98,8,99,10],[98,11,99,11],[98,12,99,12],[95,14,98,14],[95,15,96,17],[92,0,95,0],[92,1,93,1],[92,5,93,5],[92,6,95,6],[92,7,93,7],[92,8,93,10],[94,1,95,1],[94,7,95,7],[94,8,95,10],[95,2,96,4],[91,2,92,4],[98,0,101,0],[98,1,99,1],[98,5,99,5],[98,6,101,6],[98,7,99,7],[101,15,102,15],[92,11,93,11],[42,8,43,11],[48,8,49,11],[98,27,101,32],[100,1,101,1],[100,5,101,5],[100,7,101,7],[100,8,101,10],[100,11,101,11],[100,12,101,12],[97,18,98,18],[97,19,98,19],[94,27,97,32],[95,18,96,18],[95,19,96,19],[97,15,98,17],[96,8,97,11],[75,32,76,32],[76,1,77,1],[76,5,77,5],[76,7,77,7],[76,8,77,10],[76,11,77,11],[76,12,77,12],[81,32,82,32],[94,11,95,11],[94,12,95,12],[89,21,92,21],[89,22,90,24],[89,25,90,25],[89,26,90,26],[91,22,92,24],[91,25,92,25],[85,15,86,17],[85,18,86,18],[85,19,86,19],[86,11,87,11],[83,14,86,14],[90,8,91,11],[91,26,92,26],[92,12,93,12],[93,15,94,18],[84,8,85,11],[58,8,59,10],[58,11,59,11],[58,12,59,12],[59,19,60,19],[61,15,62,17],[61,18,62,18],[61,19,62,19],[59,14,62,14],[65,22,66,24],[65,21,68,21],[65,25,66,25],[65,26,66,26],[67,22,68,24],[67,25,68,25],[67,26,68,26],[81,15,82,18],[64,8,65,10],[64,11,65,11],[64,12,65,12],[63,22,64,24],[71,14,74,14],[35,8,36,11],[54,8,55,11],[60,8,61,11],[66,8,67,11],[87,22,88,25],[26,29,27,31],[59,15,60,17],[59,18,60,18],[52,12,53,12],[69,15,70,18],[45,15,46,18],[71,15,72,17],[71,18,72,18],[62,8,63,10],[62,11,63,11],[62,12,63,12],[72,8,73,11],[78,8,79,11],[41,25,42,25],[41,26,42,26],[80,11,81,11],[80,12,81,12],[71,19,72,19],[73,19,74,19]]}
[{"$f":"Eigaben!Z3","v":"37. Schweizer Cup Männer 2025"},{"$nulls":30},"Cupkommission CUPKO"]
[]
[]
[null,{"$f":"Eigaben!Z8","v":"2025-04-07"},null,"-",{"$f":"Eigaben!AA8","v":"2025-04-25"},null,null,null,"Mo. 05. Mai. 2025","-",{"$f":"Eigaben!AA9","v":"2025-06-13"},null,null,null,{"$f":"Eigaben!Z10","v":"2025-06-23"},null,"-",{"$f":"Eigaben!AA10","v":"2025-07-18"},null,null,null,{"$f":"Eigaben!Z11","v":"2025-07-28"},null,"-",{"$f":"Eigaben!AA11","v":"2025-08-15"},null,null,null,{"$f":"Eigaben!Z12","v":"2025-08-18"},null,"-",{"$f":"Eigaben!AA12","v":"2025-09-05"}]
[null,null,"Vorrunde",{"$nulls":5},"1/16  - Finals",{"$nulls":6},"1/8 - Finals",{"$nulls":6},"1/4 - Finals",{"$nulls":6},"1/2 - Finals"]
[null,null," 6:11/ 15:14/11: 9/ 11: 8/ 4:11/ 9:11/ 4:11/ 11: 8/ 7:11",{"$nulls":5},{"$f":"zusammenfassung_25!H4","v":" 6:11/ 15:14/11: 9/ 11: 8/ 4:11/ 9:11/ 4:11/ 11: 8/ 7:11"}]
[]
["A",45,{"$f":"IF(B8=0,\" \",VLOOKUP(B8,Eigaben!$Y$54:$Z$97,2))","v":"STV Töss ( 2. Liga )"},null,null,{"$f":"zusammenfassung_25!F4","v":4},1,{"$f":"Eigaben!F28","v":56},{"$f":"IF(H8=0,\" \",VLOOKUP($H8,Eigaben!$Y$17:$Z$94,2,1))","v":"TSV Jona 1( NLB O )"},null,null,{"$f":"Eigaben!L28","v":5}]
[{"$nulls":15},{"$f":"zusammenfassung_25!H31","v":"11: 8/11: 7/ 7:11/11: 7/11: 6/13:11"}]
[null,46,{"$f":"IF(B10=0,\" \",VLOOKUP(B10,Eigaben!$Y$54:$Z$97,2))","v":"SUS Widnau   ( 2. Liga F )"},null,null,{"$f":"zusammenfassung_25!G4","v":5},null,{"$f":"Eigaben!G28","v":71},{"$f":"IF(H10=0,\" \",VLOOKUP($H10,Eigaben!$Y$17:$Z$94,2,1))","v":"STV Wigoltingen   ( NLA )"},null,null,{"$f":"Eigaben!N28","v":2}]
[{"$nulls":14},17,{"$f":"IF($L8=$L10,\" \",IF($L8>$L10,$I8,$I10))","v":"TSV Jona 1( NLB O )"},null,null,{"$f":"Eigaben!L28","v":5},"H"]
[null,null,{"$f":"zusammenfassung_25!H5","v":"11: 9/ 11: 8/ 11:5/ 14:12/ 11:08"},{"$nulls":5},"10:12/13:11/11: 7/ 6:11/ 8:11/11:13/ 7:11"]
[{"$nulls":15},{"$f":"IF($L14=$L16,\" \",IF($L14>$L16,$I14,$I16))","v":"STV Dozwil ( NLB O )"},null,null,{"$f":"Eigaben!N28","v":2}]
["B",40,{"$f":"IF(B14=0,\" \",VLOOKUP(B14,Eigaben!$Y$54:$Z$97,2))","v":"STV Elgg ( 2. Liga )"},null,null,{"$f":"IF(Eigaben!L7=0,\"\",Eigaben!L7)","v":5},2,{"$f":"Eigaben!F29","v":58},{"$f":"IF(H14=0,\" \",VLOOKUP($H14,Eigaben!$Y$17:$Z$94,2,1))","v":"TV Oberwinterthur  (NLB )"},null,null,{"$f":"IF(Eigaben!L29=0,\" \",Eigaben!L29)","v":2}]
[{"$nulls":22}," 4:11/11: 8/ 9:11/12:14/ 7:11/13:15 "]
[null,43,"SUS Widnau   ( 2. Liga F )",null,null,{"$f":"zusammenfassung_25!G5","v":0},null,{"$f":"Eigaben!G29","v":54},{"$f":"IF(H16=0,\" \",VLOOKUP($H16,Eigaben!$Y$17:$Z$94,2,1))","v":"STV Dozwil ( NLB O )"},null,null,{"$f":"IF(Eigaben!N29=0,\" \",Eigaben!N29)","v":5}]
[{"$nulls":21},25,{"$f":"IF($S11=$S13,\" \",IF($S11>$S13,$P11,$P13))","v":"TSV Jona 1( NLB O )"},null,null,{"$f":"Eigaben!L64","v":1},"H"]
[{"$nulls":8},{"$f":"zusammenfassung_25!H14","v":"12:14/11: 9/ 8:11/14:15/11: 9/15:12/ 8:11/10:12"}]
[{"$nulls":22},{"$f":"IF($S23=$S25,\" \",IF($S23>$S25,$P23,$P25))","v":"SVD Diepoldsau-Schmitter (NLA)"},null,null,{"$f":"Eigaben!N64","v":5}]
["C",null,{"$f":"IF(B20=0,\" \",VLOOKUP(B20,Eigaben!$Y$54:$Z$97,2))","v":" "},null,null,{"$f":"IF(Eigaben!$L8=0,\"\",Eigaben!$L8)","v":""},3,{"$f":"Eigaben!F30","v":42},{"$f":"IF(H20=0,\" \",VLOOKUP($H20,Eigaben!$Y$17:$Z$94,2,1))","v":"STV Felben-W.hausen ( 2. Liga )"},null,null,{"$f":"Eigaben!L30","v":3}]
[{"$nulls":15},"10:12/10:12/  9:11/15:14/11:13/11: 4/ 7:11"]
[null,null,{"$f":"IF(B22=0,\" \",VLOOKUP(B22,Eigaben!$Y$54:$Z$97,2))","v":" "},{"$nulls":4},{"$f":"Eigaben!G30","v":59},{"$f":"IF(H22=0,\" \",VLOOKUP($H22,Eigaben!$Y$17:$Z$94,2,1))","v":"STV Rickenbach-Wilen 2 ( NLB )"},null,null,{"$f":"IF(Eigaben!N30=0,\"\",Eigaben!N30)","v":5}]
[{"$nulls":14},18,{"$f":"IF($L20=$L22,\" \",IF($L20>$L22,$I20,$I22))","v":"STV Rickenbach-Wilen 2 ( NLB )"},null,null,{"$f":"IF(Eigaben!$L51=0,\"\",Eigaben!L$51)","v":2}]
[{"$nulls":8},{"$f":"zusammenfassung_25!H15","v":" 8:11/11: 8/11: 3/11: 6/ 8:11/10:12/ 8:11/ 8:11 "}]
[{"$nulls":15},{"$f":"IF($L26=$L28,\" \",IF($L26>$L28,$I26,$I28))","v":"SVD Diepoldsau-Schmitter (NLA)"},null,null,{"$f":"IF(Eigaben!$N51=0,\"\",Eigaben!$N51)","v":5},"H"]
["D",null,{"$f":"IF(B26=0,\" \",VLOOKUP(B26,Eigaben!$Y$54:$Z$97,2))","v":" "},null,null,{"$f":"IF(Eigaben!$L9=0,\"\",Eigaben!$L9)","v":""},4,{"$f":"Eigaben!F31","v":55},{"$f":"IF(H26=0,\" \",VLOOKUP($H26,Eigaben!$Y$17:$Z$94,2,1))","v":"FG Elgg-Ettenhausen 2 ( NLB O )"},null,null,{"$f":"IF(Eigaben!L31=0,\"\",Eigaben!L31)","v":3}]
[{"$nulls":29},{"$f":"zusammenfassung_25!H49","v":"13:11/ 8/10:12/ 6:11/ 9:11/ 5:11/13:15"}]
[null,null,{"$f":"IF(B28=0,\" \",VLOOKUP(B28,Eigaben!$Y$54:$Z$97,2))","v":" "},{"$nulls":4},65,{"$f":"IF(H28=0,\" \",VLOOKUP($H28,Eigaben!$Y$17:$Z$94,2,1))","v":"SVD Diepoldsau-Schmitter (NLA)"},null,null,{"$f":"IF(Eigaben!N31=0,\"\",Eigaben!N31)","v":5},{"$nulls":15},"H"]
[{"$nulls":28},29,{"$f":"IF($Z17=$Z19,\" \",IF($Z17>$Z19,$W17,$W19))","v":"SVD Diepoldsau-Schmitter (NLA)"},null,null,{"$f":"Eigaben!L73","v":1}]
[{"$nulls":8},"10:12/12:10/ 9:11/ 7:11/ 9:11/10:12"]
[{"$nulls":29},{"$f":"IF($Z42=$Z44,\" \",IF($Z42>$Z44,$W42,$W44))","v":"STV Affeltrangen  ( NLA )"},null,null,{"$f":"Z19","v":5}]
["E",null,{"$f":"IF(B32=0,\" \",VLOOKUP(B32,Eigaben!$Y$54:$Z$97,2))","v":" "},null,null,{"$f":"IF(Eigaben!$L10=0,\"\",Eigaben!$L10)","v":""},5,53,{"$f":"IF(H32=0,\" \",VLOOKUP($H32,Eigaben!$Y$17:$Z$94,2,1))","v":"STV Dägerlen ( NLB O )"},null,null,{"$f":"IF(Eigaben!L32=0,\"\",Eigaben!L32)","v":1}]
[{"$nulls":15},{"$f":"zusammenfassung_25!H33","v":"11: 5/12:10/13:15/10:12/10:12/11: 8/11: 5/ 8:11/12:10"}]
[null,null,{"$f":"IF(B34=0,\" \",VLOOKUP(B34,Eigaben!$Y$54:$Z$97,2))","v":" "},{"$nulls":4},{"$f":"67","v":67},{"$f":"IF(H34=0,\" \",VLOOKUP($H34,Eigaben!$Y$17:$Z$94,2,1))","v":"FG Fricktal ( NLA  )"},null,null,{"$f":"IF(Eigaben!N32=0,\"\",Eigaben!N32)","v":5}]
[{"$nulls":14},19,{"$f":"IF($L32=$L34,\" \",IF($L32>$L34,$I32,$I34))","v":"FG Fricktal ( NLA  )"},null,null,{"$f":"Eigaben!N52","v":4},"H"]
[{"$nulls":8},{"$f":"zusammenfassung_25!H33","v":"11: 5/12:10/13:15/10:12/10:12/11: 8/11: 5/ 8:11/12:10"}]
[{"$nulls":15},{"$f":"IF($L38=$L40,\" \",IF($L38>$L40,$I38,$I40))","v":"FBV Ettenhausen ( 2. Liga S )"},null,null,{"$f":"IF(Eigaben!$L52=0,\"\",Eigaben!$L52)","v":5}]
["F",null,{"$f":"IF(B38=0,\" \",VLOOKUP(B38,Eigaben!$Y$54:$Z$97,2))","v":" "},null,null,{"$f":"IF(Eigaben!$L11=0,\"\",Eigaben!$L11)","v":""},6,41,{"$f":"IF(H38=0,\" \",VLOOKUP($H38,Eigaben!$Y$17:$Z$94,2,1))","v":"FBV Ettenhausen ( 2. Liga S )"},null,null,{"$f":"IF(Eigaben!L33=0,\"\",Eigaben!L33)","v":5}]
[{"$nulls":31},"Ersatz"]
[null,null,{"$f":"IF(B40=0,\" \",VLOOKUP(B40,Eigaben!$Y$54:$Z$97,2))","v":" "},null,null,{"$f":"IF(Eigaben!$N11=0,\"\",Eigaben!$N11)","v":""},null,50,{"$f":"IF(H40=0,\" \",VLOOKUP($H40,Eigaben!$Y$17:$Z$94,2,1))","v":"TSV Jona 2  ( 1. Liga O )  "},null,null,{"$f":"IF(Eigaben!N33=0,\"\",Eigaben!N33)","v":2},{"$nulls":10},{"$f":"zusammenfassung_25!H43","v":"11: 6/ 7:11/ 9:11/ 9:11/ 9:11/ 9:11"}]
[{"$nulls":21},26,{"$nulls":6},{"$f":"Eigaben!Z13","v":"2025-09-20"},null,null,{"$f":"Eigaben!Z14","v":"2025-09-27"}]
[{"$nulls":22},{"$f":"IF($S35=$S37,\" \",IF($S35>$S37,$P35,$P37))","v":"FBV Ettenhausen ( 2. Liga S )"},null,null,{"$f":"IF(Eigaben!L65=0,\" \",Eigaben!L65)","v":1},"H"]
[{"$nulls":8},{"$f":"zusammenfassung_25!H18","v":" 9:11/11:13/10:12/11: 5/11: 6/11: 8/ 9:11/11: 6/11:13 "}]
[{"$nulls":22},{"$f":"IF($S48=$S50,\" \",IF($S48>$S50,$P48,$P50))","v":"STV Affeltrangen  ( NLA )"},null,null,{"$f":"Eigaben!N65","v":5}]
["G",null,{"$f":"Eigaben!H12","v":""},null,null,{"$f":"IF(Eigaben!$L12=0,\"\",Eigaben!$L12)","v":""},7,{"$f":"Eigaben!F34","v":46},{"$f":"IF(H45=0,\" \",VLOOKUP($H45,Eigaben!$Y$17:$Z$94,2,1))","v":"SUS Widnau   ( 2. Liga F )"},null,null,{"$f":"IF(Eigaben!L34=0,\"\",Eigaben!L34)","v":4}]
[{"$nulls":15}," 9:11/11: 6/ 6:11/11: 9/ 8:11/12:10/ 8:11/14:15",{"$nulls":11},{"$f":"Eigaben!Z4","v":"37. Final Schweizer Cup 2025"}]
[null,null,{"$f":"Eigaben!K12","v":""},null,null,{"$f":"IF(Eigaben!$N12=0,\"\",Eigaben!$N12)","v":""},null,64,{"$f":"IF(H47=0,\" \",VLOOKUP($H47,Eigaben!$Y$17:$Z$94,2,1))","v":"STV Affeltrangen  ( NLA )"},null,null,{"$f":"IF(Eigaben!N34=0,\"\",Eigaben!N34)","v":5}]
[{"$nulls":14},20,{"$f":"IF($L45=$L47,\" \",IF($L45>$L47,$I45,$I47))","v":"STV Affeltrangen  ( NLA )"},null,null,{"$f":"IF(Eigaben!$N$53=0,\"\",Eigaben!$N$53)","v":5}]
[{"$nulls":8},{"$f":"zusammenfassung_25!H19","v":" 7:11/11: 8/ 7:11/11:13/11:13/ 8:11"}]
[{"$nulls":15},{"$f":"IF($L51=$L53,\" \",IF($L51>$L53,$I51,$I53))","v":"SUS Widnau   ( NLA )"},null,null,{"$f":"IF(Eigaben!$L$53=0,\"\",Eigaben!$L$53)","v":3},"H",{"$nulls":7},"Berlingen Schulhaus"]
["H",null,{"$f":"Eigaben!H13","v":""},null,null,{"$f":"IF(Eigaben!$L13=0,\"\",Eigaben!$L13)","v":""},8,{"$f":"Eigaben!F35","v":38},{"$f":"IF(H51=0,\" \",VLOOKUP($H51,Eigaben!$Y$17:$Z$94,2,1))","v":"TSV Waldkirch ( 3. Liga F )"},null,null,{"$f":"IF(Eigaben!L35=0,\"\",Eigaben!L35)","v":1}]
[]
[null,null,{"$f":"Eigaben!K13","v":""},null,null,{"$f":"IF(Eigaben!$N13=0,\"\",Eigaben!$N13)","v":""},null,70,{"$f":"IF(H53=0,\" \",VLOOKUP($H53,Eigaben!$Y$17:$Z$94,2,1))","v":"SUS Widnau   ( NLA )"},null,null,{"$f":"IF(Eigaben!N35=0,\"\",Eigaben!N35)","v":5},{"$nulls":15},{"$f":"IF(AG29=AG31,\" \",IF(AG29>AG31,AD29,AD31))","v":"STV Affeltrangen  ( NLA )"}]
[]
[{"$nulls":8},{"$f":"zusammenfassung_25!H20","v":" 7:11/13:15/11:13/ 6:11 7:11"}]
[{"$nulls":27},{"$f":"IF(AG78=AG80,\" \",IF(AG78>AG80,AD78,AD80))","v":" "},{"$nulls":4},{"$f":"IF(Eigaben!N83=0,\" \",Eigaben!N83)","v":" "}]
["I",null,{"$f":"Eigaben!H14","v":""},null,null,{"$f":"IF(Eigaben!$L14=0,\"\",Eigaben!$L14)","v":""},9,{"$f":"Eigaben!F36","v":51},{"$f":"IF(H57=0,\" \",VLOOKUP($H57,Eigaben!$Y$17:$Z$94,2,1))","v":"STV Spreitenbach 1 ( 1. Liga W )"},null,null,0]
[{"$nulls":15},"10:12/10:12/10:12/11: 6/6:11/ 3:11"]
[null,null,{"$f":"Eigaben!K14","v":""},null,null,{"$f":"IF(Eigaben!$N14=0,\"\",Eigaben!$N14)","v":""},null,68,{"$f":"IF(H59=0,\" \",VLOOKUP($H59,Eigaben!$Y$17:$Z$94,2,1))","v":"STV Oberentfelden   ( NLA )"},null,null,{"$f":"IF(Eigaben!N36=0,\"\",Eigaben!N36)","v":5}]
[{"$nulls":14},21,{"$f":"IF($L57=$L59,\" \",IF($L57>$L59,$I57,$I59))","v":"STV Oberentfelden   ( NLA )"},null,null,{"$f":"Eigaben!N54","v":5},"H"]
[{"$nulls":8},{"$f":"zusammenfassung_25!H21","v":" 6:11/ 6:11/ 7:11/ 8:11/ 9:11"}]
[{"$nulls":15},{"$f":"IF($L63=$L65,\" \",IF($L63>$L65,$I63,$I65))","v":"STV Vordemwald 1 ( NLB W )"},null,null,{"$f":"IF(Eigaben!$L$54=0,\"\",Eigaben!$L$54)","v":1}]
["J",null,{"$f":"Eigaben!H15","v":""},null,null,{"$f":"IF(Eigaben!$L15=0,\"\",Eigaben!$L15)","v":""},10,{"$f":"Eigaben!F37","v":49},{"$f":"IF(H63=0,\" \",VLOOKUP($H63,Eigaben!$Y$17:$Z$94,2,1))","v":"FB Burgdorf (1. Liga  W)"},null,null,0]
[{"$nulls":22},"11: 3/13:11/11: 7/12:10/11: 9"]
[null,null,{"$f":"Eigaben!K15","v":""},null,null,{"$f":"IF(Eigaben!$N15=0,\"\",Eigaben!$N15)","v":""},null,63,{"$f":"IF(H65=0,\" \",VLOOKUP($H65,Eigaben!$Y$17:$Z$94,2,1))","v":"STV Vordemwald 1 ( NLB W )"},null,null,{"$f":"IF(Eigaben!N37=0,\"\",Eigaben!N37)","v":5}]
[{"$nulls":21},27,{"$f":"IF($S60=$S62,\" \",IF($S60>$S62,$P60,$P62))","v":"STV Oberentfelden   ( NLA )"},null,null,{"$f":"Eigaben!N66","v":0}]
[{"$nulls":8},{"$f":"zusammenfassung_25!H22","v":"11: 6/11: 9/ 9:11/11: 5/11: 3/11 :5"}]
[{"$nulls":22},{"$f":"IF($S72=$S74,\" \",IF($S72>$S74,$P72,$P74))","v":"STV Oberentfelden   ( 2. Liga )"},null,null,{"$f":"Eigaben!L66","v":5},"H"]
[{"$nulls":6},11,60,{"$f":"IF(H69=0,\" \",VLOOKUP($H69,Eigaben!$Y$17:$Z$94,2,1))","v":"STV Schlieren ( NLB O )"},null,null,{"$f":"IF(Eigaben!L38=0,\"\",Eigaben!L38)","v":5}]
[{"$nulls":15},"11: 4/11: 3/11: 6/12:10/11: 8"]
[{"$nulls":7},62,{"$f":"IF(H71=0,\" \",VLOOKUP($H71,Eigaben!$Y$17:$Z$94,2,1))","v":"FB Schwellbrunn ( NLB  O)"},null,null,{"$f":"IF(Eigaben!N38=0,\"\",Eigaben!N38)","v":1}]
[{"$nulls":14},22,{"$f":"IF($L69=$L71,\" \",IF($L69>$L71,$I69,$I71))","v":"STV Schlieren ( NLB O )"},null,null,0]
[{"$nulls":8},{"$f":"zusammenfassung_25!H23","v":"11: 3/11: 4/11: 6/11: 5/11: 7"}]
[null,null,"Die unterklassige Mannschaft hat - mit Ausnahme beim Cupfinal - Heimvorteil, sofern sie über einen Spielplatz verfügt (für evtl. Platzabtausch vgl. Ziff. 6.2).",{"$nulls":12},{"$f":"IF($L75=$L77,\" \",IF($L75>$L77,$I75,$I77))","v":"STV Oberentfelden   ( 2. Liga )"},null,null,{"$f":"IF(Eigaben!L55=0,\" \",Eigaben!L55)","v":5},"H"]
[{"$nulls":6},12,44,{"$f":"IF(H75=0,\" \",VLOOKUP($H75,Eigaben!$Y$17:$Z$94,2,1))","v":"STV Oberentfelden   ( 2. Liga )"},null,null,{"$f":"IF(Eigaben!L39=0,\"\",Eigaben!L39)","v":5}]
[]
[{"$nulls":7},57,{"$f":"IF(H77=0,\" \",VLOOKUP($H77,Eigaben!$Y$17:$Z$94,2,1))","v":"STV Kirchberg  ( NLB W )"},null,null,0]
[{"$nulls":28},30,{"$f":"IF($Z66=$Z68,\" \",IF($Z66>$Z68,$W66,$W68))","v":"STV Oberentfelden   ( 2. Liga )"},null,null,{"$f":"IF(Eigaben!L74=0,\" \",Eigaben!L74)","v":" "}]
[{"$nulls":8},{"$f":"zusammenfassung_25!H24","v":"11: 7/ 9:11/11: 8/15:14/11: 8/ 9:11/11: 6"}]
[{"$nulls":29},{"$f":"IF($Z90=$Z92,\" \",IF($Z90>$Z92,$W90,$W92))","v":"FG Elgg-Ettenhausen 1 ( NLA )"},null,null,{"$f":"IF(Eigaben!N74=0,\" \",Eigaben!N74)","v":" "}]
[null,null,"C = CUP Siger / F - Finalist",null,null,null,13,48,{"$f":"IF(H81=0,\" \",VLOOKUP($H81,Eigaben!$Y$17:$Z$94,2,1))","v":"STV Alpnach  ( 1. Liga ) W"},null,null,{"$f":"IF(Eigaben!L40=0,\"\",Eigaben!L40)","v":5},{"$nulls":15},"H"]
[{"$nulls":15}," 7:11/11:13/11: 6/ 8:11/11: 6/ 4:11/ 7:11"]
[{"$nulls":7},61,{"$f":"IF(H83=0,\" \",VLOOKUP($H83,Eigaben!$Y$17:$Z$94,2,1))","v":"STV Schlossrued ( NLB W )"},null,null,{"$f":"IF(Eigaben!N40=0,\"\",Eigaben!N40)","v":2}]
[{"$nulls":14},23,{"$f":"IF($L81=$L83,\" \",IF($L81>$L83,$I81,$I83))","v":"STV Alpnach  ( 1. Liga ) W"},null,null,{"$f":"Eigaben!L56","v":2}]
[{"$nulls":8},{"$f":"zusammenfassung_25!H25","v":"12:14/ 6:11/10:12/ 8:11/ 8:11"}]
[null,null,"H = Heimvorteil bei gleicher Liga",{"$nulls":12},{"$f":"IF($L87=$L89,\"\",IF($L87>$L89,$I87,$I89))","v":"FG Rickenbach-Wilen ( NLA )"},null,null,{"$f":"Eigaben!N56","v":5},"H"]
[{"$nulls":6},14,39,{"$f":"IF(H87=0,\" \",VLOOKUP($H87,Eigaben!$Y$17:$Z$94,2,1))","v":"MR Beringen ( 2. Liga )"},null,null,0]
[{"$nulls":22},"11: 7/11: 9/11: 9/ 5:11/ 5:11/ 6:11/ 6:11/11:13"]
[{"$nulls":7},69,{"$f":"IF(H89=0,\" \",VLOOKUP($H89,Eigaben!$Y$17:$Z$94,2,1))","v":"FG Rickenbach-Wilen ( NLA )"},null,null,{"$f":"IF(Eigaben!N41=0,\"\",Eigaben!N41)","v":5}]
[{"$nulls":21},28,{"$f":"IF($S84=$S86,\" \",IF($S84>$S86,$P84,$P86))","v":"FG Rickenbach-Wilen ( NLA )"},null,null,{"$f":"Eigaben!L67","v":3},"H"]
[{"$nulls":8},{"$f":"zusammenfassung_25!H26","v":"11: 8/ 3:11/ 7:11/ 7:11/ 14:12/ 6:11/ 7:11"}]
[null,null,"Teilnehmer Schweizer Cup 2025  ",{"$nulls":19},{"$f":"IF($S96=$S98,\" \",IF($S96>$S98,$P96,$P98))","v":"FG Elgg-Ettenhausen 1 ( NLA )"},null,null,{"$f":"IF(Eigaben!N67=0,\" \",Eigaben!N67)","v":5}]
[{"$nulls":6},15,20,{"$f":"Eigaben!H42","v":"STV Elgg ( 2. Liga )"},null,null,{"$f":"IF(Eigaben!L42=0,\"\",Eigaben!L42)","v":2}]
[{"$nulls":15},"11: 7/11: 7/ 8:11/10:12/ 9:11/10:12/11 :7 11:7/ 7:11"]
[{"$nulls":7},{"$f":"Eigaben!G42","v":47},{"$f":"IF(H95=0,\" \",VLOOKUP($H95,Eigaben!$Y$17:$Z$94,2,1))","v":"TV Widnau ( 2. Liga F ) "},null,null,{"$f":"IF(Eigaben!N42=0,\"\",Eigaben!N42)","v":5},{"$nulls":15},"Cup-Sieger 2025"]
[null,null,"Total  Mannschaften: 34",{"$nulls":11},24,{"$f":"IF($L93=$L95,\" \",IF($L93>$L95,$I93,$I95))","v":"TV Widnau ( 2. Liga F ) "},null,null,{"$f":"IF(Eigaben!$L$57=0,\"\",Eigaben!$L$57)","v":4},"H"]
[{"$nulls":8},{"$f":"zusammenfassung_25!H27","v":"07:11/ 6:11/ 7:11/ 8:11/ 11: 9/ 7:11"}]
[{"$nulls":15},{"$f":"IF($L99=$L101,\" \",IF($L99>$L101,$I99,$I101))","v":"FG Elgg-Ettenhausen 1 ( NLA )"},null,null,{"$f":"IF(Eigaben!$N$57=0,\"\",Eigaben!$N$57)","v":5}]
[{"$nulls":6},16,52,{"$f":"IF(H99=0,\" \",VLOOKUP($H99,Eigaben!$Y$17:$Z$94,2,1))","v":"STV Vordemwald 2  ( 1. Liga W)"},null,null,{"$f":"IF(Eigaben!L43=0,\"\",Eigaben!L43)","v":1},{"$nulls":15},{"$f":"IF(AG53=AG56,\" \",IF(AG53>AG56,AB53,AB56))","v":" "}]
[]
[{"$nulls":7},66,{"$f":"IF(H101=0,\" \",VLOOKUP($H101,Eigaben!$Y$17:$Z$94,2,1))","v":"FG Elgg-Ettenhausen 1 ( NLA )"},null,null,{"$f":"IF(Eigaben!N43=0,\"\",Eigaben!N43)","v":5}]

{"sheet":"Aus_Losung","index":5,"n_rows":202,"n_cols":4,"rows_kept":202,"cut":false,"hidden":true,"merged":[]}
[{"$f":"Eigaben!Y54","v":38},{"$f":"Eigaben!Z54","v":"TSV Waldkirch ( 3. Liga F )"},null,54]
[]
[]
[{"$f":"A1+1","v":39},{"$f":"Eigaben!Z55","v":"MR Beringen ( 2. Liga )"},null,55]
[]
[]
[{"$f":"A4+1","v":40},{"$f":"Eigaben!Z56","v":"STV Elgg ( 2. Liga )"},null,56]
[]
[]
[{"$f":"A7+1","v":41},{"$f":"Eigaben!Z57","v":"FBV Ettenhausen ( 2. Liga S )"},null,57]
[]
[]
[{"$f":"A10+1","v":42},{"$f":"Eigaben!Z58","v":"STV Felben-W.hausen ( 2. Liga )"},null,58]
[]
[]
[{"$f":"A13+1","v":43},{"$f":"Eigaben!Z59","v":"STV Müllheim ( 2. L )"},null,59]
[]
[]
[{"$f":"A16+1","v":44},{"$f":"Eigaben!Z60","v":"STV Oberentfelden   ( 2. Liga )"},null,60]
[]
[]
[{"$f":"A19+1","v":45},{"$f":"Eigaben!Z61","v":"STV Töss ( 2. Liga )"},null,61]
[]
[]
[{"$f":"A22+1","v":46},{"$f":"Eigaben!Z62","v":"SUS Widnau   ( 2. Liga F )"},null,62]
[]
[]
[{"$f":"A25+1","v":47},{"$f":"Eigaben!Z63","v":"TV Widnau ( 2. Liga F ) "},null,63]
[]
[]
[{"$f":"A28+1","v":48},{"$f":"Eigaben!Z64","v":"STV Alpnach  ( 1. Liga ) W"},null,64]
[]
[]
[{"$f":"A31+1","v":49},{"$f":"Eigaben!Z65","v":"FB Burgdorf (1. Liga  W)"},null,65]
[]
[]
[{"$f":"A34+1","v":50},{"$f":"Eigaben!Z66","v":"TSV Jona 2  ( 1. Liga O )  "},null,66]
[]
[]
[{"$f":"A37+1","v":51},{"$f":"Eigaben!Z67","v":"STV Spreitenbach 1 ( 1. Liga W )"},null,67]
[]
[]
[{"$f":"A40+1","v":52},{"$f":"Eigaben!Z68","v":"STV Vordemwald 2  ( 1. Liga W)"},null,68]
[]
[]
[{"$f":"A43+1","v":53},{"$f":"Eigaben!Z69","v":"STV Dägerlen ( NLB O )"},null,69]
[]
[]
[{"$f":"A46+1","v":54},{"$f":"Eigaben!Z70","v":"STV Dozwil ( NLB O )"},null,70]
[]
[]
[{"$f":"A49+1","v":55},{"$f":"Eigaben!Z71","v":"FG Elgg-Ettenhausen 2 ( NLB O )"},null,71]
[]
[]
[{"$f":"A52+1","v":56},{"$f":"Eigaben!Z72","v":"TSV Jona 1( NLB O )"},null,72]
[]
[]
[{"$f":"A55+1","v":57},{"$f":"Eigaben!Z73","v":"STV Kirchberg  ( NLB W )"},null,73]
[]
[]
[{"$f":"A58+1","v":58},{"$f":"Eigaben!Z74","v":"TV Oberwinterthur  (NLB )"},null,74]
[]
[]
[59,{"$f":"Eigaben!Z75","v":"STV Rickenbach-Wilen 2 ( NLB )"},null,75]
[]
[]
[60,{"$f":"Eigaben!Z76","v":"STV Schlieren ( NLB O )"},null,76]
[]
[]
[61,{"$f":"Eigaben!Z77","v":"STV Schlossrued ( NLB W )"},null,77]
[]
[]
[62,{"$f":"Eigaben!Z78","v":"FB Schwellbrunn ( NLB  O)"},null,78]
[]
[]
[63,{"$f":"Eigaben!Z79","v":"STV Vordemwald 1 ( NLB W )"},null,79]
[]
[]
[64,{"$f":"Eigaben!Z80","v":"STV Affeltrangen  ( NLA )"},null,80]
[]
[]
[65,{"$f":"Eigaben!Z81","v":"SVD Diepoldsau-Schmitter (NLA)"},null,81]
[]
[]
[66,{"$f":"Eigaben!Z82","v":"FG Elgg-Ettenhausen 1 ( NLA )"},null,82]
[]
[]
[67,{"$f":"Eigaben!Z83","v":"FG Fricktal ( NLA  )"},null,83]
[]
[]
[68,{"$f":"Eigaben!Z84","v":"STV Oberentfelden   ( NLA )"},null,84]
[]
[]
[69,{"$f":"Eigaben!Z85","v":"FG Rickenbach-Wilen ( NLA )"},null,85]
[]
[]
[70,{"$f":"Eigaben!Z86","v":"SUS Widnau   ( NLA )"},null,86]
[]
[]
[71,null,null,87]
[]
[]
[72,null,null,88]
[]
[]
[73,null,null,89]
[]
[]
[74,null,null,90]
[]
[]
[75]
[]
[]
[]
[]
[]
[]
[null," "]
{"$rows_empty":16}
[null,1]
[]
[null,2]
[]
[null,1]
[]
[null,2]
[]
[null,1]
[]
[null,2]
[]
[null,1]
[]
[null,2]
[]
[null,1]
[]
[null,2]
[]
[]
[null,1]
[]
[null,2]
[]
[null,1]
[]
[null,2]
[]
[null,1]
[]
[null,2]
[]
[null,1]
[]
[null,2]
[]
[]
[null,1]
[]
[null,2]
[]
[null,1]
[]
[null,2]
[]
[null,1]
[]
[null,2]
[]
[null,2]
[]
[null,1]
[]
[null,2]
[]
[null,2]
[]
[null,1]
[]
[null,2]
[]
[null,2]
[]
[null,1]
[]
[null,2]

{"sheet":"Leer","index":6,"n_rows":0,"n_cols":0,"rows_kept":0,"cut":false,"hidden":true,"merged":[]}

{"sheet":"CH Cup Tableau 2021 (2)","index":7,"n_rows":101,"n_cols":33,"rows_kept":101,"cut":false,"hidden":true,"merged":[[104,4,105,4],[98,11,99,11],[98,12,99,12],[98,27,101,32],[100,1,101,1],[100,5,101,5],[100,7,101,7],[100,8,101,10],[100,11,101,11],[100,12,101,12],[101,15,102,15],[98,0,101,0],[98,1,99,1],[98,5,99,5],[98,6,101,6],[98,7,99,7],[98,8,99,10],[94,1,95,1],[94,7,95,7],[94,8,95,10],[92,0,95,0],[92,1,93,1],[94,27,97,32],[95,2,96,4],[95,14,98,14],[95,15,96,17],[95,18,96,18],[91,2,92,4],[91,22,92,24],[91,25,92,25],[91,26,92,26],[92,5,93,5],[92,6,95,6],[92,7,93,7],[92,8,93,10],[95,19,96,19],[97,15,98,17],[97,18,98,18],[97,19,98,19],[94,11,95,11],[94,12,95,12],[86,0,89,0],[86,1,87,1],[86,6,89,6],[86,7,87,7],[86,8,87,10],[86,11,87,11],[88,1,89,1],[88,5,89,5],[88,7,89,7],[88,8,89,10],[86,12,87,12],[88,11,89,11],[88,12,89,12],[89,21,92,21],[89,22,90,24],[89,25,90,25],[89,26,90,26],[92,11,93,11],[92,12,93,12],[80,7,81,7],[80,8,81,10],[80,11,81,11],[80,12,81,12],[81,32,82,32],[82,1,83,1],[82,5,83,5],[82,7,83,7],[82,8,83,10],[82,11,83,11],[77,28,80,28],[77,29,78,31],[77,32,78,32],[79,29,80,31],[79,32,80,32],[82,12,83,12],[83,14,86,14],[83,15,84,17],[83,18,84,18],[83,19,84,19],[85,2,86,5],[85,15,86,17],[85,18,86,18],[85,19,86,19],[80,0,83,0],[80,1,81,1],[80,2,81,4],[80,5,81,5],[80,6,83,6],[74,8,75,10],[74,11,75,11],[74,12,75,12],[75,32,76,32],[76,1,77,1],[76,5,77,5],[76,7,77,7],[76,8,77,10],[76,11,77,11],[76,12,77,12],[74,0,77,0],[74,1,75,1],[74,2,78,4],[74,5,75,5],[74,6,77,6],[74,7,75,7],[71,14,74,14],[71,15,72,17],[71,18,72,18],[73,15,74,17],[73,18,74,18],[73,19,74,19],[68,8,69,10],[68,11,69,11],[70,1,71,1],[70,4,71,4],[70,5,71,5],[70,7,71,7],[70,8,71,10],[70,11,71,11],[68,0,71,0],[68,1,69,1],[68,4,69,4],[68,5,69,5],[68,6,71,6],[68,7,69,7],[65,21,68,21],[65,22,66,24],[65,25,66,25],[62,0,65,0],[61,18,62,18],[61,19,62,19],[71,19,72,19],[65,26,66,26],[67,22,68,24],[67,25,68,25],[67,26,68,26],[62,8,63,10],[62,11,63,11],[62,12,63,12],[64,1,65,1],[64,2,65,4],[64,5,65,5],[64,7,65,7],[64,8,65,10],[64,11,65,11],[64,12,65,12],[62,1,63,1],[62,2,63,4],[62,5,63,5],[62,6,65,6],[62,7,63,7],[59,14,62,14],[59,15,60,17],[59,18,60,18],[59,19,60,19],[61,15,62,17],[56,0,59,0],[56,1,57,1],[56,2,57,4],[56,5,57,5],[56,6,59,6],[56,7,57,7],[52,12,53,12],[52,27,54,31],[52,32,54,32],[56,8,57,10],[56,11,57,11],[56,12,57,12],[58,1,59,1],[58,2,59,4],[58,5,59,5],[58,7,59,7],[58,8,59,10],[58,11,59,11],[58,12,59,12],[52,33,54,33],[55,27,57,31],[55,32,57,32],[52,1,53,1],[52,2,53,4],[52,5,53,5],[52,7,53,7],[52,8,53,10],[52,11,53,11],[49,27,51,32],[50,0,53,0],[50,1,51,1],[50,2,51,4],[50,5,51,5],[50,6,53,6],[50,7,51,7],[50,8,51,10],[50,11,51,11],[50,12,51,12],[45,27,48,32],[46,1,47,1],[46,2,47,4],[46,5,47,5],[46,7,47,7],[46,8,47,10],[46,11,47,11],[44,0,47,0],[44,1,45,1],[44,2,45,4],[44,5,45,5],[44,6,47,6],[44,7,45,7],[46,12,47,12],[47,14,50,14],[47,15,48,17],[47,18,48,18],[47,19,48,19],[49,15,50,17],[49,18,50,18],[49,19,50,19],[44,8,45,10],[44,11,45,11],[44,12,45,12],[38,31,39,32],[39,1,40,1],[39,2,40,4],[39,5,40,5],[39,7,40,7],[39,8,40,10],[39,11,40,11],[39,12,40,12],[40,21,44,21],[40,28,42,29],[40,31,42,32],[41,22,42,24],[41,25,42,25],[41,26,42,26],[43,22,44,24],[43,25,44,25],[43,26,44,26],[37,0,40,0],[37,1,38,1],[37,2,38,4],[37,5,38,5],[37,6,40,6],[37,7,38,7],[33,12,34,12],[34,14,37,14],[34,15,35,17],[33,1,34,1],[33,2,34,4],[33,5,34,5],[33,7,34,7],[31,0,34,0],[31,1,32,1],[31,2,32,4],[31,5,32,5],[31,6,34,6],[31,7,32,7],[37,8,38,10],[37,11,38,11],[37,12,38,12],[34,18,35,18],[34,19,35,19],[36,15,37,17],[36,18,37,18],[36,19,37,19],[31,8,32,10],[31,11,32,11],[31,12,32,12],[32,32,33,32],[33,8,34,10],[33,11,34,11],[27,12,28,12],[28,28,31,28],[28,29,29,31],[28,32,29,32],[30,29,31,31],[30,32,31,32],[25,8,26,10],[25,11,26,11],[25,12,26,12],[26,32,27,32],[22,14,25,14],[22,15,23,17],[22,18,23,18],[22,19,23,19],[24,15,25,17],[24,18,25,18],[24,19,25,19],[27,1,28,1],[27,2,28,4],[27,5,28,5],[27,7,28,7],[27,8,28,10],[27,11,28,11],[25,0,28,0],[25,1,26,1],[25,2,26,4],[25,5,26,5],[25,6,28,6],[25,7,26,7],[19,0,22,0],[19,1,20,1],[19,2,20,4],[19,5,20,5],[19,6,22,6],[19,7,20,7],[16,21,19,21],[16,22,17,24],[16,25,17,25],[13,0,16,0],[12,18,13,18],[12,19,13,19],[19,8,20,10],[19,11,20,11],[19,12,20,12],[21,1,22,1],[21,2,22,4],[21,5,22,5],[21,7,22,7],[21,8,22,10],[21,11,22,11],[21,12,22,12],[15,1,16,1],[15,2,16,4],[15,5,16,5],[15,7,16,7],[15,8,16,10],[15,11,16,11],[15,12,16,12],[13,1,14,1],[13,2,14,4],[13,5,14,5],[13,6,16,6],[13,7,14,7],[9,11,10,11],[9,12,10,12],[3,31,3,32],[5,8,5,10],[16,26,17,26],[18,22,19,24],[18,25,19,25],[18,26,19,26],[13,8,14,10],[13,11,14,11],[13,12,14,12],[10,14,13,14],[10,15,11,17],[10,18,11,18],[10,19,11,19],[12,15,13,17],[7,0,10,0],[7,1,8,1],[7,2,8,4],[7,5,8,5],[7,6,10,6],[7,7,8,7],[7,8,8,10],[7,11,8,11],[0,0,0,29],[3,1,3,2],[3,4,3,5],[3,6,3,8],[3,10,3,11],[3,14,3,15],[3,17,3,18],[3,21,3,22],[3,24,3,25],[3,28,3,29],[7,12,8,12],[9,1,10,1],[9,2,10,4],[9,5,10,5],[9,7,10,7],[9,8,10,10]]}
[{"$f":"Eigaben!Z3","v":"37. Schweizer Cup Männer 2025"},{"$nulls":30},"Cupkommission CUPKO"]
[]
[]
[null,{"$f":"Eigaben!Z8","v":"2025-04-07"},null,"-",{"$f":"Eigaben!AA8","v":"2025-04-25"},null,{"$f":"Eigaben!Z9","v":"2025-05-05"},null,null,"-",{"$f":"Eigaben!AA9","v":"2025-06-13"},null,null,null,{"$f":"Eigaben!Z10","v":"2025-06-23"},null,"-",{"$f":"Eigaben!AA10","v":"2025-07-18"},null,null,null,{"$f":"Eigaben!Z11","v":"2025-07-28"},null,"-",{"$f":"Eigaben!AA11","v":"2025-08-15"},null,null,null,{"$f":"Eigaben!Z12","v":"2025-08-18"},null,"-",{"$f":"Eigaben!AA12","v":"2025-09-05"}]
[]
[null,null,"Vorrunde",{"$nulls":5},"1/16  - Finals",{"$nulls":6},"1/8 - Finals",{"$nulls":6},"1/4 - Finals",{"$nulls":6},"1/2 - Finals"]
[]
["A",null,{"$f":"IF(Eigaben!H6=0,\"\",Eigaben!H6)","v":"STV Töss ( 2. Liga )"},null,null,{"$f":"IF(Eigaben!$L6=0,\"\",Eigaben!$L6)","v":4},1,{"$f":"Eigaben!F28","v":56},{"$f":"IF(H8=0,\" \",VLOOKUP($H8,Eigaben!$Y$17:$Z$94,2,1))","v":"TSV Jona 1( NLB O )"},null,null,{"$f":"Eigaben!L28","v":5}]
[]
[null,null,{"$f":"IF(Eigaben!K6=0,\"\",Eigaben!K6)","v":"SUS Widnau   ( 2. Liga F )"},null,null,{"$f":"IF(Eigaben!$N6=0,\"\",Eigaben!$N6)","v":5},null,{"$f":"Eigaben!G28","v":71},{"$f":"IF(H10=0,\" \",VLOOKUP($H10,Eigaben!$Y$17:$Z$94,2,1))","v":"STV Wigoltingen   ( NLA )"},null,null,{"$f":"IF(Eigaben!$N28=0,\"\",Eigaben!$N28)","v":2}]
[{"$nulls":14},17,{"$f":"IF($L8=$L10,\" \",IF($L8>$L10,$I8,$I10))","v":"TSV Jona 1( NLB O )"},null,null,{"$f":"IF(Eigaben!$N50=0,\"\",Eigaben!$N$50)","v":1}]
[]
[{"$nulls":15},{"$f":"IF($L14=$L16,\" \",IF($L14>$L16,$I14,$I16))","v":"STV Dozwil ( NLB O )"},null,null,{"$f":"IF(Eigaben!$L50=0,\"\",Eigaben!$L$50)","v":5},"H"]
["B",null,{"$f":"Eigaben!H7","v":"STV Elgg ( 2. Liga )"},null,null,0,2,11,{"$f":"IF(H14=0,\" \",VLOOKUP($H14,Eigaben!$Y$17:$Z$94,2,1))","v":" "},null,null,0]
[]
[null,null,{"$f":"Eigaben!K7","v":"STV Müllheim ( 2. L )"},null,null,{"$f":"IF(Eigaben!$N7=0,\"\",Eigaben!$N7)","v":""},null,{"$f":"Eigaben!G29","v":54},{"$f":"IF(H16=0,\" \",VLOOKUP($H16,Eigaben!$Y$17:$Z$94,2,1))","v":"STV Dozwil ( NLB O )"},null,null,{"$f":"Eigaben!N29","v":5}]
[{"$nulls":21},25,{"$f":"IF($S11=$S13,\" \",IF($S11>$S13,$P11,$P13))","v":"STV Dozwil ( NLB O )"},null,null,{"$f":"IF(Eigaben!$L64=0,\"\",Eigaben!$L$64)","v":1},"H"]
[]
[{"$nulls":22},{"$f":"IF($S23=$S25,\" \",IF($S23>$S25,$P23,$P25))","v":"SVD Diepoldsau-Schmitter (NLA)"},null,null,{"$f":"IF(Eigaben!$N64=0,\"\",Eigaben!$N$64)","v":5}]
["C",null,{"$f":"Eigaben!H8","v":""},null,null,{"$f":"IF(Eigaben!$L8=0,\"\",Eigaben!$L8)","v":""},3,41,{"$f":"IF(H20=0,\" \",VLOOKUP($H20,Eigaben!$Y$17:$Z$94,2,1))","v":"FBV Ettenhausen ( 2. Liga S )"},null,null,{"$f":"IF(Eigaben!L30=0,\"\",Eigaben!L30)","v":3}]
[]
[null,null,{"$f":"Eigaben!K8","v":""},null,null,{"$f":"IF(Eigaben!$N8=0,\"\",Eigaben!$N8)","v":""},null,{"$f":"Eigaben!G30","v":59},{"$f":"IF(H22=0,\" \",VLOOKUP($H22,Eigaben!$Y$17:$Z$94,2,1))","v":"STV Rickenbach-Wilen 2 ( NLB )"},null,null,{"$f":"IF(Eigaben!N30=0,\"\",Eigaben!N30)","v":5}]
[{"$nulls":14},18,{"$f":"IF($L20=$L22,\" \",IF($L20>$L22,$I20,$I22))","v":"STV Rickenbach-Wilen 2 ( NLB )"},null,null,{"$f":"IF(Eigaben!$L51=0,\"\",Eigaben!$L$51)","v":2}]
[]
[{"$nulls":15},{"$f":"IF($L26=$L28,\" \",IF($L26>$L28,$I26,$I28))","v":"SVD Diepoldsau-Schmitter (NLA)"},null,null,{"$f":"IF(Eigaben!$N51=0,\"\",Eigaben!$N51)","v":5},"H"]
["D",null,{"$f":"Eigaben!H9","v":""},null,null,{"$f":"IF(Eigaben!$L9=0,\"\",Eigaben!$L9)","v":""},4,{"$f":"Eigaben!F31","v":55},{"$f":"IF(H26=0,\" \",VLOOKUP($H26,Eigaben!$Y$17:$Z$94,2,1))","v":"FG Elgg-Ettenhausen 2 ( NLB O )"},null,null,{"$f":"IF(Eigaben!L31=0,\"\",Eigaben!L31)","v":3}]
[]
[null,null,{"$f":"Eigaben!K9","v":""},null,null,{"$f":"IF(Eigaben!$N9=0,\"\",Eigaben!$N9)","v":""},null,{"$f":"Eigaben!G31","v":65},{"$f":"IF(H28=0,\" \",VLOOKUP($H28,Eigaben!$Y$17:$Z$94,2,1))","v":"SVD Diepoldsau-Schmitter (NLA)"},null,null,{"$f":"IF(Eigaben!N31=0,\"\",Eigaben!N31)","v":5}]
[{"$nulls":28},29,{"$f":"IF($Z17=$Z19,\" \",IF($Z17>$Z19,$W17,$W19))","v":"SVD Diepoldsau-Schmitter (NLA)"},null,null,{"$f":"Eigaben!L73","v":1}]
[]
[{"$nulls":29},{"$f":"IF($Z41=$Z44,\" \",IF($Z41>$Z44,$W41,$W44))","v":"SUS Widnau   ( NLA )"},null,null,{"$f":"Eigaben!N73","v":5}]
["E",null,{"$f":"Eigaben!H10","v":""},null,null,0,5,{"$f":"Eigaben!F32","v":53},{"$f":"IF(H32=0,\" \",VLOOKUP($H32,Eigaben!$Y$17:$Z$94,2,1))","v":"STV Dägerlen ( NLB O )"},null,null,{"$f":"Eigaben!L32","v":1}]
[]
[null,null,{"$f":"Eigaben!K10","v":""},null,null,{"$f":"IF(Eigaben!$N10=0,\"\",Eigaben!$N10)","v":""},null,{"$f":"Eigaben!G32","v":67},{"$f":"IF(H34=0,\" \",VLOOKUP($H34,Eigaben!$Y$17:$Z$94,2,1))","v":"FG Fricktal ( NLA  )"},null,null,{"$f":"IF(Eigaben!N32=0,\"\",Eigaben!N32)","v":5}]
[{"$nulls":14},19,{"$f":"IF($L32=$L34,\" \",IF($L32>$L34,$I32,$I34))","v":"FG Fricktal ( NLA  )"},null,null,{"$f":"IF(Eigaben!$L$52=0,\"\",Eigaben!$L$52)","v":5},"H"]
[]
[{"$nulls":15},{"$f":"IF($L38=$L40,\" \",IF($L38>$L40,$I38,$I40))","v":"FBV Ettenhausen ( 2. Liga S )"},null,null,{"$f":"IF(Eigaben!$N52=0,\"\",Eigaben!$N52)","v":4}]
["F",null,{"$f":"Eigaben!H11","v":""},null,null,{"$f":"IF(Eigaben!$L11=0,\"\",Eigaben!$L11)","v":""},6,{"$f":"Eigaben!F33","v":41},{"$f":"IF(H38=0,\" \",VLOOKUP($H38,Eigaben!$Y$17:$Z$94,2,1))","v":"FBV Ettenhausen ( 2. Liga S )"},null,null,{"$f":"IF(Eigaben!L33=0,\"\",Eigaben!L33)","v":5}]
[{"$nulls":31},"Ersatz"]
[null,null,{"$f":"Eigaben!K11","v":""},null,null,{"$f":"IF(Eigaben!$N11=0,\"\",Eigaben!$N11)","v":""},null,{"$f":"Eigaben!G33","v":50},{"$f":"IF(H40=0,\" \",VLOOKUP($H40,Eigaben!$Y$17:$Z$94,2,1))","v":"TSV Jona 2  ( 1. Liga O )  "},null,null,{"$f":"IF(Eigaben!N33=0,\"\",Eigaben!N33)","v":2}]
[{"$nulls":21},26,{"$nulls":6},{"$f":"Eigaben!Z13","v":"2025-09-20"},null,null,{"$f":"Eigaben!Z14","v":"2025-09-27"}]
[{"$nulls":22},"SVD Diepoldsau (4. Liga ) C",null,null,{"$f":"Eigaben!L65","v":1},"H"]
[]
[{"$nulls":22},{"$f":"IF($S48=$S50,\" \",IF($S48>$S50,$P48,$P50))","v":"SUS Widnau   ( NLA )"},null,null,{"$f":"Eigaben!N65","v":5}]
["G",null,{"$f":"Eigaben!H12","v":""},null,null,{"$f":"IF(Eigaben!$L12=0,\"\",Eigaben!$L12)","v":""},7,{"$f":"Eigaben!F34","v":46},{"$f":"IF(H45=0,\" \",VLOOKUP($H45,Eigaben!$Y$17:$Z$94,2,1))","v":"SUS Widnau   ( 2. Liga F )"},null,null,{"$f":"IF(Eigaben!L34=0,\"\",Eigaben!L34)","v":4}]
[{"$nulls":27},{"$f":"Eigaben!Z4","v":"37. Final Schweizer Cup 2025"}]
[null,null,{"$f":"Eigaben!K12","v":""},null,null,{"$f":"IF(Eigaben!$N12=0,\"\",Eigaben!$N12)","v":""},null,{"$f":"Eigaben!G34","v":64},{"$f":"IF(H47=0,\" \",VLOOKUP($H47,Eigaben!$Y$17:$Z$94,2,1))","v":"STV Affeltrangen  ( NLA )"},null,null,{"$f":"IF(Eigaben!N34=0,\"\",Eigaben!N34)","v":5}]
[{"$nulls":14},20,{"$f":"IF($L45=$L47,\" \",IF($L45>$L47,$I45,$I47))","v":"STV Affeltrangen  ( NLA )"},null,null,{"$f":"Eigaben!L53","v":3}]
[]
[{"$nulls":15},{"$f":"IF($L51=$L53,\" \",IF($L51>$L53,$I51,$I53))","v":"SUS Widnau   ( NLA )"},null,null,{"$f":"IF(Eigaben!$N$53=0,\"\",Eigaben!$N$53)","v":5},"H",{"$nulls":7},"Thundorf Schulhaus"]
["H",null,{"$f":"Eigaben!H13","v":""},null,null,{"$f":"IF(Eigaben!$L13=0,\"\",Eigaben!$L13)","v":""},8,{"$f":"Eigaben!F35","v":38},{"$f":"IF(H51=0,\" \",VLOOKUP($H51,Eigaben!$Y$17:$Z$94,2,1))","v":"TSV Waldkirch ( 3. Liga F )"},null,null,{"$f":"IF(Eigaben!L35=0,\"\",Eigaben!L35)","v":1}]
[]
[null,null,{"$f":"Eigaben!K13","v":""},null,null,{"$f":"IF(Eigaben!$N13=0,\"\",Eigaben!$N13)","v":""},null,{"$f":"Eigaben!G35","v":70},{"$f":"IF(H53=0,\" \",VLOOKUP($H53,Eigaben!$Y$17:$Z$94,2,1))","v":"SUS Widnau   ( NLA )"},null,null,{"$f":"IF(Eigaben!N35=0,\"\",Eigaben!N35)","v":5},{"$nulls":15},{"$f":"IF(AG29=AG31,\" \",IF(AG29>AG31,AD29,AD31))","v":"SUS Widnau   ( NLA )"}]
[]
[]
[{"$nulls":27},{"$f":"IF(AG78=AG80,\" \",IF(AG78>AG80,AD78,AD80))","v":" "}]
["I",null,{"$f":"Eigaben!H14","v":""},null,null,{"$f":"IF(Eigaben!$L14=0,\"\",Eigaben!$L14)","v":""},9,{"$f":"Eigaben!F36","v":51},{"$f":"IF(H57=0,\" \",VLOOKUP($H57,Eigaben!$Y$17:$Z$94,2,1))","v":"STV Spreitenbach 1 ( 1. Liga W )"},null,null,0]
[]
[null,null,{"$f":"Eigaben!K14","v":""},null,null,{"$f":"IF(Eigaben!$N14=0,\"\",Eigaben!$N14)","v":""},null,{"$f":"Eigaben!G36","v":68},{"$f":"IF(H59=0,\" \",VLOOKUP($H59,Eigaben!$Y$17:$Z$94,2,1))","v":"STV Oberentfelden   ( NLA )"},null,null,{"$f":"IF(Eigaben!N36=0,\"\",Eigaben!N36)","v":5}]
[{"$nulls":14},21,{"$f":"IF($L57=$L59,\" \",IF($L57>$L59,$I57,$I59))","v":"STV Oberentfelden   ( NLA )"},null,null,0]
[]
[{"$nulls":15},{"$f":"IF($L63=$L65,\" \",IF($L63>$L65,$I63,$I65))","v":" "},null,null,{"$f":"IF(Eigaben!$L$54=0,\"\",Eigaben!$L$54)","v":1},"H"]
["J",null,{"$f":"Eigaben!H15","v":""},null,null,{"$f":"IF(Eigaben!$L15=0,\"\",Eigaben!$L15)","v":""},10,12,{"$f":"IF(H63=0,\" \",VLOOKUP($H63,Eigaben!$Y$17:$Z$94,2,1))","v":" "},null,null,{"$f":"IF(Eigaben!L37=0,\"\",Eigaben!L37)","v":""}]
[]
[null,null,{"$f":"Eigaben!K15","v":""},null,null,{"$f":"IF(Eigaben!$N15=0,\"\",Eigaben!$N15)","v":""},null,{"$f":"Eigaben!G37","v":63},{"$f":"IF(H65=0,\" \",VLOOKUP($H65,Eigaben!$Y$17:$Z$94,2,1))","v":"STV Vordemwald 1 ( NLB W )"},null,null,{"$f":"IF(Eigaben!N37=0,\"\",Eigaben!N37)","v":5}]
[{"$nulls":21},27,{"$f":"IF($S60=$S62,\" \",IF($S60>$S62,$P60,$P62))","v":" "},null,null,{"$f":"Eigaben!N66","v":0},"H"]
[]
[{"$nulls":22},{"$f":"IF($S72=$S74,\" \",IF($S72>$S74,$P72,$P74))","v":"STV Kirchberg  ( NLB W )"},null,null,{"$f":"Eigaben!L66","v":5}]
[{"$nulls":6},11,{"$f":"Eigaben!F38","v":60},{"$f":"IF(H69=0,\" \",VLOOKUP($H69,Eigaben!$Y$17:$Z$94,2,1))","v":"STV Schlieren ( NLB O )"},null,null,{"$f":"IF(Eigaben!L38=0,\"\",Eigaben!L38)","v":5}]
[]
[{"$nulls":7},{"$f":"Eigaben!G38","v":62},{"$f":"IF(H71=0,\" \",VLOOKUP($H71,Eigaben!$Y$17:$Z$94,2,1))","v":"FB Schwellbrunn ( NLB  O)"},null,null,{"$f":"IF(Eigaben!N38=0,\"\",Eigaben!N38)","v":1}]
[{"$nulls":14},22,{"$f":"IF($L69=$L71,\" \",IF($L69>$L71,$I69,$I71))","v":"STV Schlieren ( NLB O )"},null,null,{"$f":"Eigaben!N55","v":0}]
[]
[{"$nulls":15},{"$f":"IF($L75=$L77,\" \",IF($L75>$L77,$I75,$I77))","v":"STV Kirchberg  ( NLB W )"},null,null,{"$f":"Eigaben!L55","v":5},"H"]
[null,null,"Der Unterklassige hat Heimvorteil\nbis und mit Viertelfinals",null,null,null,12,{"$f":"Eigaben!F39","v":44},{"$f":"IF(H75=0,\" \",VLOOKUP($H75,Eigaben!$Y$17:$Z$94,2,1))","v":"STV Oberentfelden   ( 2. Liga )"},null,null,{"$f":"IF(Eigaben!L39=0,\"\",Eigaben!L39)","v":5}]
[]
[{"$nulls":7},{"$f":"Eigaben!G39","v":57},{"$f":"IF(H77=0,\" \",VLOOKUP($H77,Eigaben!$Y$17:$Z$94,2,1))","v":"STV Kirchberg  ( NLB W )"},null,null,{"$f":"IF(Eigaben!N39=0,\"\",Eigaben!N39)","v":""}]
[{"$nulls":28},30,{"$f":"IF($Z66=$Z68,\" \",IF($Z66>$Z68,$W66,$W68))","v":"STV Kirchberg  ( NLB W )"},null,null,{"$f":"Eigaben!L74","v":0}]
[]
[{"$nulls":29},{"$f":"IF($Z90=$Z92,\" \",IF($Z90>$Z92,$W90,$W92))","v":"FG Elgg-Ettenhausen 1 ( NLA )"},null,null,{"$f":"Eigaben!N74","v":0}]
[null,null,"C = CUP Siger / F - Finalist",null,null,null,13,{"$f":"Eigaben!F40","v":48},{"$f":"IF(H81=0,\" \",VLOOKUP($H81,Eigaben!$Y$17:$Z$94,2,1))","v":"STV Alpnach  ( 1. Liga ) W"},null,null,{"$f":"IF(Eigaben!L40=0,\"\",Eigaben!L40)","v":5}]
[]
[{"$nulls":7},{"$f":"Eigaben!G40","v":61},{"$f":"IF(H83=0,\" \",VLOOKUP($H83,Eigaben!$Y$17:$Z$94,2,1))","v":"STV Schlossrued ( NLB W )"},null,null,{"$f":"IF(Eigaben!N40=0,\"\",Eigaben!N40)","v":2}]
[{"$nulls":14},23,{"$f":"IF($L81=$L83,\" \",IF($L81>$L83,$I81,$I83))","v":"STV Alpnach  ( 1. Liga ) W"},null,null,{"$f":"Eigaben!N56","v":5}]
[]
[null,null,"H = Heimvorteil bei gleicher Liga",{"$nulls":12},{"$f":"IF($L87=$L89,\" \",IF($L87>$L89,$I87,$I89))","v":"STV Elgg ( 2. Liga )"},null,null,{"$f":"Eigaben!L56","v":2},"H"]
[{"$nulls":6},14,9,{"$f":"IF(H87=0,\" \",VLOOKUP($H87,Eigaben!$Y$17:$Z$94,2,1))","v":"STV Elgg ( 2. Liga )"},null,null,{"$f":"IF(Eigaben!L41=0,\"\",Eigaben!L41)","v":""}]
[]
[{"$nulls":7},{"$f":"Eigaben!G41","v":69},{"$f":"IF(H89=0,\" \",VLOOKUP($H89,Eigaben!$Y$17:$Z$94,2,1))","v":"FG Rickenbach-Wilen ( NLA )"},null,null,{"$f":"IF(Eigaben!N41=0,\"\",Eigaben!N41)","v":5}]
[{"$nulls":21},28,{"$f":"IF($S84=$S86,\" \",IF($S84>$S86,$P84,$P86))","v":"STV Alpnach  ( 1. Liga ) W"},null,null,{"$f":"Eigaben!L67","v":3},"H"]
[]
[null,null,"Teilnehmer Schweizer Cup 2021",{"$nulls":19},{"$f":"IF($S96=$S98,\" \",IF($S96>$S98,$P96,$P98))","v":"FG Elgg-Ettenhausen 1 ( NLA )"},null,null,{"$f":"Eigaben!N67","v":5}]
[{"$nulls":6},15,43,{"$f":"IF(H93=0,\" \",VLOOKUP($H93,Eigaben!$Y$17:$Z$94,2,1))","v":"STV Müllheim ( 2. L )"},null,null,{"$f":"IF(Eigaben!L42=0,\"\",Eigaben!L42)","v":2}]
[]
[{"$nulls":7},{"$f":"Eigaben!G42","v":47},{"$f":"IF(H95=0,\" \",VLOOKUP($H95,Eigaben!$Y$17:$Z$94,2,1))","v":"TV Widnau ( 2. Liga F ) "},null,null,{"$f":"IF(Eigaben!N42=0,\"\",Eigaben!N42)","v":5},{"$nulls":15},"Cup-Sieger 2021"]
[null,null,"Total  Mannschaften: 39",{"$nulls":11},24,{"$f":"IF($L93=$L95,\" \",IF($L93>$L95,$I93,$I95))","v":"TV Widnau ( 2. Liga F ) "},null,null,{"$f":"IF(Eigaben!$L$57=0,\"\",Eigaben!$L$57)","v":4},"H"]
[]
[{"$nulls":15},{"$f":"IF($L99=$L101,\" \",IF($L99>$L101,$I99,$I101))","v":"FG Elgg-Ettenhausen 1 ( NLA )"},null,null,{"$f":"IF(Eigaben!$N$57=0,\"\",Eigaben!$N$57)","v":5}]
[{"$nulls":6},16,13,{"$f":"IF(H99=0,\" \",VLOOKUP($H99,Eigaben!$Y$17:$Z$94,2,1))","v":" "},null,null,{"$f":"IF(Eigaben!L43=0,\"\",Eigaben!L43)","v":1},{"$nulls":15},{"$f":"IF(AG53=AG56,\" \",IF(AG53>AG56,AB53,AB56))","v":" "}]
[]
[{"$nulls":7},{"$f":"Eigaben!G43","v":66},{"$f":"IF(H101=0,\" \",VLOOKUP($H101,Eigaben!$Y$17:$Z$94,2,1))","v":"FG Elgg-Ettenhausen 1 ( NLA )"},null,null,{"$f":"IF(Eigaben!N43=0,\"\",Eigaben!N43)","v":5}]

{"sheet":"Eigaben","index":8,"n_rows":105,"n_cols":35,"rows_kept":105,"cut":false,"hidden":false,"merged":[[55,7,55,8],[95,7,95,8],[96,7,96,8],[90,7,90,8],[90,10,90,11],[91,7,91,8],[92,7,92,8],[92,10,92,11],[93,7,93,8],[84,7,84,8],[85,7,85,8],[86,7,86,8],[87,7,87,8],[67,7,67,8],[79,2,79,5],[81,11,81,13],[83,7,83,8],[94,7,94,8],[60,2,60,5],[62,11,62,13],[64,7,64,8],[66,7,66,8],[78,7,78,8],[79,7,79,8],[81,7,81,8],[82,7,82,8],[73,7,73,8],[74,7,74,8],[75,7,75,8],[76,7,76,8],[77,7,77,8],[69,2,69,5],[69,7,69,8],[71,7,71,8],[71,11,71,13],[72,7,72,8],[2,25,2,28],[7,26,7,27],[11,26,11,27],[10,26,10,27],[9,26,9,27],[8,26,8,27],[46,26,51,27],[65,7,65,8],[56,7,56,8],[57,7,57,8],[58,7,58,8],[59,7,59,8],[60,7,60,8],[62,7,62,8],[63,7,63,8],[50,7,50,8],[51,7,51,8],[52,7,52,8],[53,7,53,8],[54,7,54,8],[4,7,4,8],[13,7,13,8],[12,7,12,8],[10,7,10,8],[46,2,46,5],[46,7,46,8],[48,7,48,8],[48,11,48,13],[49,7,49,8],[0,2,0,8],[2,2,2,5],[2,7,2,8],[18,7,18,8],[17,7,17,8],[16,7,16,8],[15,7,15,8],[14,7,14,8],[3,7,3,8],[26,11,26,13],[4,11,4,13],[5,7,5,8],[7,7,7,8],[6,7,6,8],[9,7,9,8],[8,7,8,8],[19,7,19,8],[20,7,20,8],[11,7,11,8],[21,7,21,8],[30,7,30,8],[31,7,31,8],[24,2,24,5],[24,7,24,8],[26,7,26,8],[27,7,27,8],[28,7,28,8],[29,7,29,8],[25,7,25,8],[43,7,43,8],[42,7,42,8],[37,7,37,8],[38,7,38,8],[39,7,39,8],[40,7,40,8],[41,7,41,8],[32,7,32,8],[33,7,33,8],[34,7,34,8],[35,7,35,8],[36,7,36,8]]}
[3,null,{"$f":"Z3","v":"37. Schweizer Cup Männer 2025"}]
[null,1,2,3,4,5,6,7,8,null,10,11,null,13,14,15,16,17,18,19,20,21]
[null,null,{"$f":"VLOOKUP($C$4,$Y$8:$AC$14,5,0)","v":"Vorrunde"},{"$nulls":4},{"$f":"VLOOKUP($C$4,$Y$8:$AC$14,2,0)","v":"2025-04-07"},null,null,{"$f":"VLOOKUP($C$4,$Y$8:$AC$14,3,0)","v":"2025-04-25"},{"$nulls":14},"37. Schweizer Cup Männer 2025"]
[null,null,1,{"$nulls":22},"37. Final Schweizer Cup 2025"]
[null,null,"Sp No","Aufgeb\no Schiri","Aufgebo\nan Schiri",null,null,"Mannschaft ",null,null,"Mannschaft","Resultat",null,null,"wann ","Zeit","Ort","Sportplazt","Bonus",null,"Schiri ","Km"]
[1,"A","A","2025-04-03","2025-04-21",45,46,{"$f":"IF($F6=0,\"\",VLOOKUP($F6,$Y$17:$AH$103,2,0))","v":"STV Töss ( 2. Liga )"},null,null,{"$f":"IF($G6=0,\"\",VLOOKUP($G6,$Y$17:$AH$103,2,0))","v":"SUS Widnau   ( 2. Liga F )"},4,null,5,"2025-05-05","19:30:00","Winterthur","Schulhaus Tössfeld",0,76,{"$f":"IF(T6=0,\"\",VLOOKUP(T6,Schiri_25!$A$2:$E$121,2)&\" \"&VLOOKUP(T6,Schiri_25!$A$2:E121,5))","v":"Werder Manuel"},5,"A",null,null,"Daten CH CUP"]
[2,"B","B","2025-04-08","2025-04-29",40,43,{"$f":"IF($F7=0,\"\",VLOOKUP($F7,$Y$17:$AH$103,2,0))","v":"STV Elgg ( 2. Liga )"},null,null,"STV Müllheim ( 2. L )",5,null,0,"2025-05-01","19:30:00","Elgg","Elgg",0,79,{"$f":"IF(T7=0,\"\",VLOOKUP(T7,Schiri_25!$A$2:$E$121,2)&\" \"&VLOOKUP(T7,Schiri_25!$A$2:E122,5))","v":"Ziereisen Daniel"},5,"B"]
[3,"C",{"$nulls":5},"",null,null,"",{"$nulls":9},{"$f":"IF(T8=0,\"\",VLOOKUP(T8,Schiri_25!$A$2:$E$121,2)&\" \"&VLOOKUP(T8,Schiri_25!$A$2:E123,5))","v":""},null,"C","T",1,"2025-04-07","2025-04-25",null,"Vorrunde"]
[4,"D",{"$nulls":5},"",null,null,"",{"$nulls":9},{"$f":"IF(T9=0,\"\",VLOOKUP(T9,Schiri_25!$A$2:$E$121,2)&\" \"&VLOOKUP(T9,Schiri_25!$A$2:E124,5))","v":""},null,"D","B",2,"2025-05-05","2025-06-13",null,"1/16 Final "]
[5,"E",{"$nulls":5},"",null,null,"",{"$nulls":9},{"$f":"IF(T10=0,\"\",VLOOKUP(T10,Schiri_25!$A$2:$E$121,2)&\" \"&VLOOKUP(T10,Schiri_25!$A$2:E125,5))","v":""},null,"E",null,3,"2025-06-23","2025-07-18",null,"1/8 Final"]
[6,"F",{"$nulls":5},{"$f":"IF($F11=0,\"\",VLOOKUP($F11,$Y$17:$AH$103,2,0))","v":""},null,null,{"$f":"IF($G11=0,\"\",VLOOKUP($G11,$Y$17:$AH$103,2,0))","v":""},{"$nulls":9},{"$f":"IF(T11=0,\"\",VLOOKUP(T11,Schiri_25!$A$2:$E$121,2)&\" \"&VLOOKUP(T11,Schiri_25!$A$2:E126,5))","v":""},null,"F","T",4,"2025-07-28","2025-08-15",null,"1/4 Final"]
[7,"G",{"$nulls":5},"",null,null,"",{"$nulls":9},{"$f":"IF(T12=0,\"\",VLOOKUP(T12,Schiri_25!$A$2:$E$121,2)&\" \"&VLOOKUP(T12,Schiri_25!$A$2:E127,5))","v":""},null,null,null,5,"2025-08-18","2025-09-05",null,"1/2 Final"]
[8,"H",{"$nulls":5},"",null,null,"",{"$nulls":9},{"$f":"IF(T13=0,\"\",VLOOKUP(T13,Schiri_25!$A$2:$E$121,2)&\" \"&VLOOKUP(T13,Schiri_25!$A$2:E128,5))","v":""},null,null,null,6,"2025-09-20",null,null,"Final"]
[9,"I",{"$nulls":5},"",null,null,"",{"$nulls":9},{"$f":"IF(T14=0,\"\",VLOOKUP(T14,Schiri_25!$A$2:$E$121,2)&\" \"&VLOOKUP(T14,Schiri_25!$A$2:E129,5))","v":""},null,null,null,7,"2025-09-27",null,null,"Ersatz CH CUP"]
[10,"J",{"$nulls":5},"",null,null,"",{"$nulls":9},{"$f":"IF(T15=0,\"\",VLOOKUP(T15,Schiri_25!$A$2:$E$121,2)&\" \"&VLOOKUP(T15,Schiri_25!$A$2:E130,5))","v":""}]
[11,"K",{"$nulls":5},"",null,null,"",{"$nulls":9},{"$f":"IF(T16=0,\"\",VLOOKUP(T16,Schiri_25!$A$2:$E$121,2)&\" \"&VLOOKUP(T16,Schiri_25!$A$2:E131,5))","v":""},{"$nulls":4},"Sieger Vorrunde"]
[12,"L",{"$nulls":5},"",null,null,"",{"$nulls":9},{"$f":"IF(T17=0,\"\",VLOOKUP(T17,Schiri_25!$A$2:$E$121,2)&\" \"&VLOOKUP(T17,Schiri_25!$A$2:E132,5))","v":""},null,null,null,"A",{"$f":"IF('CH Cup Tableau 2025'!$F8>'CH Cup Tableau 2025'!$F10,'CH Cup Tableau 2025'!C8,'CH Cup Tableau 2025'!$C10)","v":"SUS Widnau   ( 2. Liga F )"},"A"]
[13,"M",{"$nulls":5},"",null,null,"",{"$nulls":9},{"$f":"IF(T18=0,\"\",VLOOKUP(T18,Schiri_25!$A$2:$E$121,2)&\" \"&VLOOKUP(T18,Schiri_25!$A$2:E133,5))","v":""},null,null,null,9,{"$f":"IF('CH Cup Tableau 2025'!$F14>'CH Cup Tableau 2025'!$F16,'CH Cup Tableau 2025'!C14,'CH Cup Tableau 2025'!$C16)","v":"STV Elgg ( 2. Liga )"},"B",null,"OK Zugestellt"]
[14,"N",{"$nulls":5},"",null,null,"",{"$nulls":9},{"$f":"IF(T19=0,\"\",VLOOKUP(T19,Schiri_25!$A$2:$E$121,2)&\" \"&VLOOKUP(T19,Schiri_25!$A$2:E134,5))","v":""},null,null,null,10,{"$f":"IF('CH Cup Tableau 2025'!$F20>'CH Cup Tableau 2025'!$F22,'CH Cup Tableau 2025'!C20,'CH Cup Tableau 2025'!$C22)","v":" "},"C"]
[15,"O",{"$nulls":5},"",null,null,"",{"$nulls":9},{"$f":"IF(T20=0,\"\",VLOOKUP(T20,Schiri_25!A16:E135,2)&\" \"&VLOOKUP(T20,Schiri_25!A16:E135,5))","v":""},null,null,null,11,{"$f":"IF('CH Cup Tableau 2025'!$F26>'CH Cup Tableau 2025'!$F28,'CH Cup Tableau 2025'!C26,'CH Cup Tableau 2025'!$C28)","v":" "},"D",null,"Angefragt"]
[16,"P",{"$nulls":5},"",null,null,"",{"$nulls":9},{"$f":"IF(T21=0,\"\",VLOOKUP(T21,Schiri_25!$A$2:$L$129,2,0)&\"  \"&VLOOKUP(T21,Schiri_25!$A$2:$L$129,3,0))","v":""},null,null,null,12,{"$f":"IF('CH Cup Tableau 2025'!$F32>'CH Cup Tableau 2025'!$F34,'CH Cup Tableau 2025'!C32,'CH Cup Tableau 2025'!$C34)","v":" "},"E"]
[{"$nulls":7},{"$f":"IF($F22=0,\"\",VLOOKUP($F22,'Adressen Daten 25'!$A$3:$P$56,9,0)&\" \"&VLOOKUP($F22,'Adressen Daten 25'!$A$3:$P$56,10,0))","v":""},{"$nulls":12},{"$f":"IF(T22=0,\"\",VLOOKUP(T22,Schiri_25!$A$2:$L$129,2,0)&\"  \"&VLOOKUP(T22,Schiri_25!$A$2:$L$129,3,0))","v":""},{"$f":"SUM(V6:V21)","v":10},null,null,13,{"$f":"IF('CH Cup Tableau 2025'!$F38>'CH Cup Tableau 2025'!$F40,'CH Cup Tableau 2025'!$C38,'CH Cup Tableau 2025'!$C40)","v":" "},"F",null,"Bezahlt"]
[null,1,2,3,4,5,null,null,6,null,9,10,null,12,13,14,15,16,17,18,19,null,null,null,14,{"$f":"IF('CH Cup Tableau 2025'!$F45>'CH Cup Tableau 2025'!$F47,'CH Cup Tableau 2025'!$C45,'CH Cup Tableau 2025'!$C47)","v":""},"G",null,"B = Bar Post"]
[{"$nulls":20},"Km",null,null,null,15,{"$f":"IF('CH Cup Tableau 2025'!$F51>'CH Cup Tableau 2025'!$F53,'CH Cup Tableau 2025'!$C51,'CH Cup Tableau 2025'!$C53)","v":""},"H",null,"T = TWINT"]
[null,null,{"$f":"VLOOKUP($C$26,$Y$8:$AC$14,5,0)","v":"1/16 Final "},{"$nulls":4},{"$f":"VLOOKUP($C$26,$Y$8:$AC$14,2,0)","v":"2025-05-05"},null,null,{"$f":"VLOOKUP($C$26,$Y$8:$AC$14,3,0)","v":"2025-06-13"},{"$nulls":13},16,{"$f":"IF('CH Cup Tableau 2025'!$F57>'CH Cup Tableau 2025'!$F59,'CH Cup Tableau 2025'!$C57,'CH Cup Tableau 2025'!$C59)","v":""},"I"]
[null,null,2,{"$nulls":21},17,"","J",null,"Verschoben"]
[null,null,"Sp No","Aufgeb\no Schiri","Aufgeb m S\nan Schiri",null,null,"Mannschaft ",null,null,"Mannschaft","Resultat",null,null,"wann ","Zeit","Ort","Sportplazt","Bonus",null,"Schiri ","Km",null,null,18,null,"K"]
[null,1,1,"2025-04-21","2025-05-15",56,71,{"$f":"IF($F28=0,\"\",VLOOKUP($F28,$Y$17:$Z$94,2,0))","v":"TSV Jona 1( NLB O )"},null,null,{"$f":"IF($G28=0,\"\",VLOOKUP($G28,$Y$17:$Z$94,2,0))","v":"STV Wigoltingen   ( NLA )"},5,null,2,"2025-06-19","19:30:00","Jona","Sprtplatz Grünfeld",2,57,{"$f":"IF(T28=0,\"\",VLOOKUP(T28,Schiri_25!$A$2:$E$121,2)&\" \"&VLOOKUP(T28,Schiri_25!$A$2:E143,5))","v":"Friedlos Manfred"},14,1,null,19,"Sieger Spiel A","L"]
[null,2,2,"2025-04-21","2025-06-10",58,54,"TV Oberwinterthur  (NLB )",null,null,{"$f":"IF($G29=0,\"\",VLOOKUP($G29,$Y$17:$Z$94,2,0))","v":"STV Dozwil ( NLB O )"},2,null,5,"2025-06-16","19:30:00","Oberwinterthur","Stadlerstrasse",0,7,{"$f":"IF(T29=0,\"\",VLOOKUP(T29,Schiri_25!$A$2:$E$121,2)&\" \"&VLOOKUP(T29,Schiri_25!$A$2:E144,5))","v":"Graf Daniel"},3,2,null,20,"Sieger Spiel B","M"]
[null,3,3,"2025-04-21","2025-04-27",42,59,"STV Felben-W.hausen ( 2. Liga )",null,null,"STV Rickenbach-Wilen 2 ( NLB )",3,null,5,"2025-05-22","19:00:00","Felben - Wellhausen","Schulhaus Heuberghalle",0,43,{"$f":"IF(T30=0,\"\",VLOOKUP(T30,Schiri_25!$A$2:$E$121,2)&\" \"&VLOOKUP(T30,Schiri_25!$A$2:E145,5))","v":"Tenini Rico"},14,3,null,21,"Sieger Spiel C","O"]
[null,4,4,"2025-04-21","2025-05-18",55,{"$f":"'CH Cup Tableau 2025'!H28","v":65},"FG Elgg-Ettenhausen 2 ( NLB O )",null,null,"SVD Diepoldsau-Schmitter (NLA)",3,null,5,"2025-06-05","19:30:00","Ettenhausen ","In Elgg im See",2,79,{"$f":"IF(T31=0,\"\",VLOOKUP(T31,Schiri_25!$A$2:$E$121,2)&\" \"&VLOOKUP(T31,Schiri_25!$A$2:E146,5))","v":"Ziereisen Daniel"},6,4,null,22,"Sieger Spiel D","P"]
[null,5,5,"2025-04-21","2025-05-08",53,67,"STV Dägerlen ( NLB O )",null,null,"FG Fricktal ( NLA  )",1,null,5,"2025-05-22","19:30:00","8471 Dägerlen","Schulweg 1",2,7,{"$f":"IF(T32=0,\"\",VLOOKUP(T32,Schiri_25!$A$2:$E$121,2)&\" \"&VLOOKUP(T32,Schiri_25!$A$2:E147,5))","v":"Graf Daniel"},4,5,null,23,"Sieger Spiel E","Q"]
[null,6,6,"2025-04-21","2025-05-03",41,50,"FBV Ettenhausen ( 2. Liga S )",null,null,"TSV Jona 2  ( 1. Liga O )  ",5,null,2,"2025-05-15","20:00:00","Ettenhausen","Schulhaus Ettenhausen",2,79,{"$f":"IF(T33=0,\"\",VLOOKUP(T33,Schiri_25!$A$2:$E$121,2)&\" \"&VLOOKUP(T33,Schiri_25!$A$2:E148,5))","v":"Ziereisen Daniel"},6,6,"t",24,"Sieger Spiel F"]
[null,7,7,"2025-04-21","2025-05-14",46,64,"SUS Widnau   ( 2. Liga F )",null,null,"STV Affeltrangen  ( NLA )",4,null,5,"2025-06-03","20:00:00","Widnau","Lugwies",3,11,{"$f":"IF(T34=0,\"\",VLOOKUP(T34,Schiri_25!$A$2:$E$121,2)&\" \"&VLOOKUP(T34,Schiri_25!$A$2:E149,5))","v":"Meyerhans Richard"},13,7,null,25,"Sieger Spiel G"]
[null,8,8,"2025-04-24","2025-04-27",38,70,"TSV Waldkirch ( 3. Liga F )",null,null,{"$f":"IF($G35=0,\"\",VLOOKUP($G35,$Y$17:$Z$94,2,0))","v":"SUS Widnau   ( NLA )"},1,null,5,"2025-05-28","19:30:00","9205 Waldkirch","Kunstras Sportpl Breiten",3,9,{"$f":"IF(T35=0,\"\",VLOOKUP(T35,Schiri_25!$A$2:$E$121,2)&\" \"&VLOOKUP(T35,Schiri_25!$A$2:E150,5))","v":"Mähr Reto"},17,8,null,26,"Sieger Spiel H"]
[null,9,9,"2025-04-09","2025-04-21",51,68,{"$f":"IF($F36=0,\"\",VLOOKUP($F36,$Y$17:$Z$94,2,0))","v":"STV Spreitenbach 1 ( 1. Liga W )"},null,null,"STV Oberentfelden   ( NLA )",0,null,5,"2025-05-14","19:30:00","Spreitenbach","Schulanlage Seefeld",3,25,{"$f":"IF(T36=0,\"\",VLOOKUP(T36,Schiri_25!$A$2:$E$121,2)&\" \"&VLOOKUP(T36,Schiri_25!$A$2:E151,5))","v":"Häner Rolf"},17,9,"t",27,"Sieger Spiel I"]
[null,10,10,"2025-04-29","2025-04-29",49,63,"FB Burgdorf (1. Liga  W)",null,null,"STV Vordemwald 1 ( NLB W )",0,null,5,"1900-01-13","20:00:00","Kirchberg","Grossmatt",2,83,{"$f":"IF(T37=0,\"\",VLOOKUP(T37,Schiri_25!$A$2:$E$121,2)&\" \"&VLOOKUP(T37,Schiri_25!$A$2:E152,5))","v":"Baumberger Evi"},16,10,null,28,"Sieger Spiel J"]
[null,11,11,"2025-04-21","2025-05-03",60,62,"STV Schlieren ( NLB O )",null,null,"FB Schwellbrunn ( NLB  O)",5,null,1,"2025-05-21","19:00:00","Schlieren","Sportplatz Unterrohr",0,51,{"$f":"IF(T38=0,\"\",VLOOKUP(T38,Schiri_25!$A$2:$E$121,2)&\" \"&VLOOKUP(T38,Schiri_25!$A$2:E153,5))","v":"Burkhalter Patrick"},4,11]
[null,12,12,"2025-04-21","2025-05-26",44,57,"STV Oberentfelden   ( 2. Liga )",null,null,"STV Kirchberg  ( NLB W )",5,null,0,"2025-05-28","19:30:00","Oberentfelden","Erlenweg",3,61,{"$f":"IF(T39=0,\"\",VLOOKUP(T39,Schiri_25!$A$2:$E$121,2)&\" \"&VLOOKUP(T39,Schiri_25!$A$2:E154,5))","v":"Krautter Heinz"},17,12,null,29,"Freilos"]
[null,13,13,"2025-06-05","2025-05-28",48,61,"STV Alpnach  ( 1. Liga ) W",null,null,"STV Schlossrued ( NLB W )",5,null,2,"2025-06-05","19:30:00","Aalpnach","Sportplatz Giswil",2,73,{"$f":"IF(T40=0,\"\",VLOOKUP(T40,Schiri_25!$A$2:$E$121,2)&\" \"&VLOOKUP(T40,Schiri_25!$A$2:E155,5))","v":"Shabanaj Valon"},30,13,null,30,"Freilos"]
[null,14,14,"2025-04-21","2025-05-11",39,69,{"$f":"IF($F41=0,\"\",VLOOKUP($F41,$Y$17:$Z$94,2,0))","v":"MR Beringen ( 2. Liga )"},null,null,{"$f":"IF($G41=0,\"\",VLOOKUP($G41,$Y$17:$Z$94,2,0))","v":"FG Rickenbach-Wilen ( NLA )"},0,null,5,"2025-05-15","19:00:00","Beringen","Schulhaus Zimmerberg",3,5,{"$f":"IF(T41=0,\"\",VLOOKUP(T41,Schiri_25!$A$2:$E$121,2)&\" \"&VLOOKUP(T41,Schiri_25!$A$2:E156,5))","v":"Chollet Cornelia"},26,14,"t",31,"Freilos"]
[null,15,15,"2025-05-01","2025-05-13",40,47,"STV Elgg ( 2. Liga )",null,null,"TV Widnau ( 2. Liga F ) ",2,null,5,"2025-06-05","19:30:00","Elgg","Im See",0,34,{"$f":"IF(T42=0,\"\",VLOOKUP(T42,Schiri_25!$A$2:$E$121,2)&\" \"&VLOOKUP(T42,Schiri_25!$A$2:E157,5))","v":"Meili René"},12,15,null,32,"Freilos"]
[null,16,16,"2025-04-29","2025-05-03",52,66,"STV Vordemwald 2  ( 1. Liga W)",null,null,"FG Elgg-Ettenhausen 1 ( NLA )",1,null,5,"2025-05-14","19:30:00","Vordemwald","Sportplatz Schulhaus",3,44,{"$f":"IF(T43=0,\"\",VLOOKUP(T43,Schiri_25!$A$2:$E$121,2)&\" \"&VLOOKUP(T43,Schiri_25!$A$2:E158,5))","v":"Wagner Stephan"},18,16,"t",33,"Freilos"]
[{"$nulls":7},{"$f":"IF($F44=0,\"\",VLOOKUP($F44,'Adressen Daten 25'!$A$3:$P$56,9,0)&\" \"&VLOOKUP($F44,'Adressen Daten 25'!$A$3:$P$56,10,0))","v":""},{"$nulls":12},{"$f":"IF(T44=0,\"\",VLOOKUP(T44,Schiri_25!$A$2:$L$129,2,0)&\"  \"&VLOOKUP(T44,Schiri_25!$A$2:$L$129,3,0))","v":""},{"$f":"SUM(V28:V43)","v":217}]
[]
[]
[null,null,18.059999999999999,{"$nulls":4},{"$f":"VLOOKUP($C$48,$Y$8:$AC$14,2,0)","v":"2025-06-23"},null,null,{"$f":"VLOOKUP($C$48,$Y$8:$AC$14,3,0)","v":"2025-07-18"},{"$nulls":15},"die vier \nGesezten\nMannschaften"]
[null,null,3]
[null,null,"Sp No","Aufgeb\no Schiri","Aufgebo\nmit Schiri",null,null,"Mannschaft ",null,null,"Mannschaft","Resultat",null,null,"wann ","Zeit","Ort","Sportplazt","Bonus",null,"Schiri ","Km",null,null,34,"STV Wigoltingen ( NLA )"]
[null,17,17,20.059999999999999,"2025-07-01",56,54,{"$f":"IF($F50=0,\"\",VLOOKUP($F50,$Y$17:$Z$94,2,0))","v":"TSV Jona 1( NLB O )"},null,null,{"$f":"IF($G50=0,\"\",VLOOKUP($G50,$Y$17:$Z$94,2,0))","v":"STV Dozwil ( NLB O )"},5,null,1,"2025-07-03","19:00:00","Jona","Sportplatz Grünfeld",0,67,{"$f":"IF(T50=0,\"\",VLOOKUP(T50,Schiri_25!$A$2:$L$129,2,0)&\"  \"&VLOOKUP(T50,Schiri_25!$A$2:$L$129,3,0))","v":"Meierhofer  Robert"},5,17,null,35,"STV Oberentfelden ( NLA )"]
[null,18,18,null,null,59,65,"STV Rickenbach-Wilen 2 ( NLB )",null,null,"SVD Diepoldsau-Schmitter (NLA)",2,null,5,"2025-06-26","19:00:00","Rickenbach","Egelsee",2,15,{"$f":"IF(T51=0,\"\",VLOOKUP(T51,Schiri_25!$A$2:$L$129,2,0)&\"  \"&VLOOKUP(T51,Schiri_25!$A$2:$L$129,3,0))","v":"Sprenger  Fredy"},0,18,null,36,"FB Neuendorf (NLA )"]
[null,19,19,1.06,"2025-06-01",41,67,"FBV Ettenhausen ( 2. Liga S )",null,null,"FG Fricktal ( NLA  )",5,null,4,"2025-06-24","19:30:00","Ettenhausen","Schulhaus Ettenhausen",3,79,{"$f":"IF(T52=0,\"\",VLOOKUP(T52,Schiri_25!$A$2:$L$129,2,0)&\"  \"&VLOOKUP(T52,Schiri_25!$A$2:$L$129,3,0))","v":"Ziereisen  Daniel"},6,19,null,37,"FG Elgg-Ettenhausen ( NLA )"]
[null,20,20,null,"2025-06-18",70,64,"SUS Widnau   ( NLA )",null,null,"STV Affeltrangen  ( NLA )",3,null,5,"2025-07-15","20:00:00","Widnau","Lugwies",0,13,{"$f":"IF(T53=0,\"\",VLOOKUP(T53,Schiri_25!$A$2:$L$129,2,0)&\"  \"&VLOOKUP(T53,Schiri_25!$A$2:$L$129,3,0))","v":"Sieber  Patrick"},3,20,{"$nulls":11},24]
[null,21,21,5.0599999999999996,"2025-06-07",63,68,"STV Vordemwald 1 ( NLB W )",null,null,"STV Oberentfelden   ( NLA )",1,null,5,"2025-06-11","19:30:00","Vordemwald","Sportplatz Schulhaus",2,44,{"$f":"IF(T54=0,\"\",VLOOKUP(T54,Schiri_25!$A$2:$L$129,2,0)&\"  \"&VLOOKUP(T54,Schiri_25!$A$2:$L$129,3,0))","v":"Wagner  Stephan"},18,21,1,38,{"$f":"'Adressen Daten 25'!F3&\" \"&'Adressen Daten 25'!G3","v":"TSV Waldkirch ( 3. Liga F )"},{"$f":"'Adressen Daten 25'!I3","v":"Stefan "},{"$f":"'Adressen Daten 25'!J3","v":"Zielger"},{"$f":"IF('Adressen Daten 25'!K3=0,\" \",'Adressen Daten 25'!K3)","v":"Birkenstr 6"},{"$f":"IF('Adressen Daten 25'!L3=0,\" \",'Adressen Daten 25'!L3)","v":9205},{"$f":"IF('Adressen Daten 25'!M3=0,\" \",'Adressen Daten 25'!M3)","v":"Waldkirch"},{"$f":"IF('Adressen Daten 25'!N3=0,\" \",'Adressen Daten 25'!N3)","v":" "},{"$f":"'Adressen Daten 25'!O3","v":"076 824 52 22"},{"$f":"'Adressen Daten 25'!P3","v":"ziege81@icloud.com"},1]
[null,22,22,18.059999999999999,"2025-06-26",44,60,"STV Oberentfelden   ( 2. Liga )",null,null,"STV Schlieren ( NLB O )",5,null,0,"2025-06-27","19:30:00","Oberentfelde","Erlenweg",3,95,{"$f":"IF(T55=0,\"\",VLOOKUP(T55,Schiri_25!$A$2:$L$129,2,0)&\"  \"&VLOOKUP(T55,Schiri_25!$A$2:$L$129,3,0))","v":"Hochuli  Luca"},17,22,2,39,{"$f":"'Adressen Daten 25'!F4&\" \"&'Adressen Daten 25'!G4","v":"MR Beringen ( 2. Liga )"},{"$f":"'Adressen Daten 25'!I4","v":"Stefan"},{"$f":"'Adressen Daten 25'!J4","v":"Kunz"},{"$f":"IF('Adressen Daten 25'!K4=0,\" \",'Adressen Daten 25'!K4)","v":"Mühleweg 15"},{"$f":"IF('Adressen Daten 25'!L4=0,\" \",'Adressen Daten 25'!L4)","v":8222},{"$f":"IF('Adressen Daten 25'!M4=0,\" \",'Adressen Daten 25'!M4)","v":"Beringen"},{"$f":"IF('Adressen Daten 25'!N4=0,\" \",'Adressen Daten 25'!N4)","v":"052 685 20 53"},{"$f":"'Adressen Daten 25'!O4","v":"052 685 01 01"},{"$f":"'Adressen Daten 25'!P4","v":"faustball@mrberingen.ch"},2]
[null,23,23,null,"2025-06-22",48,69,"STV Alpnach  ( 1. Liga ) W",null,null,"FG Rickenbach-Wilen ( NLA )",2,null,5,"2025-06-26","19:30:00","Alpnach","Sportplatz Giswil",3,63,{"$f":"IF(T56=0,\"\",VLOOKUP(T56,Schiri_25!$A$2:$L$129,2,0)&\"  \"&VLOOKUP(T56,Schiri_25!$A$2:$L$129,3,0))","v":"Leu  Peter"},30,23,3,40,{"$f":"'Adressen Daten 25'!F5&\" \"&'Adressen Daten 25'!G5","v":"STV Elgg ( 2. Liga )"},{"$f":"'Adressen Daten 25'!I5","v":"Oliver"},{"$f":"'Adressen Daten 25'!J5","v":"Lang"},{"$f":"IF('Adressen Daten 25'!K5=0,\" \",'Adressen Daten 25'!K5)","v":" "},{"$f":"IF('Adressen Daten 25'!L5=0,\" \",'Adressen Daten 25'!L5)","v":" "},{"$f":"IF('Adressen Daten 25'!M5=0,\" \",'Adressen Daten 25'!M5)","v":" "},{"$f":"IF('Adressen Daten 25'!N5=0,\" \",'Adressen Daten 25'!N5)","v":" "},{"$f":"'Adressen Daten 25'!O5","v":"079 672 93 60"},{"$f":"'Adressen Daten 25'!P5","v":"lang@swissfaustball.ch"},3]
[null,24,24,null,"2025-06-20",47,66,"TV Widnau ( 2. Liga F ) ",null,null,"FG Elgg-Ettenhausen 1 ( NLA )",4,null,5,"2025-07-24","18:30:00","Widnau","Rest Habsburg",3,11,{"$f":"IF(T57=0,\"\",VLOOKUP(T57,Schiri_25!$A$2:$L$129,2,0)&\"  \"&VLOOKUP(T57,Schiri_25!$A$2:$L$129,3,0))","v":"Meyerhans  Richard"},13,24,4,41,{"$f":"'Adressen Daten 25'!F6&\" \"&'Adressen Daten 25'!G6","v":"FBV Ettenhausen ( 2. Liga S )"},{"$f":"'Adressen Daten 25'!I6","v":"Simon "},{"$f":"'Adressen Daten 25'!J6","v":"Kunz"},{"$f":"IF('Adressen Daten 25'!K6=0,\" \",'Adressen Daten 25'!K6)","v":"Matthofstr 43"},{"$f":"IF('Adressen Daten 25'!L6=0,\" \",'Adressen Daten 25'!L6)","v":8355},{"$f":"IF('Adressen Daten 25'!M6=0,\" \",'Adressen Daten 25'!M6)","v":"Aadorf"},{"$f":"IF('Adressen Daten 25'!N6=0,\" \",'Adressen Daten 25'!N6)","v":" "},{"$f":"'Adressen Daten 25'!O6","v":"079 438 17 59"},{"$f":"'Adressen Daten 25'!P6","v":"simon.kunz@fbv-ettenhausen.ch"},4]
[null,null,".",{"$nulls":17},{"$f":"IF(T58=0,\"\",VLOOKUP(T58,Schiri_25!$A$2:$L$129,2,0)&\"  \"&VLOOKUP(T58,Schiri_25!$A$2:$L$129,3,0))","v":""},{"$f":"SUM(V50:V57)","v":92},null,5,42,{"$f":"'Adressen Daten 25'!F7&\" \"&'Adressen Daten 25'!G7","v":"STV Felben-W.hausen ( 2. Liga )"},{"$f":"'Adressen Daten 25'!I7","v":"Patrick"},{"$f":"'Adressen Daten 25'!J7","v":"Oderbolz"},{"$f":"IF('Adressen Daten 25'!K7=0,\" \",'Adressen Daten 25'!K7)","v":" "},{"$f":"IF('Adressen Daten 25'!L7=0,\" \",'Adressen Daten 25'!L7)","v":" "},{"$f":"IF('Adressen Daten 25'!M7=0,\" \",'Adressen Daten 25'!M7)","v":" "},{"$f":"IF('Adressen Daten 25'!N7=0,\" \",'Adressen Daten 25'!N7)","v":" "},{"$f":"'Adressen Daten 25'!O7","v":"079 346 01 18"},{"$f":"'Adressen Daten 25'!P7","v":"patrick@oderbolz.ch"},5]
[{"$nulls":20},{"$f":"IF(T59=0,\"\",VLOOKUP(T59,Schiri_25!$A$2:$L$129,2,0)&\"  \"&VLOOKUP(T59,Schiri_25!$A$2:$L$129,3,0))","v":""},null,null,6,43,{"$f":"'Adressen Daten 25'!F8&\" \"&'Adressen Daten 25'!G8","v":"STV Müllheim ( 2. L )"},{"$f":"'Adressen Daten 25'!I8","v":"Raphael"},{"$f":"'Adressen Daten 25'!J8","v":"Gubser"},{"$f":"IF('Adressen Daten 25'!K8=0,\" \",'Adressen Daten 25'!K8)","v":" "},{"$f":"IF('Adressen Daten 25'!L8=0,\" \",'Adressen Daten 25'!L8)","v":" "},{"$f":"IF('Adressen Daten 25'!M8=0,\" \",'Adressen Daten 25'!M8)","v":" "},{"$f":"IF('Adressen Daten 25'!N8=0,\" \",'Adressen Daten 25'!N8)","v":" "},{"$f":"'Adressen Daten 25'!O8","v":"079 519 86 51"},{"$f":"'Adressen Daten 25'!P8","v":"raffigubser@bluewin.ch"},6]
[{"$nulls":20},{"$f":"IF(T60=0,\"\",VLOOKUP(T60,Schiri_25!$A$2:$L$129,2,0)&\"  \"&VLOOKUP(T60,Schiri_25!$A$2:$L$129,3,0))","v":""},null,null,7,44,{"$f":"'Adressen Daten 25'!F9&\" \"&'Adressen Daten 25'!G9","v":"STV Oberentfelden   ( 2. Liga )"},{"$f":"'Adressen Daten 25'!I9","v":"Christian"},{"$f":"'Adressen Daten 25'!J9","v":"Suter"},{"$f":"IF('Adressen Daten 25'!K9=0,\" \",'Adressen Daten 25'!K9)","v":"Aeppenhaldenstr 3b"},{"$f":"IF('Adressen Daten 25'!L9=0,\" \",'Adressen Daten 25'!L9)","v":4800},{"$f":"IF('Adressen Daten 25'!M9=0,\" \",'Adressen Daten 25'!M9)","v":"Zofingen"},{"$f":"IF('Adressen Daten 25'!N9=0,\" \",'Adressen Daten 25'!N9)","v":" "},{"$f":"'Adressen Daten 25'!O9","v":"079 476 04 32"},{"$f":"'Adressen Daten 25'!P9","v":"christian.suter@faustballcenter.ch"},7]
[null,null,{"$f":"VLOOKUP($C$62,$Y$8:$AC$14,5,0)","v":"1/4 Final"},{"$nulls":4},{"$f":"VLOOKUP($C$62,$Y$8:$AC$14,2,0)","v":"2025-07-28"},null,null,{"$f":"VLOOKUP($C$62,$Y$8:$AC$14,3,0)","v":"2025-08-15"},{"$nulls":12},8,45,{"$f":"'Adressen Daten 25'!F10&\" \"&'Adressen Daten 25'!G10","v":"STV Töss ( 2. Liga )"},{"$f":"'Adressen Daten 25'!I10","v":"Benjamin"},{"$f":"'Adressen Daten 25'!J10","v":"Boldo"},{"$f":"IF('Adressen Daten 25'!K10=0,\" \",'Adressen Daten 25'!K10)","v":"Metzggasse 6"},{"$f":"IF('Adressen Daten 25'!L10=0,\" \",'Adressen Daten 25'!L10)","v":8400},{"$f":"IF('Adressen Daten 25'!M10=0,\" \",'Adressen Daten 25'!M10)","v":"Winterthur"},{"$f":"IF('Adressen Daten 25'!N10=0,\" \",'Adressen Daten 25'!N10)","v":" "},{"$f":"'Adressen Daten 25'!O10","v":"076 320 86 65"},{"$f":"'Adressen Daten 25'!P10","v":"b.boldo@bluewin.ch"},8]
[null,null,4,{"$nulls":20},9,46,{"$f":"'Adressen Daten 25'!F11&\" \"&'Adressen Daten 25'!G11","v":"SUS Widnau   ( 2. Liga F )"},{"$f":"'Adressen Daten 25'!I11","v":"Marco"},{"$f":"'Adressen Daten 25'!J11","v":"Nüesch"},{"$f":"IF('Adressen Daten 25'!K11=0,\" \",'Adressen Daten 25'!K11)","v":" "},{"$f":"IF('Adressen Daten 25'!L11=0,\" \",'Adressen Daten 25'!L11)","v":" "},{"$f":"IF('Adressen Daten 25'!M11=0,\" \",'Adressen Daten 25'!M11)","v":" "},{"$f":"IF('Adressen Daten 25'!N11=0,\" \",'Adressen Daten 25'!N11)","v":" "},{"$f":"'Adressen Daten 25'!O11","v":"079 404 47 21"},{"$f":"'Adressen Daten 25'!P11","v":"marco.nueesch@faustball-widnau.ch"},9]
[null,null,"Sp No","Aufgeb\no Schiri","Aufgebo\nan Schiri",null,null,"Mannschaft ",null,null,"Mannschaft","Resultat",null,null,"wann ","Zeit","Ort","Sportplazt","Bonus",null,"Schiri ","Km",null,10,47,{"$f":"'Adressen Daten 25'!F12&\" \"&'Adressen Daten 25'!G12","v":"TV Widnau ( 2. Liga F ) "},{"$f":"'Adressen Daten 25'!I12","v":"Jerome"},{"$f":"'Adressen Daten 25'!J12","v":"Sepin"},{"$f":"IF('Adressen Daten 25'!K12=0,\" \",'Adressen Daten 25'!K12)","v":" "},{"$f":"IF('Adressen Daten 25'!L12=0,\" \",'Adressen Daten 25'!L12)","v":" "},{"$f":"IF('Adressen Daten 25'!M12=0,\" \",'Adressen Daten 25'!M12)","v":" "},{"$f":"IF('Adressen Daten 25'!N12=0,\" \",'Adressen Daten 25'!N12)","v":" "},{"$f":"'Adressen Daten 25'!O12","v":"079 929 89 85"},{"$f":"'Adressen Daten 25'!P12","v":"jerome.sepin@gmail.com"},10]
[null,25,9.07,"2025-06-04",null,56,65,{"$f":"IF($F64=0,\"\",VLOOKUP($F64,$Y$17:$Z$94,2,0))","v":"TSV Jona 1( NLB O )"},null,null,{"$f":"IF($G64=0,\"\",VLOOKUP($G64,$Y$17:$Z$94,2,0))","v":"SVD Diepoldsau-Schmitter (NLA)"},1,null,5,"2025-07-14","19:30:00","Jona","Sportplatz Grünfeld",2,97,{"$f":"IF(T64=0,\"\",VLOOKUP(T64,Schiri_25!$A$2:$L$129,2,0)&\"  \"&VLOOKUP(T64,Schiri_25!$A$2:$L$129,3,0))","v":"Kammer  Sebastian"},5,25,11,48,{"$f":"'Adressen Daten 25'!F13&\" \"&'Adressen Daten 25'!G13","v":"STV Alpnach  ( 1. Liga ) W"},{"$f":"'Adressen Daten 25'!I13","v":"Kasper"},{"$f":"'Adressen Daten 25'!J13","v":"Tobias"},{"$f":"IF('Adressen Daten 25'!K13=0,\" \",'Adressen Daten 25'!K13)","v":"Schneggenhubel 5"},{"$f":"IF('Adressen Daten 25'!L13=0,\" \",'Adressen Daten 25'!L13)","v":6064},{"$f":"IF('Adressen Daten 25'!M13=0,\" \",'Adressen Daten 25'!M13)","v":"Kerns"},{"$f":"IF('Adressen Daten 25'!N13=0,\" \",'Adressen Daten 25'!N13)","v":" "},{"$f":"'Adressen Daten 25'!O13","v":"079 713 39 48"},{"$f":"'Adressen Daten 25'!P13","v":"m.bucher@hs-team.ch"},11]
[null,26,26,"2025-07-16","2025-08-16",41,64,{"$f":"IF($F65=0,\"\",VLOOKUP($F65,$Y$17:$Z$94,2,0))","v":"FBV Ettenhausen ( 2. Liga S )"},null,null,{"$f":"IF($G65=0,\"\",VLOOKUP($G65,$Y$17:$Z$94,2,0))","v":"STV Affeltrangen  ( NLA )"},1,null,5,"2025-08-19","19:00:00","Guntershausen","Schulhaus",3,79,{"$f":"IF(T65=0,\"\",VLOOKUP(T65,Schiri_25!$A$2:$L$129,2,0)&\"  \"&VLOOKUP(T65,Schiri_25!$A$2:$L$129,3,0))","v":"Ziereisen  Daniel"},7,26,12,49,{"$f":"'Adressen Daten 25'!F14&\" \"&'Adressen Daten 25'!G14","v":"FB Burgdorf (1. Liga  W)"},{"$f":"'Adressen Daten 25'!I14","v":"Stefan"},{"$f":"'Adressen Daten 25'!J14","v":"Tschannen"},{"$f":"IF('Adressen Daten 25'!K14=0,\" \",'Adressen Daten 25'!K14)","v":"Rumiweg 9"},{"$f":"IF('Adressen Daten 25'!L14=0,\" \",'Adressen Daten 25'!L14)","v":4900},{"$f":"IF('Adressen Daten 25'!M14=0,\" \",'Adressen Daten 25'!M14)","v":"Langenthal"},{"$f":"IF('Adressen Daten 25'!N14=0,\" \",'Adressen Daten 25'!N14)","v":" "},{"$f":"'Adressen Daten 25'!O14","v":"079 329 41 52"},{"$f":"'Adressen Daten 25'!P14","v":"st.fb_burgdorf@bluewin.ch"},12]
[null,27,27,"2025-06-04",null,44,68,{"$f":"IF($F66=0,\"\",VLOOKUP($F66,$Y$17:$Z$94,2,0))","v":"STV Oberentfelden   ( 2. Liga )"},null,null,{"$f":"IF($G66=0,\"\",VLOOKUP($G66,$Y$17:$Z$94,2,0))","v":"STV Oberentfelden   ( NLA )"},5,null,0,"2025-08-19","19:30:00","Oberentfelde","Erlenweg",3,95,{"$f":"IF(T66=0,\"\",VLOOKUP(T66,Schiri_25!$A$2:$L$129,2,0)&\"  \"&VLOOKUP(T66,Schiri_25!$A$2:$L$129,3,0))","v":"Hochuli  Luca"},17,27,13,50,{"$f":"'Adressen Daten 25'!F15&\" \"&'Adressen Daten 25'!G15","v":"TSV Jona 2  ( 1. Liga O )  "},{"$f":"'Adressen Daten 25'!I15","v":"Fabian"},{"$f":"'Adressen Daten 25'!J15","v":"Zahner"},{"$f":"IF('Adressen Daten 25'!K15=0,\" \",'Adressen Daten 25'!K15)","v":" "},{"$f":"IF('Adressen Daten 25'!L15=0,\" \",'Adressen Daten 25'!L15)","v":" "},{"$f":"IF('Adressen Daten 25'!M15=0,\" \",'Adressen Daten 25'!M15)","v":" "},{"$f":"IF('Adressen Daten 25'!N15=0,\" \",'Adressen Daten 25'!N15)","v":" "},{"$f":"'Adressen Daten 25'!O15","v":"076 592 09 17"},{"$f":"'Adressen Daten 25'!P15","v":"tkchef@fbjona.ch"},13]
[null,28,28,"2025-07-25",null,69,66,{"$f":"IF($F67=0,\"\",VLOOKUP($F67,$Y$17:$Z$94,2,0))","v":"FG Rickenbach-Wilen ( NLA )"},null,null,{"$f":"IF($G67=0,\"\",VLOOKUP($G67,$Y$17:$Z$94,2,0))","v":"FG Elgg-Ettenhausen 1 ( NLA )"},3,null,5,"2025-08-28","18:55:00","Rickenbach","Aegelsee",0,9,{"$f":"IF(T67=0,\"\",VLOOKUP(T67,Schiri_25!$A$2:$L$129,2,0)&\"  \"&VLOOKUP(T67,Schiri_25!$A$2:$L$129,3,0))","v":"Mähr  Reto"},9,28,14,51,{"$f":"'Adressen Daten 25'!F16&\" \"&'Adressen Daten 25'!G16","v":"STV Spreitenbach 1 ( 1. Liga W )"},{"$f":"'Adressen Daten 25'!I16","v":"Thomas"},{"$f":"'Adressen Daten 25'!J16","v":"Isenschmid"},{"$f":"IF('Adressen Daten 25'!K16=0,\" \",'Adressen Daten 25'!K16)","v":" "},{"$f":"IF('Adressen Daten 25'!L16=0,\" \",'Adressen Daten 25'!L16)","v":" "},{"$f":"IF('Adressen Daten 25'!M16=0,\" \",'Adressen Daten 25'!M16)","v":" "},{"$f":"IF('Adressen Daten 25'!N16=0,\" \",'Adressen Daten 25'!N16)","v":" "},{"$f":"'Adressen Daten 25'!O16","v":"079 481 86 81"},{"$f":"'Adressen Daten 25'!P16","v":"thomas@isenschmid.com"},14]
[{"$nulls":7},{"$f":"IF($F68=0,\"\",VLOOKUP($F68,$Y$17:$Z$94,2,0))","v":""},null,null,{"$f":"IF($G68=0,\"\",VLOOKUP($G68,$Y$17:$Z$94,2,0))","v":""},{"$nulls":9},{"$f":"IF(T68=0,\"\",VLOOKUP(T68,Schiri_25!$A$2:$L$129,2,0)&\"  \"&VLOOKUP(T68,Schiri_25!$A$2:$L$129,3,0))","v":""},null,null,15,52,{"$f":"'Adressen Daten 25'!F17&\" \"&'Adressen Daten 25'!G17","v":"STV Vordemwald 2  ( 1. Liga W)"},{"$f":"'Adressen Daten 25'!I17","v":"Reto"},{"$f":"'Adressen Daten 25'!J17","v":"Von Ballmoos"},{"$f":"IF('Adressen Daten 25'!K17=0,\" \",'Adressen Daten 25'!K17)","v":"Rotfarbstr 9"},{"$f":"IF('Adressen Daten 25'!L17=0,\" \",'Adressen Daten 25'!L17)","v":4800},{"$f":"IF('Adressen Daten 25'!M17=0,\" \",'Adressen Daten 25'!M17)","v":"Zofingen"},{"$f":"IF('Adressen Daten 25'!N17=0,\" \",'Adressen Daten 25'!N17)","v":" "},{"$f":"'Adressen Daten 25'!O17","v":"079 721 45 82"},{"$f":"'Adressen Daten 25'!P17","v":"reto.vonballmoos@gmail.com"},15]
[{"$nulls":23},16,53,{"$f":"'Adressen Daten 25'!F18&\" \"&'Adressen Daten 25'!G18","v":"STV Dägerlen ( NLB O )"},{"$f":"'Adressen Daten 25'!I18","v":"Aron"},{"$f":"'Adressen Daten 25'!J18","v":"Werder"},{"$f":"IF('Adressen Daten 25'!K18=0,\" \",'Adressen Daten 25'!K18)","v":" "},{"$f":"IF('Adressen Daten 25'!L18=0,\" \",'Adressen Daten 25'!L18)","v":" "},{"$f":"IF('Adressen Daten 25'!M18=0,\" \",'Adressen Daten 25'!M18)","v":" "},{"$f":"IF('Adressen Daten 25'!N18=0,\" \",'Adressen Daten 25'!N18)","v":" "},{"$f":"'Adressen Daten 25'!O18","v":"077 423 20 05"},{"$f":"'Adressen Daten 25'!P18","v":"materialwart@fbrdaegerlen.ch"},16]
[null,null,{"$f":"VLOOKUP($C$71,$Y$8:$AC$14,5,0)","v":"1/2 Final"},{"$nulls":4},{"$f":"VLOOKUP($C$71,$Y$8:$AC$14,2,0)","v":"2025-08-18"},null,null,{"$f":"VLOOKUP($C$71,$Y$8:$AC$14,3,0)","v":"2025-09-05"},{"$nulls":12},17,54,{"$f":"'Adressen Daten 25'!F19&\" \"&'Adressen Daten 25'!G19","v":"STV Dozwil ( NLB O )"},{"$f":"'Adressen Daten 25'!I19","v":"Josua"},{"$f":"'Adressen Daten 25'!J19","v":"Schlattinger"},{"$f":"IF('Adressen Daten 25'!K19=0,\" \",'Adressen Daten 25'!K19)","v":" "},{"$f":"IF('Adressen Daten 25'!L19=0,\" \",'Adressen Daten 25'!L19)","v":" "},{"$f":"IF('Adressen Daten 25'!M19=0,\" \",'Adressen Daten 25'!M19)","v":" "},{"$f":"IF('Adressen Daten 25'!N19=0,\" \",'Adressen Daten 25'!N19)","v":" "},{"$f":"'Adressen Daten 25'!O19","v":"076 320 30 46"},{"$f":"'Adressen Daten 25'!P19","v":"j.schlattinger@gmx.ch"},17]
[null,null,5,{"$nulls":20},18,55,{"$f":"'Adressen Daten 25'!F20&\" \"&'Adressen Daten 25'!G20","v":"FG Elgg-Ettenhausen 2 ( NLB O )"},{"$f":"'Adressen Daten 25'!I20","v":"Christian"},{"$f":"'Adressen Daten 25'!J20","v":"Götsch"},{"$f":"IF('Adressen Daten 25'!K20=0,\" \",'Adressen Daten 25'!K20)","v":"Handestr 15"},{"$f":"IF('Adressen Daten 25'!L20=0,\" \",'Adressen Daten 25'!L20)","v":8357},{"$f":"IF('Adressen Daten 25'!M20=0,\" \",'Adressen Daten 25'!M20)","v":"Guntershausen"},{"$f":"IF('Adressen Daten 25'!N20=0,\" \",'Adressen Daten 25'!N20)","v":" "},{"$f":"'Adressen Daten 25'!O20","v":"078 711 66 45"},{"$f":"'Adressen Daten 25'!P20","v":"christian.goetsch@fbv-ettenhausen.ch"},18]
[null,null,"Sp No","Aufgeb\no Schiri","Aufgebo\nan Schiri",null,null,"Mannschaft ",null,null,"Mannschaft","Resultat",null,null,"wann ","Zeit","Ort","Sportplazt","Bonus",null,"Schiri ",null,null,19,56,{"$f":"'Adressen Daten 25'!F21&\" \"&'Adressen Daten 25'!G21","v":"TSV Jona 1( NLB O )"},{"$f":"'Adressen Daten 25'!I21","v":"Fabian"},{"$f":"'Adressen Daten 25'!J21","v":"Zahner"},{"$f":"IF('Adressen Daten 25'!K21=0,\" \",'Adressen Daten 25'!K21)","v":" "},{"$f":"IF('Adressen Daten 25'!L21=0,\" \",'Adressen Daten 25'!L21)","v":" "},{"$f":"IF('Adressen Daten 25'!M21=0,\" \",'Adressen Daten 25'!M21)","v":" "},{"$f":"IF('Adressen Daten 25'!N21=0,\" \",'Adressen Daten 25'!N21)","v":" "},{"$f":"'Adressen Daten 25'!O21","v":"076 592 09 17"},{"$f":"'Adressen Daten 25'!P21","v":"tkchef@fbjona.ch"},19]
[null,29,29,"2025-08-21",null,65,64,{"$f":"IF($F73=0,\"\",VLOOKUP($F73,$Y$17:$Z$94,2,0))","v":"SVD Diepoldsau-Schmitter (NLA)"},null,null,{"$f":"IF($G73=0,\"\",VLOOKUP($G73,$Y$17:$Z$94,2,0))","v":"STV Affeltrangen  ( NLA )"},1,null,5,"2025-08-28","19:00:00","Diepoldsau","Diepoldsau",0,13,{"$f":"IF(T73=0,\"\",VLOOKUP(T73,Schiri_25!$A$2:$L$129,2,0)&\"  \"&VLOOKUP(T73,Schiri_25!$A$2:$L$129,3,0))","v":"Sieber  Patrick"},5,29,20,57,{"$f":"'Adressen Daten 25'!F22&\" \"&'Adressen Daten 25'!G22","v":"STV Kirchberg  ( NLB W )"},{"$f":"'Adressen Daten 25'!I22","v":"Rudolf"},{"$f":"'Adressen Daten 25'!J22","v":"Nyffenegger"},{"$f":"IF('Adressen Daten 25'!K22=0,\" \",'Adressen Daten 25'!K22)","v":"Solothurnerstr 31"},{"$f":"IF('Adressen Daten 25'!L22=0,\" \",'Adressen Daten 25'!L22)","v":3422},{"$f":"IF('Adressen Daten 25'!M22=0,\" \",'Adressen Daten 25'!M22)","v":"Kirchberg"},{"$f":"IF('Adressen Daten 25'!N22=0,\" \",'Adressen Daten 25'!N22)","v":" "},{"$f":"'Adressen Daten 25'!O22","v":"079 376 96 25"},{"$f":"'Adressen Daten 25'!P22","v":"faustball@tvkirchberg.ch"},20]
[null,30,null,null,null,44,66,{"$f":"IF($F74=0,\"\",VLOOKUP($F74,$Y$17:$Z$94,2,0))","v":"STV Oberentfelden   ( 2. Liga )"},null,null,{"$f":"IF($G74=0,\"\",VLOOKUP($G74,$Y$17:$Z$94,2,0))","v":"FG Elgg-Ettenhausen 1 ( NLA )"},{"$nulls":9},{"$f":"IF(T74=0,\"\",VLOOKUP(T74,Schiri_25!$A$2:$L$129,2,0)&\"  \"&VLOOKUP(T74,Schiri_25!$A$2:$L$129,3,0))","v":""},null,30,21,58,{"$f":"'Adressen Daten 25'!F23&\" \"&'Adressen Daten 25'!G23","v":"TV Oberwinterthur  (NLB )"},{"$f":"'Adressen Daten 25'!I23","v":"Fabio"},{"$f":"'Adressen Daten 25'!J23","v":"Schiess"},{"$f":"IF('Adressen Daten 25'!K23=0,\" \",'Adressen Daten 25'!K23)","v":"Hofwis 12"},{"$f":"IF('Adressen Daten 25'!L23=0,\" \",'Adressen Daten 25'!L23)","v":8352},{"$f":"IF('Adressen Daten 25'!M23=0,\" \",'Adressen Daten 25'!M23)","v":"Elsau"},{"$f":"IF('Adressen Daten 25'!N23=0,\" \",'Adressen Daten 25'!N23)","v":" "},{"$f":"'Adressen Daten 25'!O23","v":"079 913 84 85"},{"$f":"'Adressen Daten 25'!P23","v":"fabio.schiess@schiessag.ch"},21]
[{"$nulls":20},{"$f":"IF(T75=0,\"\",VLOOKUP(T75,Schiri_25!$A$2:$L$129,2,0)&\"  \"&VLOOKUP(T75,Schiri_25!$A$2:$L$129,3,0))","v":""},null,null,22,59,{"$f":"'Adressen Daten 25'!F24&\" \"&'Adressen Daten 25'!G24","v":"STV Rickenbach-Wilen 2 ( NLB )"},{"$f":"'Adressen Daten 25'!I24","v":"Jonas"},{"$f":"'Adressen Daten 25'!J24","v":"Hess"},{"$f":"IF('Adressen Daten 25'!K24=0,\" \",'Adressen Daten 25'!K24)","v":" "},{"$f":"IF('Adressen Daten 25'!L24=0,\" \",'Adressen Daten 25'!L24)","v":" "},{"$f":"IF('Adressen Daten 25'!M24=0,\" \",'Adressen Daten 25'!M24)","v":" "},{"$f":"IF('Adressen Daten 25'!N24=0,\" \",'Adressen Daten 25'!N24)","v":" "},{"$f":"'Adressen Daten 25'!O24","v":"079 900 69 17"},{"$f":"'Adressen Daten 25'!P24","v":"spiko@fgriwi.ch"},22]
[{"$nulls":7},{"$f":"IF($F76=0,\"\",VLOOKUP($F76,$Y$17:$Z$94,2,0))","v":""},null,null,{"$f":"IF($G76=0,\"\",VLOOKUP($G76,$Y$17:$Z$94,2,0))","v":""},{"$nulls":9},{"$f":"IF(T76=0,\"\",VLOOKUP(T76,Schiri_25!$A$2:$L$129,2,0)&\"  \"&VLOOKUP(T76,Schiri_25!$A$2:$L$129,3,0))","v":""},null,null,23,60,{"$f":"'Adressen Daten 25'!F25&\" \"&'Adressen Daten 25'!G25","v":"STV Schlieren ( NLB O )"},{"$f":"'Adressen Daten 25'!I25","v":"Andreas"},{"$f":"'Adressen Daten 25'!J25","v":"Fritschi"},{"$f":"IF('Adressen Daten 25'!K25=0,\" \",'Adressen Daten 25'!K25)","v":" "},{"$f":"IF('Adressen Daten 25'!L25=0,\" \",'Adressen Daten 25'!L25)","v":" "},{"$f":"IF('Adressen Daten 25'!M25=0,\" \",'Adressen Daten 25'!M25)","v":" "},{"$f":"IF('Adressen Daten 25'!N25=0,\" \",'Adressen Daten 25'!N25)","v":" "},{"$f":"'Adressen Daten 25'!O25","v":"079 602 18 32"},{"$f":"'Adressen Daten 25'!P25","v":"maenner@faustballschlieren.ch"},23]
[{"$nulls":7},{"$f":"IF($F77=0,\"\",VLOOKUP($F77,$Y$17:$Z$94,2,0))","v":""},null,null,{"$f":"IF($G77=0,\"\",VLOOKUP($G77,$Y$17:$Z$94,2,0))","v":""},{"$nulls":9},{"$f":"IF(T77=0,\"\",VLOOKUP(T77,Schiri_25!$A$2:$L$129,2,0)&\"  \"&VLOOKUP(T77,Schiri_25!$A$2:$L$129,3,0))","v":""},null,null,24,61,{"$f":"'Adressen Daten 25'!F26&\" \"&'Adressen Daten 25'!G26","v":"STV Schlossrued ( NLB W )"},{"$f":"'Adressen Daten 25'!I26","v":"Michael"},{"$f":"'Adressen Daten 25'!J26","v":"Hochuli"},{"$f":"IF('Adressen Daten 25'!K26=0,\" \",'Adressen Daten 25'!K26)","v":"Gartenstr 4a"},{"$f":"IF('Adressen Daten 25'!L26=0,\" \",'Adressen Daten 25'!L26)","v":5043},{"$f":"IF('Adressen Daten 25'!M26=0,\" \",'Adressen Daten 25'!M26)","v":"Holzikon"},{"$f":"IF('Adressen Daten 25'!N26=0,\" \",'Adressen Daten 25'!N26)","v":" "},{"$f":"'Adressen Daten 25'!O26","v":"079 607 23 24"},{"$f":"'Adressen Daten 25'!P26","v":"michi_ho1997@hotmail.com"},24]
[{"$nulls":7},{"$f":"IF($F78=0,\"\",VLOOKUP($F78,$Y$17:$Z$94,2,0))","v":""},null,null,{"$f":"IF($G78=0,\"\",VLOOKUP($G78,$Y$17:$Z$94,2,0))","v":""},{"$nulls":9},{"$f":"IF(T78=0,\"\",VLOOKUP(T78,Schiri_25!$A$2:$L$129,2,0)&\"  \"&VLOOKUP(T78,Schiri_25!$A$2:$L$129,3,0))","v":""},{"$f":"SUM(V73:V77)","v":5},null,25,62,{"$f":"'Adressen Daten 25'!F27&\" \"&'Adressen Daten 25'!G27","v":"FB Schwellbrunn ( NLB  O)"},{"$f":"'Adressen Daten 25'!I27","v":"Kenneth"},{"$f":"'Adressen Daten 25'!J27","v":"Schoch"},{"$f":"IF('Adressen Daten 25'!K27=0,\" \",'Adressen Daten 25'!K27)","v":"Ahornstr "},{"$f":"IF('Adressen Daten 25'!L27=0,\" \",'Adressen Daten 25'!L27)","v":9100},{"$f":"IF('Adressen Daten 25'!M27=0,\" \",'Adressen Daten 25'!M27)","v":"Herisau"},{"$f":"IF('Adressen Daten 25'!N27=0,\" \",'Adressen Daten 25'!N27)","v":" "},{"$f":"'Adressen Daten 25'!O27","v":"079 603 88 30"},{"$f":"'Adressen Daten 25'!P27","v":"kennethschoch@bluewin.ch"},25]
[{"$nulls":7},{"$f":"IF($F79=0,\"\",VLOOKUP($F79,$Y$17:$Z$94,2,0))","v":""},null,null,{"$f":"IF($G79=0,\"\",VLOOKUP($G79,$Y$17:$Z$94,2,0))","v":""},{"$nulls":9},{"$f":"IF(T79=0,\"\",VLOOKUP(T79,Schiri_25!$A$2:$L$129,2,0)&\"  \"&VLOOKUP(T79,Schiri_25!$A$2:$L$129,3,0))","v":""},null,null,26,63,{"$f":"'Adressen Daten 25'!F28&\" \"&'Adressen Daten 25'!G28","v":"STV Vordemwald 1 ( NLB W )"},{"$f":"'Adressen Daten 25'!I28","v":"Reto"},{"$f":"'Adressen Daten 25'!J28","v":"von Ballmoos"},{"$f":"IF('Adressen Daten 25'!K28=0,\" \",'Adressen Daten 25'!K28)","v":"Rotfarbstr 9"},{"$f":"IF('Adressen Daten 25'!L28=0,\" \",'Adressen Daten 25'!L28)","v":4800},{"$f":"IF('Adressen Daten 25'!M28=0,\" \",'Adressen Daten 25'!M28)","v":"Zofingen"},{"$f":"IF('Adressen Daten 25'!N28=0,\" \",'Adressen Daten 25'!N28)","v":" "},{"$f":"'Adressen Daten 25'!O28","v":"079 721 45 82"},{"$f":"'Adressen Daten 25'!P28","v":"reto.vonballmoos@gmail.com"},26]
[null,null,{"$f":"VLOOKUP($C$81,$Y$8:$AC$14,5,0)","v":"Final"},{"$nulls":4},{"$f":"VLOOKUP($C$81,$Y$8:$AC$14,2,0)","v":"2025-09-20"},{"$nulls":15},27,64,{"$f":"'Adressen Daten 25'!F29&\" \"&'Adressen Daten 25'!G29","v":"STV Affeltrangen  ( NLA )"},{"$f":"'Adressen Daten 25'!I29","v":"Andreas"},{"$f":"'Adressen Daten 25'!J29","v":"Ribi"},{"$f":"IF('Adressen Daten 25'!K29=0,\" \",'Adressen Daten 25'!K29)","v":"Unterdorfstr 2b"},{"$f":"IF('Adressen Daten 25'!L29=0,\" \",'Adressen Daten 25'!L29)","v":8507},{"$f":"IF('Adressen Daten 25'!M29=0,\" \",'Adressen Daten 25'!M29)","v":"Hörhausen"},{"$f":"IF('Adressen Daten 25'!N29=0,\" \",'Adressen Daten 25'!N29)","v":" "},{"$f":"'Adressen Daten 25'!O29","v":"079 585 70 85"},{"$f":"'Adressen Daten 25'!P29","v":"faustball@stv-affeltrangen.ch "},27]
[null,null,6,{"$nulls":20},28,65,{"$f":"'Adressen Daten 25'!F30&\" \"&'Adressen Daten 25'!G30","v":"SVD Diepoldsau-Schmitter (NLA)"},{"$f":"'Adressen Daten 25'!I30","v":"Lorena"},{"$f":"'Adressen Daten 25'!J30","v":"Lipp"},{"$f":"IF('Adressen Daten 25'!K30=0,\" \",'Adressen Daten 25'!K30)","v":"Unterdorfstr 47"},{"$f":"IF('Adressen Daten 25'!L30=0,\" \",'Adressen Daten 25'!L30)","v":9443},{"$f":"IF('Adressen Daten 25'!M30=0,\" \",'Adressen Daten 25'!M30)","v":"Widnau"},{"$f":"IF('Adressen Daten 25'!N30=0,\" \",'Adressen Daten 25'!N30)","v":" "},{"$f":"'Adressen Daten 25'!O30","v":"076 573 09 99"},{"$f":"'Adressen Daten 25'!P30","v":"spiko@faustball-svd.clubdesk.com"},28]
[null,null,"Sp No","Aufgeb\no Schiri","Aufgebo\nan Schiri",null,null,"Mannschaft ",null,null,"Mannschaft","Resultat",null,null,"wann ","Zeit","Ort","Sportplazt","Bonus",null,"Schiri ","Km",null,29,66,{"$f":"'Adressen Daten 25'!F31&\" \"&'Adressen Daten 25'!G31","v":"FG Elgg-Ettenhausen 1 ( NLA )"},{"$f":"'Adressen Daten 25'!I31","v":"Markus"},{"$f":"'Adressen Daten 25'!J31","v":"Fehr"},{"$f":"IF('Adressen Daten 25'!K31=0,\" \",'Adressen Daten 25'!K31)","v":"Hintergasse 3a"},{"$f":"IF('Adressen Daten 25'!L31=0,\" \",'Adressen Daten 25'!L31)","v":8353},{"$f":"IF('Adressen Daten 25'!M31=0,\" \",'Adressen Daten 25'!M31)","v":"Elgg"},{"$f":"IF('Adressen Daten 25'!N31=0,\" \",'Adressen Daten 25'!N31)","v":" "},{"$f":"'Adressen Daten 25'!O31","v":"078 613 39 28"},{"$f":"'Adressen Daten 25'!P31","v":"fehr.markus@bluewin.ch"},29]
[null,31,null,null,null,64,null,{"$f":"IF($F83=0,\"\",VLOOKUP($F83,$Y$17:$Z$94,2,0))","v":"STV Affeltrangen  ( NLA )"},null,null,{"$f":"IF($G83=0,\"\",VLOOKUP($G83,$Y$17:$Z$94,2,0))","v":""},{"$nulls":9},{"$f":"IF(T83=0,\"\",VLOOKUP(T83,Schiri_25!$A$2:$L$129,2,0)&\"  \"&VLOOKUP(T83,Schiri_25!$A$2:$L$129,3,0))","v":""},null,null,30,67,{"$f":"'Adressen Daten 25'!F32&\" \"&'Adressen Daten 25'!G32","v":"FG Fricktal ( NLA  )"},{"$f":"'Adressen Daten 25'!I32","v":"Patrick"},{"$f":"'Adressen Daten 25'!J32","v":"Hochreuter"},{"$f":"IF('Adressen Daten 25'!K32=0,\" \",'Adressen Daten 25'!K32)","v":"Scheuerackerweg 16"},{"$f":"IF('Adressen Daten 25'!L32=0,\" \",'Adressen Daten 25'!L32)","v":5223},{"$f":"IF('Adressen Daten 25'!M32=0,\" \",'Adressen Daten 25'!M32)","v":"Riniken"},{"$f":"IF('Adressen Daten 25'!N32=0,\" \",'Adressen Daten 25'!N32)","v":" "},{"$f":"'Adressen Daten 25'!O32","v":"079 238 91 30"},{"$f":"'Adressen Daten 25'!P32","v":"info@fgfricktal.ch"},30]
[{"$nulls":20},{"$f":"IF(T84=0,\"\",VLOOKUP(T84,Schiri_25!$A$2:$L$129,2,0)&\"  \"&VLOOKUP(T84,Schiri_25!$A$2:$L$129,3,0))","v":""},null,null,31,68,{"$f":"'Adressen Daten 25'!F33&\" \"&'Adressen Daten 25'!G33","v":"STV Oberentfelden   ( NLA )"},{"$f":"'Adressen Daten 25'!I33","v":"Christian"},{"$f":"'Adressen Daten 25'!J33","v":"Suter"},{"$f":"IF('Adressen Daten 25'!K33=0,\" \",'Adressen Daten 25'!K33)","v":"Aeppenhaldenstr 3b"},{"$f":"IF('Adressen Daten 25'!L33=0,\" \",'Adressen Daten 25'!L33)","v":4800},{"$f":"IF('Adressen Daten 25'!M33=0,\" \",'Adressen Daten 25'!M33)","v":"Zofingen"},{"$f":"IF('Adressen Daten 25'!N33=0,\" \",'Adressen Daten 25'!N33)","v":" "},{"$f":"'Adressen Daten 25'!O33","v":"079 476 04 32"},{"$f":"'Adressen Daten 25'!P33","v":"christian.suter@faustballcenter.ch"},31]
[{"$nulls":20},{"$f":"IF(T85=0,\"\",VLOOKUP(T85,Schiri_25!$A$2:$L$129,2,0)&\"  \"&VLOOKUP(T85,Schiri_25!$A$2:$L$129,3,0))","v":""},null,null,32,69,{"$f":"'Adressen Daten 25'!F34&\" \"&'Adressen Daten 25'!G34","v":"FG Rickenbach-Wilen ( NLA )"},{"$f":"'Adressen Daten 25'!I34","v":"Jonas"},{"$f":"'Adressen Daten 25'!J34","v":"Hess"},{"$f":"IF('Adressen Daten 25'!K34=0,\" \",'Adressen Daten 25'!K34)","v":" "},{"$f":"IF('Adressen Daten 25'!L34=0,\" \",'Adressen Daten 25'!L34)","v":" "},{"$f":"IF('Adressen Daten 25'!M34=0,\" \",'Adressen Daten 25'!M34)","v":" "},{"$f":"IF('Adressen Daten 25'!N34=0,\" \",'Adressen Daten 25'!N34)","v":" "},{"$f":"'Adressen Daten 25'!O34","v":"079 900 69 17"},{"$f":"'Adressen Daten 25'!P34","v":"spiko@fgriwi.ch"},32]
[{"$nulls":21},{"$f":"SUM(V83:V85)","v":0},null,33,70,{"$f":"'Adressen Daten 25'!F35&\" \"&'Adressen Daten 25'!G35","v":"SUS Widnau   ( NLA )"},{"$f":"'Adressen Daten 25'!I35","v":"Remo"},{"$f":"'Adressen Daten 25'!J35","v":"Pinchera"},{"$f":"IF('Adressen Daten 25'!K35=0,\" \",'Adressen Daten 25'!K35)","v":" "},{"$f":"IF('Adressen Daten 25'!L35=0,\" \",'Adressen Daten 25'!L35)","v":" "},{"$f":"IF('Adressen Daten 25'!M35=0,\" \",'Adressen Daten 25'!M35)","v":" "},{"$f":"IF('Adressen Daten 25'!N35=0,\" \",'Adressen Daten 25'!N35)","v":" "},{"$f":"'Adressen Daten 25'!O35","v":"079 404 47 21"},{"$f":"'Adressen Daten 25'!P35","v":"remo.pinchera@faustball-widnau.ch"},33]
[{"$nulls":7},{"$f":"IF($F87=0,\"\",VLOOKUP($F87,$Y$17:$Z$94,2,0))","v":""},null,null,{"$f":"IF($G87=0,\"\",VLOOKUP($G87,$Y$17:$Z$94,2,0))","v":""},{"$nulls":9},{"$f":"IF(T87=0,\"\",VLOOKUP(T87,Schiri_25!$A$2:$L$129,2,0)&\"  \"&VLOOKUP(T87,Schiri_25!$A$2:$L$129,3,0))","v":""},null,null,34,71,{"$f":"'Adressen Daten 25'!F36&\" \"&'Adressen Daten 25'!G36","v":"STV Wigoltingen   ( NLA )"},{"$f":"'Adressen Daten 25'!I36","v":"David"},{"$f":"'Adressen Daten 25'!J36","v":"Berger"},{"$f":"IF('Adressen Daten 25'!K36=0,\" \",'Adressen Daten 25'!K36)","v":"Eggrainstr 25"},{"$f":"IF('Adressen Daten 25'!L36=0,\" \",'Adressen Daten 25'!L36)","v":8556},{"$f":"IF('Adressen Daten 25'!M36=0,\" \",'Adressen Daten 25'!M36)","v":"Wigoltingen"},{"$f":"IF('Adressen Daten 25'!N36=0,\" \",'Adressen Daten 25'!N36)","v":"052 763 10 81"},{"$f":"'Adressen Daten 25'!O36","v":"079 388 63 87"},{"$f":"'Adressen Daten 25'!P36","v":"d_berger@bluewin.ch"},34]
[null,null,{"$f":"VLOOKUP($C$89,$Y$8:$AC$14,5,0)","v":"Ersatz CH CUP"},{"$nulls":4},{"$f":"VLOOKUP($C$89,$Y$8:$AC$14,2,0)","v":"2025-09-27"},{"$nulls":15},35,72,{"$f":"'Adressen Daten 25'!F38&\" \"&'Adressen Daten 25'!G38","v":" "}]
[null,null,7,{"$nulls":20},36,73,{"$nulls":8},"<remo.pinchera@faustball-widnau.ch> "]
[null,null,"Sp No","Aufgeb\no Schiri","Aufgebo\nan Schiri",null,null,"Mannschaft ",null,null,"Mannschaft","Resultat",null,null,"wann ","Zeit","Ort","Sportplazt","Bonus",null,"Schiri ","Km",null,37,74]
[{"$nulls":7},{"$f":"'CH Cup Tableau 2025'!P52","v":0},null,null,{"$f":"'CH Cup Tableau 2025'!P54","v":0},{"$nulls":9},{"$f":"IF(T91=0,\"\",VLOOKUP(T91,Schiri_25!$A$2:$L$129,2,0)&\"  \"&VLOOKUP(T91,Schiri_25!$A$2:$L$129,3,0))","v":""},null,null,38,75]
[{"$nulls":23},39,76]
[{"$nulls":23},40,77]
[{"$nulls":20},"Total Km",{"$f":"V22+V44+V58+V68+V78++V86","v":324},null,41,78]
[{"$nulls":23},42]
[{"$nulls":23},43]
[{"$nulls":23},44]
[{"$nulls":23},45]
[{"$nulls":23},46]
[{"$nulls":23},47]
[{"$nulls":8},"E-Mail gesendet",{"$nulls":4},"B =","Bar",{"$nulls":8},48]
[{"$nulls":13},"T = ","Twint",{"$nulls":8},49]
[{"$nulls":8},"Bearbeitet noch nicht gsendet",{"$nulls":4},"PB =","Post",{"$nulls":8},50]
[]
[{"$nulls":8},"E-Mail an Schiri und Mannschaft per Post "]

{"sheet":"Tabelle1","index":9,"n_rows":28,"n_cols":8,"rows_kept":28,"cut":false,"hidden":true,"merged":[[9,1,9,2],[0,3,0,4],[10,5,10,6]]}
[null,null,"Zusammenfassung CH CUP",2025]
[]
[null,null,"Vorrunde"]
[1,45,{"$f":"Eigaben!H6","v":"STV Töss ( 2. Liga )"},{"$f":"Eigaben!G6","v":46},{"$f":"Eigaben!K6","v":"SUS Widnau   ( 2. Liga F )"},{"$f":"Eigaben!L6","v":4},{"$f":"Eigaben!N6","v":5}]
[2]
[3]
[4]
[]
[]
[null,"CH CUP 1/16 Final"]
[null,null,{"$f":"Eigaben!H5","v":"Mannschaft "},null,{"$f":"Eigaben!K5","v":"Mannschaft"},{"$f":"Eigaben!L27","v":"Resultat"}]
[1,{"$f":"Eigaben!F28","v":56},{"$f":"Eigaben!H28","v":"TSV Jona 1( NLB O )"},{"$f":"Eigaben!G28","v":71},{"$f":"Eigaben!K28","v":"STV Wigoltingen   ( NLA )"},{"$f":"Eigaben!L28","v":5},{"$f":"Eigaben!N28","v":2},"11.09/11. 8/  6.11/ 9.11/ 9.11/ 9.11/11. 9/11.09/ 09.11"]
[2,{"$f":"Eigaben!F29","v":58},{"$f":"Eigaben!H29","v":"TV Oberwinterthur  (NLB )"},{"$f":"Eigaben!G29","v":54},{"$f":"Eigaben!K6","v":"SUS Widnau   ( 2. Liga F )"},{"$f":"Eigaben!L29","v":2},{"$f":"Eigaben!N29","v":5}]
[3,{"$f":"Eigaben!F30","v":42},{"$f":"Eigaben!H30","v":"STV Felben-W.hausen ( 2. Liga )"},{"$f":"Eigaben!G30","v":59},{"$f":"Eigaben!K30","v":"STV Rickenbach-Wilen 2 ( NLB )"},{"$f":"Eigaben!L30","v":3},{"$f":"Eigaben!N30","v":5}]
[4,{"$f":"Eigaben!F31","v":55},{"$f":"Eigaben!H31","v":"FG Elgg-Ettenhausen 2 ( NLB O )"},{"$f":"Eigaben!G31","v":65},{"$f":"Eigaben!K31","v":"SVD Diepoldsau-Schmitter (NLA)"},{"$f":"Eigaben!L31","v":3},{"$f":"Eigaben!N31","v":5}]
[5,{"$f":"Eigaben!F32","v":53},{"$f":"Eigaben!H32","v":"STV Dägerlen ( NLB O )"},{"$f":"Eigaben!G32","v":67},{"$f":"Eigaben!K32","v":"FG Fricktal ( NLA  )"},{"$f":"Eigaben!L32","v":1},{"$f":"Eigaben!N32","v":5}]
[6,{"$f":"Eigaben!F33","v":41},{"$f":"Eigaben!H33","v":"FBV Ettenhausen ( 2. Liga S )"},{"$f":"Eigaben!G33","v":50},{"$f":"Eigaben!K33","v":"TSV Jona 2  ( 1. Liga O )  "},{"$f":"Eigaben!L33","v":5},{"$f":"Eigaben!N33","v":2}]
[7,{"$f":"Eigaben!F34","v":46},{"$f":"Eigaben!H34","v":"SUS Widnau   ( 2. Liga F )"},{"$f":"Eigaben!G34","v":64},{"$f":"Eigaben!K34","v":"STV Affeltrangen  ( NLA )"},{"$f":"Eigaben!L34","v":4},{"$f":"Eigaben!N34","v":5}]
[8,{"$f":"Eigaben!F35","v":38},{"$f":"Eigaben!H35","v":"TSV Waldkirch ( 3. Liga F )"},{"$f":"Eigaben!G35","v":70},{"$f":"Eigaben!K35","v":"SUS Widnau   ( NLA )"},{"$f":"Eigaben!L35","v":1},{"$f":"Eigaben!N35","v":5}]
[9,{"$f":"Eigaben!F36","v":51},{"$f":"Eigaben!H36","v":"STV Spreitenbach 1 ( 1. Liga W )"},{"$f":"Eigaben!G36","v":68},{"$f":"Eigaben!K36","v":"STV Oberentfelden   ( NLA )"},{"$f":"Eigaben!L36","v":0},{"$f":"Eigaben!N36","v":5}]
[10,{"$f":"Eigaben!F37","v":49},{"$f":"Eigaben!H37","v":"FB Burgdorf (1. Liga  W)"},{"$f":"Eigaben!G37","v":63},{"$f":"Eigaben!K37","v":"STV Vordemwald 1 ( NLB W )"},{"$f":"Eigaben!L37","v":0},{"$f":"Eigaben!N37","v":5}]
[11,{"$f":"Eigaben!F38","v":60},{"$f":"Eigaben!H38","v":"STV Schlieren ( NLB O )"},{"$f":"Eigaben!G38","v":62},{"$f":"Eigaben!K38","v":"FB Schwellbrunn ( NLB  O)"},{"$f":"Eigaben!L38","v":5},{"$f":"Eigaben!N38","v":1}]
[12,{"$f":"Eigaben!F39","v":44},{"$f":"Eigaben!H39","v":"STV Oberentfelden   ( 2. Liga )"},{"$f":"Eigaben!G39","v":57},{"$f":"Eigaben!K39","v":"STV Kirchberg  ( NLB W )"},{"$f":"Eigaben!L39","v":5},{"$f":"Eigaben!N39","v":0}]
[13,{"$f":"Eigaben!F40","v":48},{"$f":"Eigaben!H40","v":"STV Alpnach  ( 1. Liga ) W"},{"$f":"Eigaben!G40","v":61},{"$f":"Eigaben!K40","v":"STV Schlossrued ( NLB W )"},{"$f":"Eigaben!L40","v":5},{"$f":"Eigaben!N40","v":2}]
[14,{"$f":"Eigaben!F41","v":39},{"$f":"Eigaben!H41","v":"MR Beringen ( 2. Liga )"},{"$f":"Eigaben!G41","v":69},{"$f":"Eigaben!K41","v":"FG Rickenbach-Wilen ( NLA )"},{"$f":"Eigaben!L41","v":0},{"$f":"Eigaben!N41","v":5}]
[15,{"$f":"Eigaben!F42","v":40},{"$f":"Eigaben!H42","v":"STV Elgg ( 2. Liga )"},{"$f":"Eigaben!G42","v":47},{"$f":"Eigaben!K42","v":"TV Widnau ( 2. Liga F ) "},{"$f":"Eigaben!L42","v":2},{"$f":"Eigaben!N42","v":5}]
[16,{"$f":"Eigaben!F43","v":52},{"$f":"Eigaben!H43","v":"STV Vordemwald 2  ( 1. Liga W)"},{"$f":"Eigaben!G43","v":66},{"$f":"Eigaben!K43","v":"FG Elgg-Ettenhausen 1 ( NLA )"},{"$f":"Eigaben!L43","v":1},{"$f":"Eigaben!N43","v":5}]
[null,{"$f":"Eigaben!F44","v":0},{"$f":"Eigaben!H44","v":""}]

{"sheet":"zusammenfassung_25","index":10,"n_rows":56,"n_cols":10,"rows_kept":56,"cut":false,"hidden":false,"merged":[[46,1,46,2],[39,1,39,2],[0,3,0,4],[9,1,9,2],[0,0,0,2],[2,1,2,2],[28,1,28,2]]}
["Zusammenfassung CH CUP",null,null,2025]
[]
[null,"Vorrunde"]
[1,{"$f":"Eigaben!F6","v":45},{"$f":"Eigaben!H6","v":"STV Töss ( 2. Liga )"},{"$f":"Eigaben!G6","v":46},{"$f":"Eigaben!K6","v":"SUS Widnau   ( 2. Liga F )"},4,5," 6:11/ 15:14/11: 9/ 11: 8/ 4:11/ 9:11/ 4:11/ 11: 8/ 7:11",null,{"$f":"Eigaben!U6","v":"Werder Manuel"}]
[2,{"$f":"Eigaben!F7","v":40},{"$f":"Eigaben!H7","v":"STV Elgg ( 2. Liga )"},{"$f":"Eigaben!G7","v":43},{"$f":"Eigaben!K7","v":"STV Müllheim ( 2. L )"},{"$f":"Eigaben!L7","v":5},0,"11: 9/ 11: 8/ 11:5/ 14:12/ 11:08",null,{"$f":"Eigaben!U7","v":"Ziereisen Daniel"}]
[3,{"$nulls":4},{"$f":"Eigaben!L8","v":0},{"$f":"Eigaben!N8","v":0},null,null,{"$f":"Eigaben!U8","v":""}]
[4,{"$nulls":4},{"$f":"Eigaben!L9","v":0},{"$f":"Eigaben!N9","v":0},null,null,{"$f":"Eigaben!U9","v":""}]
[{"$nulls":9},{"$f":"Eigaben!U10","v":""}]
[{"$nulls":9},{"$f":"Eigaben!U11","v":""}]
[null,"CH CUP 1/16 Final",{"$nulls":7},{"$f":"Eigaben!U12","v":""}]
[{"$nulls":9},{"$f":"Eigaben!U13","v":""}]
[1,{"$f":"Eigaben!F28","v":56},{"$f":"Eigaben!H28","v":"TSV Jona 1( NLB O )"},{"$f":"Eigaben!G28","v":71},{"$f":"Eigaben!K28","v":"STV Wigoltingen   ( NLA )"},{"$f":"Eigaben!$L28","v":5},{"$f":"Eigaben!$N28","v":2},"14:12/11: 8/ 6:11/11: 9/12:10/ 7:11/11: 6",1,{"$f":"Eigaben!U28","v":"Friedlos Manfred"}]
[2,{"$f":"Eigaben!F29","v":58},{"$f":"Eigaben!H29","v":"TV Oberwinterthur  (NLB )"},{"$f":"Eigaben!G29","v":54},{"$f":"Eigaben!K29","v":"STV Dozwil ( NLB O )"},{"$f":"Eigaben!$L29","v":2},{"$f":"Eigaben!$N29","v":5},"10:12/13:11/11: 7/ 6:11/ 8:11/11:13/ 7:11",2,{"$f":"Eigaben!U29","v":"Graf Daniel"}]
[3,{"$f":"Eigaben!F30","v":42},{"$f":"Eigaben!H30","v":"STV Felben-W.hausen ( 2. Liga )"},{"$f":"Eigaben!G30","v":59},{"$f":"Eigaben!K30","v":"STV Rickenbach-Wilen 2 ( NLB )"},{"$f":"Eigaben!$L30","v":3},{"$f":"Eigaben!$N30","v":5},"12:14/11: 9/ 8:11/14:15/11: 9/15:12/ 8:11/10:12",3,{"$f":"Eigaben!U30","v":"Tenini Rico"}]
[4,{"$f":"Eigaben!F31","v":55},{"$f":"Eigaben!H31","v":"FG Elgg-Ettenhausen 2 ( NLB O )"},{"$f":"Eigaben!G31","v":65},{"$f":"Eigaben!K31","v":"SVD Diepoldsau-Schmitter (NLA)"},{"$f":"Eigaben!$L31","v":3},{"$f":"Eigaben!$N31","v":5}," 8:11/11: 8/11: 3/11: 6/ 8:11/10:12/ 8:11/ 8:11 ",4,{"$f":"Eigaben!U31","v":"Ziereisen Daniel"}]
[5,{"$f":"Eigaben!F32","v":53},{"$f":"Eigaben!H32","v":"STV Dägerlen ( NLB O )"},{"$f":"Eigaben!G32","v":67},{"$f":"Eigaben!K32","v":"FG Fricktal ( NLA  )"},{"$f":"Eigaben!$L32","v":1},{"$f":"Eigaben!$N32","v":5},"10:12/12:10/ 9:11/ 7:11/ 9:11/10:12",5,{"$f":"Eigaben!U32","v":"Graf Daniel"}]
[6,{"$f":"Eigaben!F33","v":41},{"$f":"Eigaben!H33","v":"FBV Ettenhausen ( 2. Liga S )"},{"$f":"Eigaben!G33","v":50},{"$f":"Eigaben!K33","v":"TSV Jona 2  ( 1. Liga O )  "},{"$f":"Eigaben!$L33","v":5},{"$f":"Eigaben!$N33","v":2}," 7:11/11: 4/10:121/11: 6/11: 5/11: 8/11: 8",6,{"$f":"Eigaben!U33","v":"Ziereisen Daniel"}]
[7,{"$f":"Eigaben!F34","v":46},{"$f":"Eigaben!H34","v":"SUS Widnau   ( 2. Liga F )"},{"$f":"Eigaben!G34","v":64},{"$f":"Eigaben!K34","v":"STV Affeltrangen  ( NLA )"},{"$f":"Eigaben!$L34","v":4},{"$f":"Eigaben!$N34","v":5}," 9:11/11:13/10:12/11: 5/11: 6/11: 8/ 9:11/11: 6/11:13 ",7,{"$f":"Eigaben!U34","v":"Meyerhans Richard"}]
[8,{"$f":"Eigaben!F35","v":38},{"$f":"Eigaben!H35","v":"TSV Waldkirch ( 3. Liga F )"},{"$f":"Eigaben!G35","v":70},{"$f":"Eigaben!K35","v":"SUS Widnau   ( NLA )"},{"$f":"Eigaben!$L35","v":1},{"$f":"Eigaben!$N35","v":5}," 7:11/11: 8/ 7:11/11:13/11:13/ 8:11",8,{"$f":"Eigaben!U35","v":"Mähr Reto"}]
[9,{"$f":"Eigaben!F36","v":51},{"$f":"Eigaben!H36","v":"STV Spreitenbach 1 ( 1. Liga W )"},{"$f":"Eigaben!G36","v":68},{"$f":"Eigaben!K36","v":"STV Oberentfelden   ( NLA )"},{"$f":"Eigaben!$L36","v":0},{"$f":"Eigaben!$N36","v":5}," 7:11/13:15/11:13/ 6:11 7:11",9,{"$f":"Eigaben!U36","v":"Häner Rolf"}]
[10,{"$f":"Eigaben!F37","v":49},{"$f":"Eigaben!H37","v":"FB Burgdorf (1. Liga  W)"},{"$f":"Eigaben!G37","v":63},{"$f":"Eigaben!K37","v":"STV Vordemwald 1 ( NLB W )"},{"$f":"Eigaben!$L37","v":0},{"$f":"Eigaben!$N37","v":5}," 6:11/ 6:11/ 7:11/ 8:11/ 9:11",10,{"$f":"Eigaben!U37","v":"Baumberger Evi"}]
[11,{"$f":"Eigaben!F38","v":60},{"$f":"Eigaben!H38","v":"STV Schlieren ( NLB O )"},{"$f":"Eigaben!G38","v":62},{"$f":"Eigaben!K38","v":"FB Schwellbrunn ( NLB  O)"},{"$f":"Eigaben!$L38","v":5},{"$f":"Eigaben!$N38","v":1},"11: 6/11: 9/ 9:11/11: 5/11: 3/11 :5",11,{"$f":"Eigaben!U38","v":"Burkhalter Patrick"}]
[12,{"$f":"Eigaben!F39","v":44},{"$f":"Eigaben!H39","v":"STV Oberentfelden   ( 2. Liga )"},{"$f":"Eigaben!G39","v":57},{"$f":"Eigaben!K39","v":"STV Kirchberg  ( NLB W )"},{"$f":"Eigaben!$L39","v":5},{"$f":"Eigaben!$N39","v":0},"11: 3/11: 4/11: 6/11: 5/11: 7",12,{"$f":"Eigaben!U39","v":"Krautter Heinz"}]
[13,{"$f":"Eigaben!F40","v":48},{"$f":"Eigaben!H40","v":"STV Alpnach  ( 1. Liga ) W"},{"$f":"Eigaben!G40","v":61},{"$f":"Eigaben!K40","v":"STV Schlossrued ( NLB W )"},{"$f":"Eigaben!$L40","v":5},{"$f":"Eigaben!$N40","v":2},"11: 7/ 9:11/11: 8/15:14/11: 8/ 9:11/11: 6",13,{"$f":"Eigaben!U40","v":"Shabanaj Valon"}]
[14,{"$f":"Eigaben!F41","v":39},{"$f":"Eigaben!H41","v":"MR Beringen ( 2. Liga )"},{"$f":"Eigaben!G41","v":69},{"$f":"Eigaben!K41","v":"FG Rickenbach-Wilen ( NLA )"},{"$f":"Eigaben!$L41","v":0},{"$f":"Eigaben!$N41","v":5},"12:14/ 6:11/10:12/ 8:11/ 8:11",14,{"$f":"Eigaben!U41","v":"Chollet Cornelia"}]
[15,{"$f":"Eigaben!F42","v":40},{"$f":"Eigaben!H42","v":"STV Elgg ( 2. Liga )"},{"$f":"Eigaben!G42","v":47},{"$f":"Eigaben!K42","v":"TV Widnau ( 2. Liga F ) "},{"$f":"Eigaben!$L42","v":2},{"$f":"Eigaben!$N42","v":5},"11: 8/ 3:11/ 7:11/ 7:11/ 14:12/ 6:11/ 7:11",15,{"$f":"Eigaben!U42","v":"Meili René"}]
[16,{"$f":"Eigaben!F43","v":52},{"$f":"Eigaben!H43","v":"STV Vordemwald 2  ( 1. Liga W)"},{"$f":"Eigaben!G43","v":66},{"$f":"Eigaben!K43","v":"FG Elgg-Ettenhausen 1 ( NLA )"},{"$f":"Eigaben!$L43","v":1},{"$f":"Eigaben!$N43","v":5},"07:11/ 6:11/ 7:11/ 8:11/ 11: 9/ 7:11",16,{"$f":"Eigaben!U43","v":"Wagner Stephan"}]
[null,null,{"$f":"Eigaben!H44","v":""}]
[null,"CH CUP 1/8 Final"]
[]
[17,{"$f":"IF(Eigaben!F50=0,\"\",Eigaben!F50)","v":56},{"$f":"VLOOKUP(B31,Eigaben!Y54:Z87,2,0)","v":"TSV Jona 1( NLB O )"},{"$f":"IF(Eigaben!G50=0,\"\",Eigaben!G50)","v":54},{"$f":"IF(Eigaben!G50=0,\"\",VLOOKUP(D31,Eigaben!Y54:Z94,2,0))","v":"STV Dozwil ( NLB O )"},{"$f":"Eigaben!L50","v":5},{"$f":"Eigaben!N50","v":1},"11: 8/11: 7/ 7:11/11: 7/11: 6/13:11",17,{"$f":"Eigaben!U50","v":"Meierhofer  Robert"}]
[18,{"$f":"IF(Eigaben!F51=0,\"\",Eigaben!F51)","v":59},{"$f":"Eigaben!H51","v":"STV Rickenbach-Wilen 2 ( NLB )"},{"$f":"IF(Eigaben!G51=0,\"\",Eigaben!G51)","v":65},{"$f":"Eigaben!K51","v":"SVD Diepoldsau-Schmitter (NLA)"},{"$f":"Eigaben!L51","v":2},{"$f":"Eigaben!N51","v":5},"10:12/10:12/  9:11/15:14/11:13/11: 4/ 7:11",18,{"$f":"Eigaben!U51","v":"Sprenger  Fredy"}]
[19,{"$f":"IF(Eigaben!F52=0,\"\",Eigaben!F52)","v":41},{"$f":"Eigaben!H52","v":"FBV Ettenhausen ( 2. Liga S )"},{"$f":"IF(Eigaben!G52=0,\"\",Eigaben!G52)","v":67},{"$f":"Eigaben!K52","v":"FG Fricktal ( NLA  )"},{"$f":"Eigaben!L52","v":5},{"$f":"Eigaben!N52","v":4},"11: 5/12:10/13:15/10:12/10:12/11: 8/11: 5/ 8:11/12:10",19,{"$f":"Eigaben!U52","v":"Ziereisen  Daniel"}]
[20,{"$f":"IF(Eigaben!F53=0,\"\",Eigaben!F53)","v":70},{"$f":"Eigaben!H53","v":"SUS Widnau   ( NLA )"},{"$f":"IF(Eigaben!G53=0,\"\",Eigaben!G53)","v":64},{"$f":"Eigaben!K53","v":"STV Affeltrangen  ( NLA )"},{"$f":"Eigaben!L53","v":3},{"$f":"Eigaben!N53","v":5}," 9:11/11: 6/ 6:11/11: 9/ 8:11/12:10/ 8:11/14:15",20,{"$f":"Eigaben!U53","v":"Sieber  Patrick"}]
[21,{"$f":"IF(Eigaben!F54=0,\"\",Eigaben!F54)","v":63},{"$f":"Eigaben!H54","v":"STV Vordemwald 1 ( NLB W )"},{"$f":"IF(Eigaben!G54=0,\"\",Eigaben!G54)","v":68},{"$f":"Eigaben!K54","v":"STV Oberentfelden   ( NLA )"},{"$f":"Eigaben!L54","v":1},{"$f":"Eigaben!N54","v":5},"10:12/10:12/10:12/11: 6/6:11/ 3:11",21,{"$f":"Eigaben!U54","v":"Wagner  Stephan"}]
[22,{"$f":"IF(Eigaben!F55=0,\"\",Eigaben!F55)","v":44},{"$f":"Eigaben!H55","v":"STV Oberentfelden   ( 2. Liga )"},{"$f":"IF(Eigaben!G55=0,\"\",Eigaben!G55)","v":60},{"$f":"Eigaben!K55","v":"STV Schlieren ( NLB O )"},{"$f":"Eigaben!L55","v":5},{"$f":"Eigaben!N55","v":0},"11: 4/11: 3/11: 6/12:10/11: 8",22,{"$f":"Eigaben!U55","v":"Hochuli  Luca"}]
[23,{"$f":"IF(Eigaben!F56=0,\"\",Eigaben!F56)","v":48},{"$f":"Eigaben!H56","v":"STV Alpnach  ( 1. Liga ) W"},{"$f":"IF(Eigaben!G56=0,\"\",Eigaben!G56)","v":69},{"$f":"Eigaben!K56","v":"FG Rickenbach-Wilen ( NLA )"},{"$f":"Eigaben!L56","v":2},{"$f":"Eigaben!N56","v":5}," 7:11/11:13/11: 6/ 8:11/11: 6/ 4:11/ 7:11",23,{"$f":"Eigaben!U56","v":"Leu  Peter"}]
[24,{"$f":"IF(Eigaben!F57=0,\"\",Eigaben!F57)","v":47},{"$f":"Eigaben!H57","v":"TV Widnau ( 2. Liga F ) "},{"$f":"IF(Eigaben!G57=0,\"\",Eigaben!G57)","v":66},{"$f":"Eigaben!K57","v":"FG Elgg-Ettenhausen 1 ( NLA )"},{"$f":"Eigaben!L57","v":4},{"$f":"Eigaben!N57","v":5},"11: 7/11: 7/ 8:11/10:12/ 9:11/10:12/11 :7 11:7/ 7:11",24,{"$f":"Eigaben!U57","v":"Meyerhans  Richard"}]
[]
[null,"CH CUP 1/4 Final"]
[]
[25,{"$f":"Eigaben!F64","v":56},{"$f":"Eigaben!H64","v":"TSV Jona 1( NLB O )"},{"$f":"Eigaben!G64","v":65},{"$f":"Eigaben!K64","v":"SVD Diepoldsau-Schmitter (NLA)"},{"$f":"Eigaben!L64","v":1},{"$f":"Eigaben!N64","v":5}," 4:11/11: 8/ 9:11/12:14/ 7:11/13:15 ",25,{"$f":"Eigaben!U64","v":"Kammer  Sebastian"}]
[26,{"$f":"Eigaben!F65","v":41},{"$f":"Eigaben!H65","v":"FBV Ettenhausen ( 2. Liga S )"},{"$f":"Eigaben!G65","v":64},{"$f":"Eigaben!K65","v":"STV Affeltrangen  ( NLA )"},{"$f":"Eigaben!L65","v":1},{"$f":"Eigaben!N65","v":5},"11: 6/ 7:11/ 9:11/ 9:11/ 9:11/ 9:11",26,{"$f":"Eigaben!U65","v":"Ziereisen  Daniel"}]
[27,{"$f":"Eigaben!F66","v":44},{"$f":"Eigaben!H66","v":"STV Oberentfelden   ( 2. Liga )"},{"$f":"Eigaben!G66","v":68},{"$f":"Eigaben!K66","v":"STV Oberentfelden   ( NLA )"},{"$f":"Eigaben!L66","v":5},{"$f":"Eigaben!N66","v":0},"11: 3/13:11/11: 7/12:10/11: 9",27,{"$f":"Eigaben!U66","v":"Hochuli  Luca"}]
[28,{"$f":"Eigaben!F67","v":69},{"$f":"Eigaben!H67","v":"FG Rickenbach-Wilen ( NLA )"},{"$f":"Eigaben!G67","v":66},{"$f":"Eigaben!K67","v":"FG Elgg-Ettenhausen 1 ( NLA )"},{"$f":"Eigaben!L67","v":3},{"$f":"Eigaben!N67","v":5},"11: 7/11: 9/11: 9/ 5:11/ 5:11/ 6:11/ 6:11/11:13",28,{"$f":"Eigaben!U67","v":"Mähr  Reto"}]
[{"$nulls":9},{"$f":"Eigaben!U68","v":""}]
[null,"CH CUP 1/2 Final"]
[]
[null,65,{"$f":"Eigaben!H73","v":"SVD Diepoldsau-Schmitter (NLA)"},64,{"$f":"Eigaben!K73","v":"STV Affeltrangen  ( NLA )"},{"$f":"Eigaben!L73","v":1},{"$f":"Eigaben!N73","v":5},"13:11/ 8/10:12/ 6:11/ 9:11/ 5:11/13:15",28,{"$f":"Eigaben!U73","v":"Sieber  Patrick"}]
[null,{"$f":"Eigaben!F74","v":44},{"$f":"Eigaben!H74","v":"STV Oberentfelden   ( 2. Liga )"},66,{"$f":"Eigaben!K74","v":"FG Elgg-Ettenhausen 1 ( NLA )"},{"$f":"Eigaben!L72","v":"Resultat"},{"$f":"Eigaben!N72","v":0},null,28,{"$f":"Eigaben!U74","v":""}]
[]
[]
[]
[null,{"$f":"Eigaben!F76","v":0},{"$f":"Eigaben!H76","v":""},{"$f":"Eigaben!G76","v":0},{"$f":"Eigaben!K76","v":""},{"$f":"Eigaben!L76","v":0},{"$f":"Eigaben!N76","v":0},null,28,{"$f":"Eigaben!U76","v":""}]
[null,{"$f":"Eigaben!F77","v":0},{"$f":"Eigaben!H77","v":""},{"$f":"Eigaben!G77","v":0},{"$f":"Eigaben!K77","v":""},{"$f":"Eigaben!L77","v":0},{"$f":"Eigaben!N77","v":0},null,28,{"$f":"Eigaben!U77","v":""}]
[null,{"$f":"Eigaben!F78","v":0},{"$f":"Eigaben!H78","v":""},{"$f":"Eigaben!G78","v":0},{"$f":"Eigaben!K78","v":""},{"$f":"Eigaben!L78","v":0},{"$f":"Eigaben!N78","v":0},null,28,{"$f":"Eigaben!U78","v":""}]

{"sheet":"Aufgebot A","index":11,"n_rows":48,"n_cols":26,"rows_kept":48,"cut":false,"hidden":true,"merged":[[26,35,26,38],[26,21,26,22],[26,19,26,20],[26,12,26,18],[17,28,19,29],[26,24,26,26],[18,12,18,16],[19,0,19,26],[18,6,18,11],[26,6,26,8],[2,28,2,30],[6,28,6,29],[6,30,6,31],[6,13,7,13],[2,0,2,26],[0,4,0,21],[4,0,4,4],[7,14,7,26],[4,24,4,26],[4,20,4,23],[6,14,6,26],[6,0,6,12],[4,5,4,11],[4,14,4,19],[4,12,4,13],[8,0,8,12],[13,11,13,18],[14,19,14,26],[8,14,8,26],[9,0,9,5],[9,14,9,19],[9,20,9,26],[13,0,13,5],[13,19,13,26],[13,6,13,10],[14,6,14,10],[14,11,14,18],[14,0,14,5],[11,14,11,26],[10,20,10,26],[11,0,11,12],[50,2,50,8],[44,9,44,15],[44,17,44,24],[43,0,43,26],[41,0,41,2],[47,20,47,22],[47,0,47,19],[44,0,44,8],[47,23,47,26],[41,21,41,23],[41,3,41,20],[41,24,41,26],[34,0,34,26],[16,0,16,11],[16,12,16,15],[16,16,16,18],[16,20,16,23],[16,24,16,26],[14,28,15,29],[16,28,16,29],[31,28,31,29],[23,28,24,29],[26,28,26,29],[39,0,39,2],[39,3,39,5],[24,0,24,2],[38,0,38,26],[30,0,30,26],[36,0,36,26],[37,0,37,26],[39,21,39,23],[39,24,39,26],[39,6,39,8],[39,9,39,11],[39,12,39,14],[39,15,39,17],[39,18,39,20],[35,0,35,5],[35,6,35,26],[9,6,9,12],[33,28,33,29],[31,0,31,3],[31,4,31,16],[31,17,31,26],[28,0,28,26],[32,0,32,26],[33,12,33,14],[33,6,33,7],[10,6,10,12],[10,0,10,5],[10,14,10,19],[22,12,22,14],[18,17,18,26],[22,0,22,11],[18,0,18,5]]}
[{"$nulls":4},{"$f":"Eigaben!Z3","v":"37. Schweizer Cup Männer 2025"}]
[1,{"$nulls":4},{"$f":"A2","v":1}]
["Aufgebot Mannschaften"]
[]
[{"$f":"VLOOKUP(A2,Eigaben!Y8:AC14,5,1)","v":"Vorrunde"},{"$nulls":4},{"$f":"VLOOKUP($A$2,Eigaben!$Y$8:$AB$14,2,1)","v":"2025-04-07"},{"$nulls":6},"bis",null,{"$f":"VLOOKUP($A$2,Eigaben!$Y$8:$AB$14,3,1)","v":"2025-04-25"},{"$nulls":5},"Spiel - Nr.",null,null,null,{"$f":"Eigaben!B6","v":"A"}]
[{"$f":"Eigaben!F6","v":45},{"$nulls":13},{"$f":"Eigaben!G6","v":46}]
["Heim - Mannschaft",{"$nulls":13},"Gast - Mannschaft"]
[{"$f":"(VLOOKUP($A$6,Eigaben!$Y$17:$Z$103,2,0))","v":"STV Töss ( 2. Liga )"},{"$nulls":13},{"$f":"(VLOOKUP($O$6,Eigaben!$Y$17:$Z$103,2,0))","v":"SUS Widnau   ( 2. Liga F )"}]
[{"$f":"VLOOKUP($A$6,Eigaben!$Y$17:$AH$103,3,1)&\" \"&VLOOKUP(A6,Eigaben!Y17:AH103,4,1)","v":"Benjamin Boldo"},{"$nulls":13},{"$f":"VLOOKUP($O$6,Eigaben!$Y$17:$AH$103,3,1)&\" \"&VLOOKUP($O$6,Eigaben!$Y$17:$AH$103,4,1)","v":"Marco Nüesch"}]
[{"$f":"VLOOKUP($A$6,Eigaben!$Y$17:$AH$103,5,1)","v":"Metzggasse 6"},{"$nulls":5},{"$f":"VLOOKUP($A$6,Eigaben!$Y$17:$AH$103,6,1)&\" \"&VLOOKUP(A6,Eigaben!$Y$17:$AH$103,7,1)","v":"8400 Winterthur"},{"$nulls":7},{"$f":"VLOOKUP($O$6,Eigaben!$Y$17:$AH$103,5,1)","v":" "},{"$nulls":5},{"$f":"VLOOKUP($O$6,Eigaben!$Y$17:$AV$103,6,1)&\" \"&VLOOKUP($O$6,Eigaben!$Y$17:$AV$103,7,1)","v":"   "}]
[{"$f":"IF(Eigaben!AF54=0,\"\",VLOOKUP($A$6,Eigaben!$Y$17:$AH$103,8,1))","v":" "},{"$nulls":5},{"$f":"IF(Eigaben!$AG$54=0,\"\",VLOOKUP($A$6,Eigaben!$Y$17:$AH$103,9,1))","v":"076 320 86 65"},{"$nulls":7},{"$f":"IF(Eigaben!AF55=0,\"\",VLOOKUP($O$6,Eigaben!$Y$17:$AH$103,8,1))","v":" "},{"$nulls":5},{"$f":"IF(Eigaben!$AG$54=0,\"\",VLOOKUP($O$6,Eigaben!$Y$17:$AH$103,9,1))","v":"079 404 47 21"}]
[{"$f":"VLOOKUP($A$6,Eigaben!$Y$17:$AH$103,10,1)","v":"b.boldo@bluewin.ch"},{"$nulls":13},{"$f":"VLOOKUP($O$6,Eigaben!$Y$17:$AH$103,10,1)","v":"marco.nueesch@faustball-widnau.ch"}]
[null,null,{"$f":"Eigaben!C6","v":"A"}]
["Datum",{"$nulls":5},"Zeit",{"$nulls":4},"Ort",{"$nulls":7},"Sportplatz"]
[{"$f":"IF(Eigaben!C6=0,\" \",VLOOKUP(C13,Eigaben!$C$6:$V$22,13,0))","v":"2025-05-05"},{"$nulls":5},{"$f":"IF(Eigaben!C6=0,\" \",VLOOKUP(C13,Eigaben!$C$6:$V$22,14,0))","v":"19:30:00"},{"$nulls":4},{"$f":"IF(Eigaben!C6=0,\"\",VLOOKUP(C13,Eigaben!$C$6:$V$22,15,0))","v":"Winterthur"},{"$nulls":7},{"$f":"IF(Eigaben!C6=0,\"\",VLOOKUP(C13,Eigaben!C6:V22,16,0))","v":"Schulhaus Tössfeld"}]
[null,null,{"$f":"Eigaben!T6","v":76}]
["Aufgebot Schiedsrichter *"]
[]
[{"$f":"IF(C16=0,\"\",VLOOKUP(C16,Schiri_25!A2:L181,3,1)&\" \"&VLOOKUP(C16,Schiri_25!A2:L181,2,1))","v":"Manuel Werder"},{"$nulls":5},{"$f":"IF(C16=0,\"\",VLOOKUP(C16,Schiri_25!A2:L181,9,1))","v":"+41 79 823 98 71"},{"$nulls":5},{"$f":"IF(C16=0,\"\",IF(VLOOKUP(C16,Schiri_25!A2:M122,8,1)=0,\"\",VLOOKUP(C16,Schiri_25!A2:M122,8,1)))","v":""},{"$nulls":4},{"$f":"IF(C16=0,\"\",VLOOKUP(C16,Schiri_25!A2:L181,12,1))","v":"schmaerae@bluewin.ch"}]
[]
["* Im Verhinderungsfall sofort Verbindungsaufnahme mit Bruno Pabst: 079 243 02 08"]
[]
["Eintreffen des Schiedsrichters:",{"$nulls":11},{"$f":"IF(G15=\"\",\"\",G15-\"00:15:00\")","v":"19:15:00"}]
[]
["Tenue:",null,null,"Offizielle Schiedsrichterausrüstung gelb / schwarz"]
[]
["Taggeld:",{"$nulls":4},"Fr.","**",{"$nulls":5},"Fahrspesen",{"$nulls":6},"Fr",null,1,null,null,{"$f":"Eigaben!V6","v":5}]
[]
["Die Fahrspesen (einfache Fahrt, Fr. 1,00 pro Km)  werden durch die Heim-Mannschaft bezahlt. \n**  (Das Taggeld wird direkt durch die CUPKO ausbezahlt.)"]
[{"$nulls":5},{"$f":"Eigaben!C6","v":"A"}]
["Modus"]
["Spielmodus:",null,null,null,"5 Gewinnsätze bis 11 (max. 15 : 14)",{"$nulls":12},"Pause nach  4 Sätzen max 5 Min."]
[]
["Bonus-Punkte:",{"$nulls":5},{"$f":"Eigaben!S6","v":0}]
[]
["Durchführung:\n",{"$nulls":5},"Bei einer allfälligen Verschiebung muss spätestens 5 Stunden vor Spielbeginn die Gast-Mannschaft, der Schiedsrichter und deer Chef CUPKO per Telefon und SMS informiert werden."]
[]
["Resultatmeldung"]
[]
["1. Satz",null,null,"2. Satz",null,null,"3. Satz",null,null,"4. Satz",null,null,"5. Satz",null,null,"6. Satz",null,null,"7. Satz",null,null,"8. Satz",null,null,"9. Satz"]
[null,":",null,null,":",null,null,":",null,null,":",null,null,":",null,null,":",null,null,":",null,null,":",null,null,":"]
["Sieger",{"$nulls":20},"Sätze",null,null,":"]
[]
["Resultatmeldung bis spätestens 12 Uhr des Folgetages durch den Schiedsrichter  per     E-Mail, SMS oder WhatsApp an  "]
["pabst@swissfaustball.ch",{"$nulls":16},"pabst.bruno@bluewin.ch"]
[]
[]
["Mit sportlichen Grüssen\nSwiss Faustball CUPKO\nBruno Pabst (Präsident)",{"$nulls":19},"Thundorf, ",null,null,{"$f":"TODAY()","v":"2025-08-28"}]

{"sheet":"Tabelle2","index":12,"n_rows":48,"n_cols":26,"rows_kept":48,"cut":false,"hidden":true,"merged":[[41,0,41,2],[41,3,41,20],[41,21,41,23],[41,24,41,26],[50,2,50,8],[43,0,43,26],[44,0,44,8],[44,9,44,15],[44,17,44,24],[47,0,47,19],[47,20,47,22],[47,23,47,26],[36,0,36,26],[37,0,37,26],[38,0,38,26],[39,0,39,2],[39,3,39,5],[39,6,39,8],[39,9,39,11],[39,12,39,14],[39,15,39,17],[39,18,39,20],[39,21,39,23],[39,24,39,26],[35,0,35,5],[35,6,35,26],[26,35,26,38],[28,0,28,26],[30,0,30,26],[31,0,31,3],[31,4,31,16],[31,17,31,26],[31,28,31,29],[32,0,32,26],[33,6,33,7],[33,12,33,14],[33,28,33,29],[34,0,34,26],[22,0,22,11],[22,12,22,14],[23,28,24,29],[24,0,24,2],[26,6,26,8],[26,12,26,18],[26,19,26,20],[26,21,26,22],[26,24,26,26],[26,28,26,29],[17,28,19,29],[18,0,18,5],[18,6,18,11],[18,12,18,16],[18,17,18,26],[19,0,19,26],[14,28,15,29],[16,0,16,11],[16,12,16,15],[16,16,16,18],[16,20,16,23],[16,24,16,26],[16,28,16,29],[13,0,13,5],[13,6,13,10],[13,11,13,18],[13,19,13,26],[14,0,14,5],[14,6,14,10],[14,11,14,18],[14,19,14,26],[10,0,10,5],[10,6,10,12],[10,14,10,19],[10,20,10,26],[11,0,11,12],[11,14,11,26],[8,0,8,12],[8,14,8,26],[9,0,9,5],[9,6,9,12],[9,14,9,19],[9,20,9,26],[6,0,6,12],[6,13,7,13],[6,14,6,26],[6,28,6,29],[6,30,6,31],[7,14,7,26],[0,4,0,21],[2,0,2,26],[2,28,2,30],[4,0,4,4],[4,5,4,11],[4,12,4,13],[4,14,4,19],[4,20,4,23],[4,24,4,26]]}
[{"$nulls":4},{"$f":"Eigaben!Z3","v":"37. Schweizer Cup Männer 2025"}]
[1,{"$nulls":4},{"$f":"A2","v":1}]
["Aufgebot Mannschaften"]
[]
[{"$f":"VLOOKUP(A2,Eigaben!Y8:AC14,5,1)","v":"Vorrunde"},{"$nulls":4},{"$f":"VLOOKUP($A$2,Eigaben!$Y$8:$AB$14,2,1)","v":"2025-04-07"},{"$nulls":6},"bis",null,{"$f":"VLOOKUP($A$2,Eigaben!$Y$8:$AB$14,3,1)","v":"2025-04-25"},{"$nulls":5},"Spiel - Nr.",null,null,null,{"$f":"Eigaben!B6","v":"A"}]
[{"$f":"Eigaben!F6","v":45},{"$nulls":13},{"$f":"Eigaben!G6","v":46}]
["Heim - Mannschaft",{"$nulls":13},"Gast - Mannschaft"]
[{"$f":"(VLOOKUP($A$6,Eigaben!$Y$17:$Z$103,2,0))","v":"STV Töss ( 2. Liga )"},{"$nulls":13},{"$f":"(VLOOKUP($O$6,Eigaben!$Y$17:$Z$103,2,0))","v":"SUS Widnau   ( 2. Liga F )"}]
[{"$f":"VLOOKUP($A$6,Eigaben!$Y$17:$AH$103,3,1)&\" \"&VLOOKUP(A6,Eigaben!Y17:AH103,4,1)","v":"Benjamin Boldo"},{"$nulls":13},{"$f":"VLOOKUP($O$6,Eigaben!$Y$17:$AH$103,3,1)&\" \"&VLOOKUP($O$6,Eigaben!$Y$17:$AH$103,4,1)","v":"Marco Nüesch"}]
[{"$f":"VLOOKUP($A$6,Eigaben!$Y$17:$AH$103,5,1)","v":"Metzggasse 6"},{"$nulls":5},{"$f":"VLOOKUP($A$6,Eigaben!$Y$17:$AH$103,6,1)&\" \"&VLOOKUP(A6,Eigaben!$Y$17:$AH$103,7,1)","v":"8400 Winterthur"},{"$nulls":7},{"$f":"VLOOKUP($O$6,Eigaben!$Y$17:$AH$103,5,1)","v":" "},{"$nulls":5},{"$f":"VLOOKUP($O$6,Eigaben!$Y$17:$AV$103,6,1)&\" \"&VLOOKUP($O$6,Eigaben!$Y$17:$AV$103,7,1)","v":"   "}]
[{"$f":"IF(Eigaben!AF54=0,\"\",VLOOKUP($A$6,Eigaben!$Y$17:$AH$103,8,1))","v":" "},{"$nulls":5},{"$f":"IF(Eigaben!$AG$54=0,\"\",VLOOKUP($A$6,Eigaben!$Y$17:$AH$103,9,1))","v":"076 320 86 65"},{"$nulls":7},{"$f":"IF(Eigaben!AF55=0,\"\",VLOOKUP($O$6,Eigaben!$Y$17:$AH$103,8,1))","v":" "},{"$nulls":5},{"$f":"IF(Eigaben!$AG$54=0,\"\",VLOOKUP($O$6,Eigaben!$Y$17:$AH$103,9,1))","v":"079 404 47 21"}]
[{"$f":"VLOOKUP($A$6,Eigaben!$Y$17:$AH$103,10,1)","v":"b.boldo@bluewin.ch"},{"$nulls":13},{"$f":"VLOOKUP($O$6,Eigaben!$Y$17:$AH$103,10,1)","v":"marco.nueesch@faustball-widnau.ch"}]
[null,null,{"$f":"Eigaben!C6","v":"A"}]
["Datum",{"$nulls":5},"Zeit",{"$nulls":4},"Ort",{"$nulls":7},"Sportplatz"]
[{"$f":"IF(Eigaben!C6=0,\" \",VLOOKUP(C13,Eigaben!$C$6:$V$22,13,0))","v":"2025-05-05"},{"$nulls":5},{"$f":"IF(Eigaben!C6=0,\" \",VLOOKUP(C13,Eigaben!$C$6:$V$22,14,0))","v":"19:30:00"},{"$nulls":4},{"$f":"IF(Eigaben!C6=0,\"\",VLOOKUP(C13,Eigaben!$C$6:$V$22,15,0))","v":"Winterthur"},{"$nulls":7},{"$f":"IF(Eigaben!C6=0,\"\",VLOOKUP(C13,Eigaben!C6:V22,16,0))","v":"Schulhaus Tössfeld"}]
[null,null,{"$f":"Eigaben!T6","v":76}]
["Aufgebot Schiedsrichter *"]
[]
[{"$f":"IF(C16=0,\"\",VLOOKUP(C16,Schiri_25!A2:L181,3,1)&\" \"&VLOOKUP(C16,Schiri_25!A2:L181,2,1))","v":"Manuel Werder"},{"$nulls":5},{"$f":"IF(C16=0,\"\",VLOOKUP(C16,Schiri_25!A2:L181,9,1))","v":"+41 79 823 98 71"},{"$nulls":5},{"$f":"IF(C16=0,\"\",IF(VLOOKUP(C16,Schiri_25!A2:M122,8,1)=0,\"\",VLOOKUP(C16,Schiri_25!A2:M122,8,1)))","v":""},{"$nulls":4},{"$f":"IF(C16=0,\"\",VLOOKUP(C16,Schiri_25!A2:L181,12,1))","v":"schmaerae@bluewin.ch"}]
[]
["* Im Verhinderungsfall sofort Verbindungsaufnahme mit Bruno Pabst: 079 243 02 08"]
[]
["Eintreffen des Schiedsrichters:",{"$nulls":11},{"$f":"IF(G15=\"\",\"\",G15-\"00:15:00\")","v":"19:15:00"}]
[]
["Tenue:",null,null,"Offizielle Schiedsrichterausrüstung gelb / schwarz"]
[]
["Taggeld:",{"$nulls":4},"Fr.","**",{"$nulls":5},"Fahrspesen",{"$nulls":6},"Fr",null,1,null,null,{"$f":"Eigaben!V6","v":5}]
[]
["Die Fahrspesen (einfache Fahrt, Fr. 1,00 pro Km)  werden durch die Heim-Mannschaft bezahlt. \n**  (Das Taggeld wird direkt durch die CUPKO ausbezahlt.)"]
[{"$nulls":5},{"$f":"Eigaben!C6","v":"A"}]
["Modus"]
["Spielmodus:",null,null,null,"5 Gewinnsätze bis 11 (max. 15 : 14)",{"$nulls":12},"Pause nach  4 Sätzen max 5 Min."]
[]
["Bonus-Punkte:",{"$nulls":5},{"$f":"Eigaben!S6","v":0}]
[]
["Durchführung:\n",{"$nulls":5},"Bei einer allfälligen Verschiebung muss spätestens 5 Stunden vor Spielbeginn die Gast-Mannschaft, der Schiedsrichter und deer Chef CUPKO per Telefon und SMS informiert werden."]
[]
["Resultatmeldung"]
[]
["1. Satz",null,null,"2. Satz",null,null,"3. Satz",null,null,"4. Satz",null,null,"5. Satz",null,null,"6. Satz",null,null,"7. Satz",null,null,"8. Satz",null,null,"9. Satz"]
[null,":",null,null,":",null,null,":",null,null,":",null,null,":",null,null,":",null,null,":",null,null,":",null,null,":"]
["Sieger",{"$nulls":20},"Sätze",null,null,":"]
[]
["Resultatmeldung bis spätestens 12 Uhr des Folgetages durch den Schiedsrichter  per     E-Mail, SMS oder WhatsApp an  "]
["pabst@swissfaustball.ch",{"$nulls":16},"pabst.bruno@bluewin.ch"]
[]
[]
["Mit sportlichen Grüssen\nSwiss Faustball CUPKO\nBruno Pabst (Präsident)",{"$nulls":19},"Thundorf, ",null,null,{"$f":"TODAY()","v":"2025-08-28"}]

{"sheet":"Spielbericht A","index":13,"n_rows":60,"n_cols":36,"rows_kept":60,"cut":false,"hidden":true,"merged":[[18,5,18,16],[7,18,7,23],[7,24,7,34],[8,23,8,34],[9,5,9,16],[10,5,10,16],[9,23,9,34],[10,23,10,34],[11,5,11,16],[12,5,12,16],[13,5,13,16],[14,5,14,16],[15,5,15,16],[13,23,13,34],[14,23,14,34],[15,23,15,34],[16,23,16,34],[17,23,17,34],[0,6,1,35],[5,4,5,8],[7,35,8,35],[7,17,8,17],[5,29,5,32],[5,33,5,35],[5,18,5,28],[5,14,5,17],[8,5,8,16],[3,6,3,28],[3,29,3,35],[47,2,48,2],[47,3,48,4],[50,30,50,32],[50,14,50,16],[5,9,5,10],[5,11,5,13],[7,0,7,5],[7,6,7,16],[5,0,5,3],[20,18,20,22],[19,18,19,22],[18,23,18,34],[16,5,16,16],[17,5,17,16],[11,23,11,34],[12,23,12,34],[50,24,50,26],[50,27,50,29],[50,0,51,4],[50,8,50,10],[50,11,50,13],[42,3,43,4],[44,2,45,2],[35,2,36,2],[42,2,43,2],[38,2,39,2],[38,3,39,4],[40,2,41,2],[44,3,45,4],[40,3,41,4],[22,27,22,35],[35,3,36,4],[29,3,30,4],[31,3,32,4],[25,0,25,5],[29,2,30,2],[25,13,25,15],[31,2,32,2],[23,18,23,23],[23,6,23,17],[23,24,23,35],[22,0,22,4],[22,5,22,17],[33,2,34,2],[33,3,34,4],[59,30,61,35],[59,24,61,29],[59,0,61,23],[50,33,51,35],[53,25,53,29],[57,0,57,16],[56,17,56,35],[57,17,57,35],[52,0,53,4],[52,30,52,35],[53,30,53,35],[52,25,52,29],[55,0,55,35],[56,0,56,16],[50,17,50,20],[50,21,50,23]]}
[{"$nulls":6},{"$f":"'Aufgebot A'!E1","v":"37. Schweizer Cup Männer 2025"}]
[]
[]
[{"$nulls":6},"            Spielbericht",{"$nulls":22},{"$f":"'Aufgebot A'!A5","v":"Vorrunde"}]
[]
["Datum:  ",null,null,null,{"$f":"'Aufgebot A'!A15","v":"2025-05-05"},{"$nulls":4},"Zeit:",null,{"$f":"'Aufgebot A'!G15","v":"19:30:00"},null,null,"Spielort:",null,null,null,{"$f":"'Aufgebot A'!L15","v":"Winterthur"},{"$nulls":10}," Spiel-Nr.:",null,null,null,{"$f":"Eigaben!B6","v":"A"}]
[]
["Mannschaft A:",{"$nulls":5},{"$f":"'Aufgebot A'!A8","v":"STV Töss ( 2. Liga )"},{"$nulls":10},"Verw.","Mannschaft B:",{"$nulls":5},{"$f":"'Aufgebot A'!O8","v":"SUS Widnau   ( 2. Liga F )"},{"$nulls":10},"Verw."]
["Nr.",null,"Spf.","Eins.","Jg.","Name/Vorname",{"$nulls":12},"Nr.",null,"Spf.","Eins.","Jg.","Name/Vorname"]
[{"$nulls":4},"","",{"$nulls":16},"",""]
[{"$nulls":4},"","",{"$nulls":10},"",{"$nulls":5},"","",{"$nulls":10},""]
[{"$nulls":4},"","",{"$nulls":10},"",{"$nulls":5},"","",{"$nulls":10},""]
[{"$nulls":4},"","",{"$nulls":10},"",{"$nulls":5},"","",{"$nulls":10},""]
[{"$nulls":4},"","",{"$nulls":10},"",{"$nulls":5},"","",{"$nulls":10},""]
[{"$nulls":4},"","",{"$nulls":10},"",{"$nulls":5},"","",{"$nulls":10},""]
[{"$nulls":4},"","",{"$nulls":10},"",{"$nulls":5},"","",{"$nulls":10},""]
[{"$nulls":4},"","",{"$nulls":10},"",{"$nulls":5},"","",{"$nulls":10},""]
[{"$nulls":4},"","",{"$nulls":10},"",{"$nulls":5},"","",{"$nulls":10},""]
[{"$nulls":4},"","",{"$nulls":16},"",""]
[" Trainer:",{"$nulls":5},"",{"$nulls":11},"Trainer:",{"$nulls":5},""]
[" Betreuer:",{"$nulls":5},"",{"$nulls":11}," Betreuer:"]
[]
[" Schiedsrichter:",{"$nulls":4},{"$f":"'Aufgebot A'!A19&\" \"&'Aufgebot A'!G19","v":"Manuel Werder +41 79 823 98 71"},{"$nulls":12},"Heimmannschaft Verantw.",{"$nulls":8},{"$f":"'Aufgebot A'!A9","v":"Benjamin Boldo"}]
[" Linienrichter:",{"$nulls":17}," Linienrichter:"]
[]
["Ballwahl/Anspiel:",{"$nulls":6},"1. Satz:","A",null,"B",null,null,"5. Satz:",null,null,"A",null,"B"]
[]
["Ausserordentliche Vorfälle:  ",{"$nulls":6},"","Protest/Einsprache",null,null,null,"","Ausschluss",null,null,"","Sonstiges",null,null,null,"(Ankreuzen + Bericht mit Unterschrift auf Rückseite)"]
[]
["A",null,"Timeout","1. Satz",null,"A",{"$f":"IF('Aufgebot A'!$G$34>0,1,\"\")","v":""},{"$f":"IF('Aufgebot A'!$G$34>0,2,\"\")","v":""},{"$f":"IF('Aufgebot A'!$G$34=3,3,\"\")","v":""}]
["B",{"$nulls":4},"B"]
["A",null,"Timeout","2. Satz",null,"A",{"$f":"IF('Aufgebot A'!$G$34>0,1,\"\")","v":""},{"$f":"IF('Aufgebot A'!$G$34>0,2,\"\")","v":""},{"$f":"IF('Aufgebot A'!$G$34=3,3,\"\")","v":""}]
["B",{"$nulls":4},"B"]
["A",null,"Timeout","3. Satz",null,"A",{"$f":"IF('Aufgebot A'!$G$34>0,1,\"\")","v":""},{"$f":"IF('Aufgebot A'!$G$34>0,2,\"\")","v":""},{"$f":"IF('Aufgebot A'!$G$34=3,3,\"\")","v":""}]
["B",{"$nulls":4},"B"]
["A",null,"Timeout","4. Satz",null,"A",{"$f":"IF('Aufgebot A'!$G$34>0,1,\"\")","v":""},{"$f":"IF('Aufgebot A'!$G$34>0,2,\"\")","v":""},{"$f":"IF('Aufgebot A'!$G$34=3,3,\"\")","v":""}]
["B",{"$nulls":4},"B"]
[]
["A",null,"Timeout","5. Satz",null,"A",{"$f":"IF('Aufgebot A'!$G$34>0,1,\"\")","v":""},{"$f":"IF('Aufgebot A'!$G$34>0,2,\"\")","v":""},{"$f":"IF('Aufgebot A'!$G$34=3,3,\"\")","v":""}]
["B",{"$nulls":4},"B"]
["A",null,"Timeout","6. Satz",null,"A",{"$f":"IF('Aufgebot A'!$G$34>0,1,\"\")","v":""},{"$f":"IF('Aufgebot A'!$G$34>0,2,\"\")","v":""},{"$f":"IF('Aufgebot A'!$G$34=3,3,\"\")","v":""}]
["B",{"$nulls":4},"B"]
["A",null,"Timeout","7. Satz",null,"A",{"$f":"IF('Aufgebot A'!$G$34>0,1,\"\")","v":""},{"$f":"IF('Aufgebot A'!$G$34>0,2,\"\")","v":""},{"$f":"IF('Aufgebot A'!$G$34=3,3,\"\")","v":""}]
["B",{"$nulls":4},"B"]
["A",null,"Timeout","8. Satz",null,"A",{"$f":"IF('Aufgebot A'!$G$34>0,1,\"\")","v":""},{"$f":"IF('Aufgebot A'!$G$34>0,2,\"\")","v":""},{"$f":"IF('Aufgebot A'!$G$34=3,3,\"\")","v":""}]
["B",{"$nulls":4},"B"]
[]
["A",null,"Timeout","9. Satz",null,"A",{"$f":"IF('Aufgebot A'!$G$34>0,1,\"\")","v":""},{"$f":"IF('Aufgebot A'!$G$34>0,2,\"\")","v":""},{"$f":"IF('Aufgebot A'!$G$34=3,3,\"\")","v":""}]
["B",{"$nulls":4},"B"]
[]
[" Ergebnis    (A:B) ",{"$nulls":4},"1. Satz",null,null,"2. Satz",null,null,"3. Satz",null,null,"4. Satz",null,null,"5. Satz",null,null,null,"6. Satz",null,null,"7. Satz",null,null,"8. Satz",null,null,"9. Satz"]
[{"$nulls":6},":",null,null,":",null,null,":",null,null,":",null,null,":",null,null,null,":",null,null,":",null,null,":",null,null,":"]
["Sieger",{"$nulls":24},"Total Punkte",{"$nulls":4},"Endstand (Sätze)"]
[{"$nulls":25},":",{"$nulls":4},":"]
[]
[" Für die Richtigkeit der Eintragungen"]
[" Schiedsrichter:",{"$nulls":16},"Spielführer A:"]
[" Anschreiber:",{"$nulls":16}," Spielführer B:"]
[]
["Mit sportlichen Grüssen\nSwiss Faustball CUPKO\nBruno Pabst (Präsident)",{"$nulls":23},"Thundorf,",{"$nulls":5},{"$f":"TODAY()","v":"2025-08-28"}]

{"sheet":"Aufgebot B","index":14,"n_rows":48,"n_cols":26,"rows_kept":48,"cut":false,"hidden":true,"merged":[[41,0,41,2],[41,3,41,20],[41,21,41,23],[41,24,41,26],[50,2,50,8],[43,0,43,26],[44,0,44,8],[44,9,44,15],[44,17,44,24],[47,0,47,19],[47,20,47,22],[47,23,47,26],[36,0,36,26],[37,0,37,26],[38,0,38,26],[39,0,39,2],[39,3,39,5],[39,6,39,8],[39,9,39,11],[39,12,39,14],[39,15,39,17],[39,18,39,20],[39,21,39,23],[39,24,39,26],[35,0,35,5],[35,6,35,26],[26,35,26,38],[28,0,28,26],[30,0,30,26],[31,0,31,3],[31,4,31,16],[31,17,31,26],[31,28,31,29],[32,0,32,26],[33,6,33,7],[33,12,33,14],[33,28,33,29],[34,0,34,26],[22,0,22,11],[22,12,22,14],[23,28,24,29],[24,0,24,2],[26,6,26,8],[26,12,26,18],[26,19,26,20],[26,21,26,22],[26,24,26,26],[26,28,26,29],[17,28,19,29],[18,0,18,5],[18,6,18,11],[18,12,18,16],[18,17,18,26],[19,0,19,26],[14,28,15,29],[16,0,16,11],[16,12,16,15],[16,16,16,18],[16,20,16,23],[16,24,16,26],[16,28,16,29],[13,0,13,5],[13,6,13,10],[13,11,13,18],[13,19,13,26],[14,0,14,5],[14,6,14,10],[14,11,14,18],[14,19,14,26],[10,0,10,5],[10,6,10,12],[10,14,10,19],[10,20,10,26],[11,0,11,12],[11,14,11,26],[8,0,8,12],[8,14,8,26],[9,0,9,5],[9,6,9,12],[9,14,9,19],[9,20,9,26],[6,0,6,12],[6,13,7,13],[6,14,6,26],[6,28,6,29],[6,30,6,31],[7,14,7,26],[0,4,0,21],[2,0,2,26],[2,28,2,30],[4,0,4,4],[4,5,4,11],[4,12,4,13],[4,14,4,19],[4,20,4,23],[4,24,4,26]]}
[{"$nulls":4},{"$f":"Eigaben!Z3","v":"37. Schweizer Cup Männer 2025"}]
[1,{"$nulls":4},{"$f":"A2","v":1}]
["Aufgebot Mannschaften"]
[]
[{"$f":"VLOOKUP(A2,Eigaben!Y8:AC14,5,1)","v":"Vorrunde"},{"$nulls":4},{"$f":"VLOOKUP($A$2,Eigaben!$Y$8:$AB$14,2,1)","v":"2025-04-07"},{"$nulls":6},"bis",null,{"$f":"VLOOKUP($A$2,Eigaben!$Y$8:$AB$14,3,1)","v":"2025-04-25"},{"$nulls":5},"Spiel - Nr.",null,null,null,{"$f":"Eigaben!B7","v":"B"}]
[{"$f":"Eigaben!F7","v":40},{"$nulls":13},{"$f":"Eigaben!G7","v":43}]
["Heim - Mannschaft",{"$nulls":13},"Gast - Mannschaft"]
[{"$f":"(VLOOKUP($A$6,Eigaben!$Y$17:$Z$103,2,0))","v":"STV Elgg ( 2. Liga )"},{"$nulls":13},{"$f":"(VLOOKUP($O$6,Eigaben!$Y$17:$Z$103,2,0))","v":"STV Müllheim ( 2. L )"}]
[{"$f":"VLOOKUP($A$6,Eigaben!$Y$17:$AH$103,3,1)&\" \"&VLOOKUP(A6,Eigaben!Y17:AH103,4,1)","v":"Oliver Lang"},{"$nulls":13},{"$f":"VLOOKUP($O$6,Eigaben!$Y$17:$AH$103,3,1)&\" \"&VLOOKUP($O$6,Eigaben!$Y$17:$AH$103,4,1)","v":"Raphael Gubser"}]
[{"$f":"VLOOKUP($A$6,Eigaben!$Y$17:$AH$103,5,1)","v":" "},{"$nulls":5},{"$f":"VLOOKUP($A$6,Eigaben!$Y$17:$AH$103,6,1)&\" \"&VLOOKUP(A6,Eigaben!$Y$17:$AH$103,7,1)","v":"   "},{"$nulls":7},{"$f":"VLOOKUP($O$6,Eigaben!$Y$17:$AH$103,5,1)","v":" "},{"$nulls":5},{"$f":"VLOOKUP($O$6,Eigaben!$Y$17:$AV$103,6,1)&\" \"&VLOOKUP($O$6,Eigaben!$Y$17:$AV$103,7,1)","v":"   "}]
[{"$f":"IF(Eigaben!AF54=0,\"\",VLOOKUP($A$6,Eigaben!$Y$17:$AH$103,8,1))","v":" "},{"$nulls":5},{"$f":"IF(Eigaben!$AG$54=0,\"\",VLOOKUP($A$6,Eigaben!$Y$17:$AH$103,9,1))","v":"079 672 93 60"},{"$nulls":7},{"$f":"IF(Eigaben!$AF$59=0,\"\",VLOOKUP($O$6,Eigaben!$Y$17:$AH$103,8,1))","v":" "},{"$nulls":5},{"$f":"IF(Eigaben!$AF$54=0,\"\",VLOOKUP($O$6,Eigaben!$Y$17:$AH$103,9,1))","v":"079 519 86 51"}]
[{"$f":"VLOOKUP($A$6,Eigaben!$Y$17:$AH$103,10,1)","v":"lang@swissfaustball.ch"},{"$nulls":13},{"$f":"VLOOKUP($O$6,Eigaben!$Y$17:$AH$103,10,1)","v":"raffigubser@bluewin.ch"}]
[null,null,{"$f":"Eigaben!C7","v":"B"}]
["Datum",{"$nulls":5},"Zeit",{"$nulls":4},"Ort",{"$nulls":7},"Sportplatz"]
[{"$f":"IF(Eigaben!C6=0,\" \",VLOOKUP(C13,Eigaben!$C$6:$V$22,13,0))","v":"2025-05-01"},{"$nulls":5},{"$f":"IF(Eigaben!C6=0,\" \",VLOOKUP(C13,Eigaben!$C$6:$V$22,14,0))","v":"19:30:00"},{"$nulls":4},{"$f":"IF(Eigaben!C6=0,\"\",VLOOKUP(C13,Eigaben!$C$6:$V$22,15,0))","v":"Elgg"},{"$nulls":7},{"$f":"IF(Eigaben!C6=0,\"\",VLOOKUP(C13,Eigaben!C6:V22,16,0))","v":"Elgg"}]
[null,null,{"$f":"Eigaben!T7","v":79}]
["Aufgebot Schiedsrichter *"]
[]
[{"$f":"IF(C16=0,\"\",VLOOKUP(C16,Schiri_25!A2:L181,3,1)&\" \"&VLOOKUP(C16,Schiri_25!A2:L181,2,1))","v":"Daniel Ziereisen"},{"$nulls":5},{"$f":"IF(C16=0,\"\",VLOOKUP(C16,Schiri_25!A2:L181,9,1))","v":"+41 79 672 26 12"},{"$nulls":5},{"$f":"IF(C16=0,\"\",IF(VLOOKUP(C16,Schiri_25!A2:M122,8,1)=0,\"\",VLOOKUP(C16,Schiri_25!A2:M122,8,1)))","v":"+41 52 364 23 90"},{"$nulls":4},{"$f":"IF(C16=0,\"\",VLOOKUP(C16,Schiri_25!A2:L181,12,1))","v":"daniel.ziereisen@hcs-controls.ch"}]
[]
["* Im Verhinderungsfall sofort Verbindungsaufnahme mit Bruno Pabst: 079 243 02 08"]
[]
["Eintreffen des Schiedsrichters:",{"$nulls":11},{"$f":"IF(G15=\"\",\"\",G15-\"00:15:00\")","v":"19:15:00"}]
[]
["Tenue:",null,null,"Offizielle Schiedsrichterausrüstung gelb / schwarz"]
[]
["Taggeld:",{"$nulls":4},"Fr.","**",{"$nulls":5},"Fahrspesen",{"$nulls":6},"Fr",null,1,null,null,{"$f":"Eigaben!V6","v":5}]
[]
["Die Fahrspesen (einfache Fahrt, Fr. 1,00 pro Km)  werden durch die Heim-Mannschaft bezahlt. \n**  (Das Taggeld wird direkt durch die CUPKO ausbezahlt.)"]
[{"$nulls":5},{"$f":"Eigaben!C6","v":"A"}]
["Modus"]
["Spielmodus:",null,null,null,"5 Gewinnsätze bis 11 (max. 15 : 14)",{"$nulls":12},"Pause nach  4 Sätzen max 5 Min."]
[]
["Bonus-Punkte:",{"$nulls":5},{"$f":"Eigaben!S6","v":0}]
[]
["Durchführung:\n",{"$nulls":5},"Bei einer allfälligen Verschiebung muss spätestens 5 Stunden vor Spielbeginn die Gast-Mannschaft, der Schiedsrichter und deer Chef CUPKO per Telefon und SMS informiert werden."]
[]
["Resultatmeldung"]
[]
["1. Satz",null,null,"2. Satz",null,null,"3. Satz",null,null,"4. Satz",null,null,"5. Satz",null,null,"6. Satz",null,null,"7. Satz",null,null,"8. Satz",null,null,"9. Satz"]
[null,":",null,null,":",null,null,":",null,null,":",null,null,":",null,null,":",null,null,":",null,null,":",null,null,":"]
["Sieger",{"$nulls":20},"Sätze",null,null,":"]
[]
["Resultatmeldung bis spätestens 12 Uhr des Folgetages durch den Schiedsrichter  per E-Mail, SMS oder WhatsApp an  "]
["pabst@swissfaustball.ch",{"$nulls":16},"pabst.bruno@bluewin.ch"]
[]
[]
["Mit sportlichen Grüssen\nSwiss Faustball CUPKO\nBruno Pabst (Präsident)",{"$nulls":19},"Thundorf, ",null,null,{"$f":"TODAY()","v":"2025-08-28"}]

{"sheet":"Spielbericht B","index":15,"n_rows":58,"n_cols":36,"rows_kept":58,"cut":false,"hidden":true,"merged":[[54,0,54,35],[55,0,55,16],[55,17,55,35],[56,0,56,16],[56,17,56,35],[57,0,59,23],[57,24,59,29],[57,30,59,35],[50,30,50,32],[50,33,51,35],[52,0,53,4],[52,25,52,29],[52,30,52,35],[53,25,53,29],[53,30,53,35],[50,11,50,13],[50,14,50,16],[50,17,50,20],[50,21,50,23],[50,24,50,26],[50,27,50,29],[35,2,36,2],[35,3,36,4],[50,8,50,10],[38,2,39,2],[38,3,39,4],[40,2,41,2],[40,3,41,4],[42,2,43,2],[42,3,43,4],[44,2,45,2],[44,3,45,4],[47,2,48,2],[47,3,48,4],[50,0,51,4],[25,0,25,5],[25,13,25,15],[31,2,32,2],[31,3,32,4],[33,2,34,2],[33,3,34,4],[16,5,16,16],[16,23,16,34],[17,5,17,16],[17,23,17,34],[29,2,30,2],[29,3,30,4],[18,5,18,16],[18,23,18,34],[19,18,19,22],[20,18,20,22],[22,0,22,4],[22,5,22,17],[22,27,22,35],[23,6,23,17],[23,18,23,23],[23,24,23,35],[13,5,13,16],[13,23,13,34],[14,5,14,16],[14,23,14,34],[15,5,15,16],[15,23,15,34],[10,5,10,16],[10,23,10,34],[11,5,11,16],[11,23,11,34],[12,5,12,16],[12,23,12,34],[7,35,8,35],[8,5,8,16],[8,23,8,34],[9,5,9,16],[9,23,9,34],[7,0,7,5],[7,6,7,16],[7,17,8,17],[7,18,7,23],[7,24,7,34],[0,6,1,35],[3,6,3,28],[3,29,3,35],[5,0,5,3],[5,4,5,8],[5,9,5,10],[5,11,5,13],[5,14,5,17],[5,18,5,28],[5,29,5,32],[5,33,5,35]]}
[{"$nulls":6},{"$f":"'Aufgebot B'!E1","v":"37. Schweizer Cup Männer 2025"}]
[]
[]
[{"$nulls":6},"            Spielbericht",{"$nulls":22},{"$f":"'Aufgebot B'!A5","v":"Vorrunde"}]
[]
["Datum:  ",null,null,null,{"$f":"'Aufgebot B'!A15","v":"2025-05-01"},{"$nulls":4},"Zeit:",null,{"$f":"'Aufgebot B'!G15","v":"19:30:00"},null,null,"Spielort:",null,null,null,{"$f":"'Aufgebot B'!L15","v":"Elgg"},{"$nulls":10}," Spiel-Nr.:",null,null,null,{"$f":"'Aufgebot B'!Y5","v":"B"}]
[]
["Mannschaft A:",{"$nulls":5},{"$f":"'Aufgebot B'!A8","v":"STV Elgg ( 2. Liga )"},{"$nulls":10},"Verw.","Mannschaft B:",{"$nulls":5},{"$f":"'Aufgebot B'!O8","v":"STV Müllheim ( 2. L )"},{"$nulls":10},"Verw."]
["Nr.",null,"Spf.","Eins.","Jg.","Name/Vorname",{"$nulls":12},"Nr.",null,"Spf.","Eins.","Jg.","Name/Vorname"]
[{"$nulls":4},"","",{"$nulls":16},"",""]
[{"$nulls":4},"","",{"$nulls":10},"",{"$nulls":5},"","",{"$nulls":10},""]
[{"$nulls":4},"","",{"$nulls":10},"",{"$nulls":5},"","",{"$nulls":10},""]
[{"$nulls":4},"","",{"$nulls":10},"",{"$nulls":5},"","",{"$nulls":10},""]
[{"$nulls":4},"","",{"$nulls":10},"",{"$nulls":5},"","",{"$nulls":10},""]
[{"$nulls":4},"","",{"$nulls":10},"",{"$nulls":5},"","",{"$nulls":10},""]
[{"$nulls":4},"","",{"$nulls":10},"",{"$nulls":5},"","",{"$nulls":10},""]
[{"$nulls":4},"","",{"$nulls":10},"",{"$nulls":5},"","",{"$nulls":10},""]
[{"$nulls":4},"","",{"$nulls":10},"",{"$nulls":5},"","",{"$nulls":10},""]
[{"$nulls":4},"","",{"$nulls":16},"",""]
[" Trainer:",{"$nulls":5},"",{"$nulls":11},"Trainer:",{"$nulls":5},""]
[" Betreuer:",{"$nulls":5},"",{"$nulls":11}," Betreuer:"]
[]
[" Schiedsrichter:",{"$nulls":4},{"$f":"'Aufgebot B'!A19&\" \"&'Aufgebot B'!G19","v":"Daniel Ziereisen +41 79 672 26 12"},{"$nulls":12},"Heimmannschaft Verantw.",{"$nulls":8},{"$f":"'Aufgebot B'!A9","v":"Oliver Lang"}]
[" Linienrichter:",{"$nulls":17}," Linienrichter:"]
[]
["Ballwahl/Anspiel:",{"$nulls":6},"1. Satz:","A",null,"B",null,null,"5. Satz:",null,null,"A",null,"B"]
[]
["Ausserordentliche Vorfälle:  ",{"$nulls":6},"","Protest/Einsprache",null,null,null,"","Ausschluss",null,null,"","Sonstiges",null,null,null,"(Ankreuzen + Bericht mit Unterschrift auf Rückseite)"]
[]
["A",null,"Timeout","1. Satz",null,"A",{"$f":"IF('Aufgebot B'!$G$34>0,1,\"\")","v":""},{"$f":"IF('Aufgebot B'!$G$34>0,2,\"\")","v":""},{"$f":"IF('Aufgebot B'!$G$34=3,3,\"\")","v":""}]
["B",{"$nulls":4},"B"]
["A",null,"Timeout","2. Satz",null,"A",{"$f":"IF('Aufgebot B'!$G$34>0,1,\"\")","v":""},{"$f":"IF('Aufgebot B'!$G$34>0,2,\"\")","v":""},{"$f":"IF('Aufgebot B'!$G$34=3,3,\"\")","v":""}]
["B",{"$nulls":4},"B"]
["A",null,"Timeout","3. Satz",null,"A",{"$f":"IF('Aufgebot B'!$G$34>0,1,\"\")","v":""},{"$f":"IF('Aufgebot B'!$G$34>0,2,\"\")","v":""},{"$f":"IF('Aufgebot B'!$G$34=3,3,\"\")","v":""}]
["B",{"$nulls":4},"B"]
["A",null,"Timeout","4. Satz",null,"A",{"$f":"IF('Aufgebot B'!$G$34>0,1,\"\")","v":""},{"$f":"IF('Aufgebot B'!$G$34>0,2,\"\")","v":""},{"$f":"IF('Aufgebot B'!$G$34=3,3,\"\")","v":""}]
["B",{"$nulls":4},"B"]
[]
["A",null,"Timeout","5. Satz",null,"A",{"$f":"IF('Aufgebot B'!$G$34>0,1,\"\")","v":""},{"$f":"IF('Aufgebot B'!$G$34>0,2,\"\")","v":""},{"$f":"IF('Aufgebot B'!$G$34=3,3,\"\")","v":""}]
["B",{"$nulls":4},"B"]
["A",null,"Timeout","6. Satz",null,"A",{"$f":"IF('Aufgebot B'!$G$34>0,1,\"\")","v":""},{"$f":"IF('Aufgebot B'!$G$34>0,2,\"\")","v":""},{"$f":"IF('Aufgebot B'!$G$34=3,3,\"\")","v":""}]
["B",{"$nulls":4},"B"]
["A",null,"Timeout","7. Satz",null,"A",{"$f":"IF('Aufgebot B'!$G$34>0,1,\"\")","v":""},{"$f":"IF('Aufgebot B'!$G$34>0,2,\"\")","v":""},{"$f":"IF('Aufgebot B'!$G$34=3,3,\"\")","v":""}]
["B",{"$nulls":4},"B"]
["A",null,"Timeout","8. Satz",null,"A",{"$f":"IF('Aufgebot B'!$G$34>0,1,\"\")","v":""},{"$f":"IF('Aufgebot B'!$G$34>0,2,\"\")","v":""},{"$f":"IF('Aufgebot B'!$G$34=3,3,\"\")","v":""}]
["B",{"$nulls":4},"B"]
[]
["A",null,"Timeout","9. Satz",null,"A",{"$f":"IF('Aufgebot B'!$G$34>0,1,\"\")","v":""},{"$f":"IF('Aufgebot B'!$G$34>0,2,\"\")","v":""},{"$f":"IF('Aufgebot B'!$G$34=3,3,\"\")","v":""}]
["B",{"$nulls":4},"B"]
[]
[" Ergebnis    (A:B) ",{"$nulls":4},"1. Satz",null,null,"2. Satz",null,null,"3. Satz",null,null,"4. Satz",null,null,"5. Satz",null,null,null,"6. Satz",null,null,"7. Satz",null,null,"8. Satz",null,null,"9. Satz"]
[{"$nulls":6},":",null,null,":",null,null,":",null,null,":",null,null,":",null,null,null,":",null,null,":",null,null,":",null,null,":"]
["Sieger",{"$nulls":24},"Total Punkte",{"$nulls":4},"Endstand (Sätze)"]
[{"$nulls":25},":",{"$nulls":4},":"]
[" Für die Richtigkeit der Eintragungen"]
[" Schiedsrichter:",{"$nulls":16},"Spielführer A:"]
[" Anschreiber:",{"$nulls":16}," Spielführer B:"]
["Mit sportlichen Grüssen\nSwiss Faustball CUPKO\nBruno Pabst (Präsident)",{"$nulls":23},"Thundorf,",{"$nulls":5},{"$f":"TODAY()","v":"2025-08-28"}]

{"sheet":"Aufgebot C","index":16,"n_rows":48,"n_cols":26,"rows_kept":48,"cut":false,"hidden":true,"merged":[[41,0,41,2],[41,3,41,20],[41,21,41,23],[41,24,41,26],[50,2,50,8],[43,0,43,26],[44,0,44,8],[44,9,44,15],[44,17,44,24],[47,0,47,19],[47,20,47,22],[47,23,47,26],[36,0,36,26],[37,0,37,26],[38,0,38,26],[39,0,39,2],[39,3,39,5],[39,6,39,8],[39,9,39,11],[39,12,39,14],[39,15,39,17],[39,18,39,20],[39,21,39,23],[39,24,39,26],[35,0,35,5],[35,6,35,26],[26,35,26,38],[28,0,28,26],[30,0,30,26],[31,0,31,3],[31,4,31,16],[31,17,31,26],[31,28,31,29],[32,0,32,26],[33,6,33,7],[33,12,33,14],[33,28,33,29],[34,0,34,26],[22,0,22,11],[22,12,22,14],[23,28,24,29],[24,0,24,2],[26,6,26,8],[26,12,26,18],[26,19,26,20],[26,21,26,22],[26,24,26,26],[26,28,26,29],[17,28,19,29],[18,0,18,5],[18,6,18,11],[18,12,18,16],[18,17,18,26],[19,0,19,26],[14,28,15,29],[16,0,16,11],[16,12,16,15],[16,16,16,18],[16,20,16,23],[16,24,16,26],[16,28,16,29],[13,0,13,5],[13,6,13,10],[13,11,13,18],[13,19,13,26],[14,0,14,5],[14,6,14,10],[14,11,14,18],[14,19,14,26],[10,0,10,5],[10,6,10,12],[10,14,10,19],[10,20,10,26],[11,0,11,12],[11,14,11,26],[8,0,8,12],[8,14,8,26],[9,0,9,5],[9,6,9,12],[9,14,9,19],[9,20,9,26],[6,0,6,12],[6,13,7,13],[6,14,6,26],[6,28,6,29],[6,30,6,31],[7,14,7,26],[0,4,0,21],[2,0,2,26],[2,28,2,30],[4,0,4,4],[4,5,4,11],[4,12,4,13],[4,14,4,19],[4,20,4,23],[4,24,4,26]]}
[{"$nulls":4},{"$f":"Eigaben!Z3","v":"37. Schweizer Cup Männer 2025"}]
[1,{"$nulls":4},{"$f":"A2","v":1}]
["Aufgebot Mannschaften"]
[]
[{"$f":"VLOOKUP(A2,Eigaben!Y8:AC14,5,1)","v":"Vorrunde"},{"$nulls":4},{"$f":"VLOOKUP($A$2,Eigaben!$Y$8:$AB$14,2,1)","v":"2025-04-07"},{"$nulls":6},"bis",null,{"$f":"VLOOKUP($A$2,Eigaben!$Y$8:$AB$14,3,1)","v":"2025-04-25"},{"$nulls":5},"Spiel - Nr.",null,null,null,{"$f":"Eigaben!B8","v":"C"}]
[{"$f":"Eigaben!F8","v":0},{"$nulls":13},{"$f":"Eigaben!G8","v":0}]
["Heim - Mannschaft",{"$nulls":13},"Gast - Mannschaft"]
[{"$f":"(VLOOKUP($A$6,Eigaben!$Y$17:$Z$103,2,0))","v":{"$error":"#N/A"}},{"$nulls":13},{"$f":"(VLOOKUP($O$6,Eigaben!$Y$17:$Z$103,2,0))","v":{"$error":"#N/A"}}]
[{"$f":"VLOOKUP($A$6,Eigaben!$Y$17:$AH$103,3,1)&\" \"&VLOOKUP(A6,Eigaben!Y17:AH103,4,1)","v":{"$error":"#N/A"}},{"$nulls":13},{"$f":"VLOOKUP($O$6,Eigaben!$Y$17:$AH$103,3,1)&\" \"&VLOOKUP($O$6,Eigaben!$Y$17:$AH$103,4,1)","v":{"$error":"#N/A"}}]
[{"$f":"VLOOKUP($A$6,Eigaben!$Y$17:$AH$103,5,1)","v":{"$error":"#N/A"}},{"$nulls":5},{"$f":"VLOOKUP($A$6,Eigaben!$Y$17:$AH$103,6,1)&\" \"&VLOOKUP(A6,Eigaben!$Y$17:$AH$103,7,1)","v":{"$error":"#N/A"}},{"$nulls":7},{"$f":"VLOOKUP($O$6,Eigaben!$Y$17:$AH$103,5,1)","v":{"$error":"#N/A"}},{"$nulls":5},{"$f":"VLOOKUP($O$6,Eigaben!$Y$17:$AV$103,6,1)&\" \"&VLOOKUP($O$6,Eigaben!$Y$17:$AV$103,7,1)","v":{"$error":"#N/A"}}]
[{"$f":"IF(Eigaben!AF54=0,\"\",VLOOKUP($A$6,Eigaben!$Y$17:$AH$103,8,1))","v":{"$error":"#N/A"}},{"$nulls":5},{"$f":"IF(Eigaben!$AG$54=0,\"\",VLOOKUP($A$6,Eigaben!$Y$17:$AH$103,9,1))","v":{"$error":"#N/A"}},{"$nulls":7},{"$f":"IF(Eigaben!AF55=0,\"\",VLOOKUP($O$6,Eigaben!$Y$17:$AH$103,8,1))","v":{"$error":"#N/A"}},{"$nulls":5},{"$f":"IF(Eigaben!$P$54=0,\"\",VLOOKUP($O$6,Eigaben!$Y$17:$AH$103,9,1))","v":{"$error":"#N/A"}}]
[{"$f":"VLOOKUP($A$6,Eigaben!$Y$17:$AH$103,10,1)","v":{"$error":"#N/A"}},{"$nulls":13},{"$f":"VLOOKUP($O$6,Eigaben!$Y$17:$AH$103,10,1)","v":{"$error":"#N/A"}}]
[null,null,{"$f":"Eigaben!C8","v":0}]
["Datum",{"$nulls":5},"Zeit",{"$nulls":4},"Ort",{"$nulls":7},"Sportplatz"]
[{"$f":"IF(Eigaben!C6=0,\" \",VLOOKUP(C13,Eigaben!$C$6:$V$22,13,0))","v":{"$error":"#N/A"}},{"$nulls":5},{"$f":"IF(Eigaben!C6=0,\" \",VLOOKUP(C13,Eigaben!$C$6:$V$22,14,0))","v":{"$error":"#N/A"}},{"$nulls":4},{"$f":"IF(Eigaben!C6=0,\"\",VLOOKUP(C13,Eigaben!$C$6:$V$22,15,0))","v":{"$error":"#N/A"}},{"$nulls":7},{"$f":"IF(Eigaben!C6=0,\"\",VLOOKUP(C13,Eigaben!C6:V22,16,0))","v":{"$error":"#N/A"}}]
[null,null,{"$f":"Eigaben!T8","v":0}]
["Aufgebot Schiedsrichter *"]
[]
[{"$f":"IF(C16=0,\"\",VLOOKUP(C16,Schiri_25!A2:L181,3,1)&\" \"&VLOOKUP(C16,Schiri_25!A2:L181,2,1))","v":""},{"$nulls":5},{"$f":"IF(C16=0,\"\",VLOOKUP(C16,Schiri_25!A2:L181,9,1))","v":""},{"$nulls":5},{"$f":"IF(C16=0,\"\",IF(VLOOKUP(C16,Schiri_25!A2:M122,8,1)=0,\"\",VLOOKUP(C16,Schiri_25!A2:M122,8,1)))","v":""},{"$nulls":4},{"$f":"IF(C16=0,\"\",VLOOKUP(C16,Schiri_25!A2:L181,12,1))","v":""}]
[]
["* Im Verhinderungsfall sofort Verbindungsaufnahme mit Bruno Pabst: 079 243 02 08"]
[]
["Eintreffen des Schiedsrichters:",{"$nulls":11},{"$f":"IF(G15=\"\",\"\",G15-\"00:15:00\")","v":{"$error":"#N/A"}}]
[]
["Tenue:",null,null,"Offizielle Schiedsrichterausrüstung gelb / schwarz"]
[]
["Taggeld:",{"$nulls":4},"Fr.","**",{"$nulls":5},"Fahrspesen",{"$nulls":6},"Fr",null,1,null,null,{"$f":"Eigaben!V8","v":0}]
[]
["Die Fahrspesen (einfache Fahrt, Fr. 1,00 pro Km)  werden durch die Heim-Mannschaft bezahlt. \n**  (Das Taggeld wird direkt durch die CUPKO ausbezahlt.)"]
[{"$nulls":5},{"$f":"Eigaben!C6","v":"A"}]
["Modus"]
["Spielmodus:",null,null,null,"5 Gewinnsätze bis 11 (max. 15 : 14)",{"$nulls":12},"Pause nach  4 Sätzen max 5 Min."]
[]
["Bonus-Punkte:",{"$nulls":5},{"$f":"Eigaben!S8","v":0}]
[]
["Durchführung:\n",{"$nulls":5},"Bei einer allfälligen Verschiebung muss spätestens 5 Stunden vor Spielbeginn die Gast-Mannschaft, der Schiedsrichter und deer Chef CUPKO per Telefon und SMS informiert werden."]
[]
["Resultatmeldung"]
[]
["1. Satz",null,null,"2. Satz",null,null,"3. Satz",null,null,"4. Satz",null,null,"5. Satz",null,null,"6. Satz",null,null,"7. Satz",null,null,"8. Satz",null,null,"9. Satz"]
[null,":",null,null,":",null,null,":",null,null,":",null,null,":",null,null,":",null,null,":",null,null,":",null,null,":"]
["Sieger",{"$nulls":20},"Sätze",null,null,":"]
[]
["Resultatmeldung bis spätestens 12 Uhr des Folgetages durch den Schiedsrichter  per E-Mail, SMS oder WhatsApp an  "]
["pabst@swissfaustball.ch",{"$nulls":16},"pabst.bruno@bluewin.ch"]
[]
[]
["Mit sportlichen Grüssen\nSwiss Faustball CUPKO\nBruno Pabst (Präsident)",{"$nulls":19},"Thundorf, ",null,null,{"$f":"TODAY()","v":"2025-08-28"}]

{"sheet":"Spielbericht C","index":17,"n_rows":60,"n_cols":36,"rows_kept":60,"cut":false,"hidden":true,"merged":[[55,0,55,35],[56,0,56,16],[56,17,56,35],[57,0,57,16],[57,17,57,35],[59,0,61,23],[59,24,61,29],[59,30,61,35],[50,30,50,32],[50,33,51,35],[52,0,53,4],[52,25,52,29],[52,30,52,35],[53,25,53,29],[53,30,53,35],[50,11,50,13],[50,14,50,16],[50,17,50,20],[50,21,50,23],[50,24,50,26],[50,27,50,29],[35,2,36,2],[35,3,36,4],[50,8,50,10],[38,2,39,2],[38,3,39,4],[40,2,41,2],[40,3,41,4],[42,2,43,2],[42,3,43,4],[44,2,45,2],[44,3,45,4],[47,2,48,2],[47,3,48,4],[50,0,51,4],[25,0,25,5],[25,13,25,15],[31,2,32,2],[31,3,32,4],[33,2,34,2],[33,3,34,4],[16,5,16,16],[16,23,16,34],[17,5,17,16],[17,23,17,34],[29,2,30,2],[29,3,30,4],[18,5,18,16],[18,23,18,34],[19,18,19,22],[20,18,20,22],[22,0,22,4],[22,5,22,17],[22,27,22,35],[23,6,23,17],[23,18,23,23],[23,24,23,35],[13,5,13,16],[13,23,13,34],[14,5,14,16],[14,23,14,34],[15,5,15,16],[15,23,15,34],[10,5,10,16],[10,23,10,34],[11,5,11,16],[11,23,11,34],[12,5,12,16],[12,23,12,34],[7,35,8,35],[8,5,8,16],[8,23,8,34],[9,5,9,16],[9,23,9,34],[7,0,7,5],[7,6,7,16],[7,17,8,17],[7,18,7,23],[7,24,7,34],[0,6,1,35],[3,6,3,28],[3,29,3,35],[5,0,5,3],[5,4,5,8],[5,9,5,10],[5,11,5,13],[5,14,5,17],[5,18,5,28],[5,29,5,32],[5,33,5,35]]}
[{"$nulls":6},{"$f":"'Aufgebot C'!E1","v":"37. Schweizer Cup Männer 2025"}]
[]
[]
[{"$nulls":6},"            Spielbericht",{"$nulls":22},{"$f":"'Aufgebot C'!A5","v":"Vorrunde"}]
[]
["Datum:  ",null,null,null,{"$f":"'Aufgebot C'!A15","v":{"$error":"#N/A"}},{"$nulls":4},"Zeit:",null,{"$f":"'Aufgebot C'!G15","v":{"$error":"#N/A"}},null,null,"Spielort:",null,null,null,{"$f":"'Aufgebot C'!L15","v":{"$error":"#N/A"}},{"$nulls":10}," Spiel-Nr.:",null,null,null,{"$f":"'Aufgebot C'!Y5","v":"C"}]
[]
["Mannschaft A:",{"$nulls":5},{"$f":"'Aufgebot C'!A8","v":{"$error":"#N/A"}},{"$nulls":10},"Verw.","Mannschaft B:",{"$nulls":5},{"$f":"'Aufgebot C'!O8","v":{"$error":"#N/A"}},{"$nulls":10},"Verw."]
["Nr.",null,"Spf.","Eins.","Jg.","Name/Vorname",{"$nulls":12},"Nr.",null,"Spf.","Eins.","Jg.","Name/Vorname"]
[{"$nulls":4},"","",{"$nulls":16},"",""]
[{"$nulls":4},"","",{"$nulls":10},"",{"$nulls":5},"","",{"$nulls":10},""]
[{"$nulls":4},"","",{"$nulls":10},"",{"$nulls":5},"","",{"$nulls":10},""]
[{"$nulls":4},"","",{"$nulls":10},"",{"$nulls":5},"","",{"$nulls":10},""]
[{"$nulls":4},"","",{"$nulls":10},"",{"$nulls":5},"","",{"$nulls":10},""]
[{"$nulls":4},"","",{"$nulls":10},"",{"$nulls":5},"","",{"$nulls":10},""]
[{"$nulls":4},"","",{"$nulls":10},"",{"$nulls":5},"","",{"$nulls":10},""]
[{"$nulls":4},"","",{"$nulls":10},"",{"$nulls":5},"","",{"$nulls":10},""]
[{"$nulls":4},"","",{"$nulls":10},"",{"$nulls":5},"","",{"$nulls":10},""]
[{"$nulls":4},"","",{"$nulls":16},"",""]
[" Trainer:",{"$nulls":5},"",{"$nulls":11},"Trainer:",{"$nulls":5},""]
[" Betreuer:",{"$nulls":5},"",{"$nulls":11}," Betreuer:"]
[]
[" Schiedsrichter:",{"$nulls":4},{"$f":"'Aufgebot C'!A19&\" \"&'Aufgebot C'!G19","v":" "},{"$nulls":12},"Heimmannschaft Verantw.",{"$nulls":8},{"$f":"'Aufgebot C'!A9","v":{"$error":"#N/A"}}]
[" Linienrichter:",{"$nulls":17}," Linienrichter:"]
[]
["Ballwahl/Anspiel:",{"$nulls":6},"1. Satz:","A",null,"B",null,null,"5. Satz:",null,null,"A",null,"B"]
[]
["Ausserordentliche Vorfälle:  ",{"$nulls":6},"","Protest/Einsprache",null,null,null,"","Ausschluss",null,null,"","Sonstiges",null,null,null,"(Ankreuzen + Bericht mit Unterschrift auf Rückseite)"]
[]
["A",null,"Timeout","1. Satz",null,"A",{"$f":"IF('Aufgebot C'!$G$34>0,1,\"\")","v":""},{"$f":"IF('Aufgebot C'!$G$34>0,2,\"\")","v":""},{"$f":"IF('Aufgebot C'!$G$34=3,3,\"\")","v":""}]
["B",{"$nulls":4},"B"]
["A",null,"Timeout","2. Satz",null,"A",{"$f":"IF('Aufgebot C'!$G$34>0,1,\"\")","v":""},{"$f":"IF('Aufgebot C'!$G$34>0,2,\"\")","v":""},{"$f":"IF('Aufgebot C'!$G$34=3,3,\"\")","v":""}]
["B",{"$nulls":4},"B"]
["A",null,"Timeout","3. Satz",null,"A",{"$f":"IF('Aufgebot C'!$G$34>0,1,\"\")","v":""},{"$f":"IF('Aufgebot C'!$G$34>0,2,\"\")","v":""},{"$f":"IF('Aufgebot C'!$G$34=3,3,\"\")","v":""}]
["B",{"$nulls":4},"B"]
["A",null,"Timeout","4. Satz",null,"A",{"$f":"IF('Aufgebot C'!$G$34>0,1,\"\")","v":""},{"$f":"IF('Aufgebot C'!$G$34>0,2,\"\")","v":""},{"$f":"IF('Aufgebot C'!$G$34=3,3,\"\")","v":""}]
["B",{"$nulls":4},"B"]
[]
["A",null,"Timeout","5. Satz",null,"A",{"$f":"IF('Aufgebot C'!$G$34>0,1,\"\")","v":""},{"$f":"IF('Aufgebot C'!$G$34>0,2,\"\")","v":""},{"$f":"IF('Aufgebot C'!$G$34=3,3,\"\")","v":""}]
["B",{"$nulls":4},"B"]
["A",null,"Timeout","6. Satz",null,"A",{"$f":"IF('Aufgebot C'!$G$34>0,1,\"\")","v":""},{"$f":"IF('Aufgebot C'!$G$34>0,2,\"\")","v":""},{"$f":"IF('Aufgebot C'!$G$34=3,3,\"\")","v":""}]
["B",{"$nulls":4},"B"]
["A",null,"Timeout","7. Satz",null,"A",{"$f":"IF('Aufgebot C'!$G$34>0,1,\"\")","v":""},{"$f":"IF('Aufgebot C'!$G$34>0,2,\"\")","v":""},{"$f":"IF('Aufgebot C'!$G$34=3,3,\"\")","v":""}]
["B",{"$nulls":4},"B"]
["A",null,"Timeout","8. Satz",null,"A",{"$f":"IF('Aufgebot C'!$G$34>0,1,\"\")","v":""},{"$f":"IF('Aufgebot C'!$G$34>0,2,\"\")","v":""},{"$f":"IF('Aufgebot C'!$G$34=3,3,\"\")","v":""}]
["B",{"$nulls":4},"B"]
[]
["A",null,"Timeout","9. Satz",null,"A",{"$f":"IF('Aufgebot C'!$G$34>0,1,\"\")","v":""},{"$f":"IF('Aufgebot C'!$G$34>0,2,\"\")","v":""},{"$f":"IF('Aufgebot C'!$G$34=3,3,\"\")","v":""}]
["B",{"$nulls":4},"B"]
[]
[" Ergebnis    (A:B) ",{"$nulls":4},"1. Satz",null,null,"2. Satz",null,null,"3. Satz",null,null,"4. Satz",null,null,"5. Satz",null,null,null,"6. Satz",null,null,"7. Satz",null,null,"8. Satz",null,null,"9. Satz"]
[{"$nulls":6},":",null,null,":",null,null,":",null,null,":",null,null,":",null,null,null,":",null,null,":",null,null,":",null,null,":"]
["Sieger",{"$nulls":24},"Total Punkte",{"$nulls":4},"Endstand (Sätze)"]
[{"$nulls":25},":",{"$nulls":4},":"]
[]
[" Für die Richtigkeit der Eintragungen"]
[" Schiedsrichter:",{"$nulls":16},"Spielführer A:"]
[" Anschreiber:",{"$nulls":16}," Spielführer B:"]
[]
["Mit sportlichen Grüssen\nSwiss Faustball CUPKO\nBruno Pabst (Präsident)",{"$nulls":23},"Thundorf,",{"$nulls":5},{"$f":"TODAY()","v":"2025-08-28"}]

{"sheet":"Aufgebot D","index":18,"n_rows":48,"n_cols":26,"rows_kept":48,"cut":false,"hidden":true,"merged":[[41,0,41,2],[41,3,41,20],[41,21,41,23],[41,24,41,26],[50,2,50,8],[43,0,43,26],[44,0,44,8],[44,9,44,15],[44,17,44,24],[47,0,47,19],[47,20,47,22],[47,23,47,26],[36,0,36,26],[37,0,37,26],[38,0,38,26],[39,0,39,2],[39,3,39,5],[39,6,39,8],[39,9,39,11],[39,12,39,14],[39,15,39,17],[39,18,39,20],[39,21,39,23],[39,24,39,26],[35,0,35,5],[35,6,35,26],[26,35,26,38],[28,0,28,26],[30,0,30,26],[31,0,31,3],[31,4,31,16],[31,17,31,26],[31,28,31,29],[32,0,32,26],[33,6,33,7],[33,12,33,14],[33,28,33,29],[34,0,34,26],[22,0,22,11],[22,12,22,14],[23,28,24,29],[24,0,24,2],[26,6,26,8],[26,12,26,18],[26,19,26,20],[26,21,26,22],[26,24,26,26],[26,28,26,29],[17,28,19,29],[18,0,18,5],[18,6,18,11],[18,12,18,16],[18,17,18,26],[19,0,19,26],[14,28,15,29],[16,0,16,11],[16,12,16,15],[16,16,16,18],[16,20,16,23],[16,24,16,26],[16,28,16,29],[13,0,13,5],[13,6,13,10],[13,11,13,18],[13,19,13,26],[14,0,14,5],[14,6,14,10],[14,11,14,18],[14,19,14,26],[10,0,10,5],[10,6,10,12],[10,14,10,19],[10,20,10,26],[11,0,11,12],[11,14,11,26],[8,0,8,12],[8,14,8,26],[9,0,9,5],[9,6,9,12],[9,14,9,19],[9,20,9,26],[6,0,6,12],[6,13,7,13],[6,14,6,26],[6,28,6,29],[6,30,6,31],[7,14,7,26],[0,4,0,21],[2,0,2,26],[2,28,2,30],[4,0,4,4],[4,5,4,11],[4,12,4,13],[4,14,4,19],[4,20,4,23],[4,24,4,26]]}
[{"$nulls":4},{"$f":"Eigaben!Z3","v":"37. Schweizer Cup Männer 2025"}]
[1,{"$nulls":4},{"$f":"A2","v":1}]
["Aufgebot Mannschaften"]
[]
[{"$f":"VLOOKUP(A2,Eigaben!Y8:AC14,5,1)","v":"Vorrunde"},{"$nulls":4},{"$f":"VLOOKUP($A$2,Eigaben!$Y$8:$AB$14,2,1)","v":"2025-04-07"},{"$nulls":6},"bis",null,{"$f":"VLOOKUP($A$2,Eigaben!$Y$8:$AB$14,3,1)","v":"2025-04-25"},{"$nulls":5},"Spiel - Nr.",null,null,null,{"$f":"Eigaben!B9","v":"D"}]
[{"$f":"Eigaben!F9","v":0},{"$nulls":13},{"$f":"Eigaben!G9","v":0}]
["Heim - Mannschaft",{"$nulls":13},"Gast - Mannschaft"]
[{"$f":"(VLOOKUP($A$6,Eigaben!$Y$17:$Z$103,2,0))","v":{"$error":"#N/A"}},{"$nulls":13},{"$f":"(VLOOKUP($O$6,Eigaben!$Y$17:$Z$103,2,0))","v":{"$error":"#N/A"}}]
[{"$f":"VLOOKUP($A$6,Eigaben!$Y$17:$AH$103,3,1)&\" \"&VLOOKUP(A6,Eigaben!Y17:AH103,4,1)","v":{"$error":"#N/A"}},{"$nulls":13},{"$f":"VLOOKUP($O$6,Eigaben!$Y$17:$AH$103,3,1)&\" \"&VLOOKUP($O$6,Eigaben!$Y$17:$AH$103,4,1)","v":{"$error":"#N/A"}}]
[{"$f":"VLOOKUP($A$6,Eigaben!$Y$17:$AH$103,5,1)","v":{"$error":"#N/A"}},{"$nulls":5},{"$f":"VLOOKUP($A$6,Eigaben!$Y$17:$AH$103,6,1)&\" \"&VLOOKUP(A6,Eigaben!$Y$17:$AH$103,7,1)","v":{"$error":"#N/A"}},{"$nulls":7},{"$f":"VLOOKUP($O$6,Eigaben!$Y$17:$AH$103,5,1)","v":{"$error":"#N/A"}},{"$nulls":5},{"$f":"VLOOKUP($O$6,Eigaben!$Y$17:$AV$103,6,1)&\" \"&VLOOKUP($O$6,Eigaben!$Y$17:$AV$103,7,1)","v":{"$error":"#N/A"}}]
[{"$f":"IF(Eigaben!AF54=0,\"\",VLOOKUP($A$6,Eigaben!$Y$17:$AH$103,8,1))","v":{"$error":"#N/A"}},{"$nulls":5},{"$f":"IF(Eigaben!$AG$54=0,\"\",VLOOKUP($A$6,Eigaben!$Y$17:$AH$103,9,1))","v":{"$error":"#N/A"}},{"$nulls":7},{"$f":"IF(Eigaben!AF55=0,\"\",VLOOKUP($O$6,Eigaben!$Y$17:$AH$103,8,1))","v":{"$error":"#N/A"}},{"$nulls":5},{"$f":"IF(Eigaben!$P$54=0,\"\",VLOOKUP($O$6,Eigaben!$Y$17:$AH$103,9,1))","v":{"$error":"#N/A"}}]
[{"$f":"VLOOKUP($A$6,Eigaben!$Y$17:$AH$103,10,1)","v":{"$error":"#N/A"}},{"$nulls":13},{"$f":"VLOOKUP($O$6,Eigaben!$Y$17:$AH$103,10,1)","v":{"$error":"#N/A"}}]
[null,null,{"$f":"Eigaben!C9","v":0}]
["Datum",{"$nulls":5},"Zeit",{"$nulls":4},"Ort",{"$nulls":7},"Sportplatz"]
[{"$f":"IF(Eigaben!C6=0,\" \",VLOOKUP(C13,Eigaben!$C$6:$V$22,13,0))","v":{"$error":"#N/A"}},{"$nulls":5},{"$f":"IF(Eigaben!C6=0,\" \",VLOOKUP(C13,Eigaben!$C$6:$V$22,14,0))","v":{"$error":"#N/A"}},{"$nulls":4},{"$f":"IF(Eigaben!C6=0,\"\",VLOOKUP(C13,Eigaben!$C$6:$V$22,15,0))","v":{"$error":"#N/A"}},{"$nulls":7},{"$f":"IF(Eigaben!C6=0,\"\",VLOOKUP(C13,Eigaben!C6:V22,16,0))","v":{"$error":"#N/A"}}]
[null,null,{"$f":"Eigaben!T9","v":0}]
["Aufgebot Schiedsrichter *"]
[]
[{"$f":"IF(C16=0,\"\",VLOOKUP(C16,Schiri_25!A2:L181,2,1)&\" \"&VLOOKUP(C16,Schiri_25!A2:L181,5,1))","v":""},{"$nulls":5},{"$f":"IF(C16=0,\"\",VLOOKUP(C16,Schiri_25!A2:L181,9,1))","v":""},{"$nulls":5},{"$f":"IF(C16=0,\"\",IF(VLOOKUP(C16,Schiri_25!A2:M122,8,1)=0,\"\",VLOOKUP(C16,Schiri_25!A2:M122,8,1)))","v":""},{"$nulls":4},{"$f":"IF(C16=0,\"\",VLOOKUP(C16,Schiri_25!A2:L181,12,1))","v":""}]
[]
["* Im Verhinderungsfall sofort Verbindungsaufnahme mit Bruno Pabst: 079 243 02 08"]
[]
["Eintreffen des Schiedsrichters:",{"$nulls":11},{"$f":"IF(G15=\"\",\"\",G15-\"00:15:00\")","v":{"$error":"#N/A"}}]
[]
["Tenue:",null,null,"Offizielle Schiedsrichterausrüstung gelb / schwarz"]
[]
["Taggeld:",{"$nulls":4},"Fr.","**",{"$nulls":5},"Fahrspesen",{"$nulls":6},"Fr",null,1,null,null,{"$f":"Eigaben!V9","v":0}]
[]
["Die Fahrspesen (einfache Fahrt, Fr. 1,00 pro Km)  werden durch die Heim-Mannschaft bezahlt. \n**  (Das Taggeld wird direkt durch die CUPKO ausbezahlt.)"]
[{"$nulls":5},{"$f":"Eigaben!C6","v":"A"}]
["Modus"]
["Spielmodus:",null,null,null,"5 Gewinnsätze bis 11 (max. 15 : 14)",{"$nulls":12},"Pause nach  4 Sätzen max 5 Min."]
[]
["Bonus-Punkte:",{"$nulls":5},{"$f":"Eigaben!S9","v":0}]
[]
["Durchführung:\n",{"$nulls":5},"Bei einer allfälligen Verschiebung muss spätestens 5 Stunden vor Spielbeginn die Gast-Mannschaft, der Schiedsrichter und deer Chef CUPKO per Telefon und SMS informiert werden."]
[]
["Resultatmeldung"]
[]
["1. Satz",null,null,"2. Satz",null,null,"3. Satz",null,null,"4. Satz",null,null,"5. Satz",null,null,"6. Satz",null,null,"7. Satz",null,null,"8. Satz",null,null,"9. Satz"]
[null,":",null,null,":",null,null,":",null,null,":",null,null,":",null,null,":",null,null,":",null,null,":",null,null,":"]
["Sieger",{"$nulls":20},"Sätze",null,null,":"]
[]
["Resultatmeldung bis spätestens 12 Uhr des Folgetages durch den Schiedsrichter  per E-Mail, SMS oder WhatsApp an  "]
["pabst@swissfaustball.ch",{"$nulls":16},"pabst.bruno@bluewin.ch"]
[]
[]
["Mit sportlichen Grüssen\nSwiss Faustball CUPKO\nBruno Pabst (Präsident)",{"$nulls":19},"Thundorf, ",null,null,{"$f":"TODAY()","v":"2025-08-28"}]

{"sheet":"Spielbericht D","index":19,"n_rows":60,"n_cols":36,"rows_kept":60,"cut":false,"hidden":true,"merged":[[55,0,55,35],[56,0,56,16],[56,17,56,35],[57,0,57,16],[57,17,57,35],[59,0,61,23],[59,24,61,29],[59,30,61,35],[50,30,50,32],[50,33,51,35],[52,0,53,4],[52,25,52,29],[52,30,52,35],[53,25,53,29],[53,30,53,35],[50,11,50,13],[50,14,50,16],[50,17,50,20],[50,21,50,23],[50,24,50,26],[50,27,50,29],[35,2,36,2],[35,3,36,4],[50,8,50,10],[38,2,39,2],[38,3,39,4],[40,2,41,2],[40,3,41,4],[42,2,43,2],[42,3,43,4],[44,2,45,2],[44,3,45,4],[47,2,48,2],[47,3,48,4],[50,0,51,4],[25,0,25,5],[25,13,25,15],[31,2,32,2],[31,3,32,4],[33,2,34,2],[33,3,34,4],[16,5,16,16],[16,23,16,34],[17,5,17,16],[17,23,17,34],[29,2,30,2],[29,3,30,4],[18,5,18,16],[18,23,18,34],[19,18,19,22],[20,18,20,22],[22,0,22,4],[22,5,22,17],[22,27,22,35],[23,6,23,17],[23,18,23,23],[23,24,23,35],[13,5,13,16],[13,23,13,34],[14,5,14,16],[14,23,14,34],[15,5,15,16],[15,23,15,34],[10,5,10,16],[10,23,10,34],[11,5,11,16],[11,23,11,34],[12,5,12,16],[12,23,12,34],[7,35,8,35],[8,5,8,16],[8,23,8,34],[9,5,9,16],[9,23,9,34],[7,0,7,5],[7,6,7,16],[7,17,8,17],[7,18,7,23],[7,24,7,34],[0,6,1,35],[3,6,3,28],[3,29,3,35],[5,0,5,3],[5,4,5,8],[5,9,5,10],[5,11,5,13],[5,14,5,17],[5,18,5,28],[5,29,5,32],[5,33,5,35]]}
[{"$nulls":6},{"$f":"'Aufgebot D'!E1","v":"37. Schweizer Cup Männer 2025"}]
[]
[]
[{"$nulls":6},"            Spielbericht",{"$nulls":22},{"$f":"'Aufgebot D'!A5","v":"Vorrunde"}]
[]
["Datum:  ",null,null,null,{"$f":"'Aufgebot D'!A15","v":{"$error":"#N/A"}},{"$nulls":4},"Zeit:",null,{"$f":"'Aufgebot D'!G15","v":{"$error":"#N/A"}},null,null,"Spielort:",null,null,null,{"$f":"'Aufgebot D'!L15","v":{"$error":"#N/A"}},{"$nulls":10}," Spiel-Nr.:",null,null,null,{"$f":"'Aufgebot D'!Y5","v":"D"}]
[]
["Mannschaft A:",{"$nulls":5},{"$f":"'Aufgebot D'!A8","v":{"$error":"#N/A"}},{"$nulls":10},"Verw.","Mannschaft B:",{"$nulls":5},{"$f":"'Aufgebot D'!O8","v":{"$error":"#N/A"}},{"$nulls":10},"Verw."]
["Nr.",null,"Spf.","Eins.","Jg.","Name/Vorname",{"$nulls":12},"Nr.",null,"Spf.","Eins.","Jg.","Name/Vorname"]
[{"$nulls":4},"","",{"$nulls":16},"",""]
[{"$nulls":4},"","",{"$nulls":10},"",{"$nulls":5},"","",{"$nulls":10},""]
[{"$nulls":4},"","",{"$nulls":10},"",{"$nulls":5},"","",{"$nulls":10},""]
[{"$nulls":4},"","",{"$nulls":10},"",{"$nulls":5},"","",{"$nulls":10},""]
[{"$nulls":4},"","",{"$nulls":10},"",{"$nulls":5},"","",{"$nulls":10},""]
[{"$nulls":4},"","",{"$nulls":10},"",{"$nulls":5},"","",{"$nulls":10},""]
[{"$nulls":4},"","",{"$nulls":10},"",{"$nulls":5},"","",{"$nulls":10},""]
[{"$nulls":4},"","",{"$nulls":10},"",{"$nulls":5},"","",{"$nulls":10},""]
[{"$nulls":4},"","",{"$nulls":10},"",{"$nulls":5},"","",{"$nulls":10},""]
[{"$nulls":4},"","",{"$nulls":16},"",""]
[" Trainer:",{"$nulls":5},"",{"$nulls":11},"Trainer:",{"$nulls":5},""]
[" Betreuer:",{"$nulls":5},"",{"$nulls":11}," Betreuer:"]
[]
[" Schiedsrichter:",{"$nulls":4},{"$f":"'Aufgebot D'!A19&\" \"&'Aufgebot D'!G19","v":" "},{"$nulls":12},"Heimmannschaft Verantw.",{"$nulls":8},{"$f":"'Aufgebot D'!A9","v":{"$error":"#N/A"}}]
[" Linienrichter:",{"$nulls":17}," Linienrichter:"]
[]
["Ballwahl/Anspiel:",{"$nulls":6},"1. Satz:","A",null,"B",null,null,"5. Satz:",null,null,"A",null,"B"]
[{"$nulls":24},{"$f":"Eigaben!V9","v":0}]
["Ausserordentliche Vorfälle:  ",{"$nulls":6},"","Protest/Einsprache",null,null,null,"","Ausschluss",null,null,"","Sonstiges",null,null,null,"(Ankreuzen + Bericht mit Unterschrift auf Rückseite)"]
[]
["A",null,"Timeout","1. Satz",null,"A",{"$f":"IF('Aufgebot D'!$G$34>0,1,\"\")","v":""},{"$f":"IF('Aufgebot D'!$G$34>0,2,\"\")","v":""},{"$f":"IF('Aufgebot D'!$G$34=3,3,\"\")","v":""}]
["B",{"$nulls":4},"B"]
["A",null,"Timeout","2. Satz",null,"A",{"$f":"IF('Aufgebot D'!$G$34>0,1,\"\")","v":""},{"$f":"IF('Aufgebot D'!$G$34>0,2,\"\")","v":""},{"$f":"IF('Aufgebot D'!$G$34=3,3,\"\")","v":""}]
["B",{"$nulls":4},"B"]
["A",null,"Timeout","3. Satz",null,"A",{"$f":"IF('Aufgebot D'!$G$34>0,1,\"\")","v":""},{"$f":"IF('Aufgebot D'!$G$34>0,2,\"\")","v":""},{"$f":"IF('Aufgebot D'!$G$34=3,3,\"\")","v":""}]
["B",{"$nulls":4},"B"]
["A",null,"Timeout","4. Satz",null,"A",{"$f":"IF('Aufgebot D'!$G$34>0,1,\"\")","v":""},{"$f":"IF('Aufgebot D'!$G$34>0,2,\"\")","v":""},{"$f":"IF('Aufgebot D'!$G$34=3,3,\"\")","v":""}]
["B",{"$nulls":4},"B"]
[]
["A",null,"Timeout","5. Satz",null,"A",{"$f":"IF('Aufgebot D'!$G$34>0,1,\"\")","v":""},{"$f":"IF('Aufgebot D'!$G$34>0,2,\"\")","v":""},{"$f":"IF('Aufgebot D'!$G$34=3,3,\"\")","v":""}]
["B",{"$nulls":4},"B"]
["A",null,"Timeout","6. Satz",null,"A",{"$f":"IF('Aufgebot D'!$G$34>0,1,\"\")","v":""},{"$f":"IF('Aufgebot D'!$G$34>0,2,\"\")","v":""},{"$f":"IF('Aufgebot D'!$G$34=3,3,\"\")","v":""}]
["B",{"$nulls":4},"B"]
["A",null,"Timeout","7. Satz",null,"A",{"$f":"IF('Aufgebot D'!$G$34>0,1,\"\")","v":""},{"$f":"IF('Aufgebot D'!$G$34>0,2,\"\")","v":""},{"$f":"IF('Aufgebot D'!$G$34=3,3,\"\")","v":""}]
["B",{"$nulls":4},"B"]
["A",null,"Timeout","8. Satz",null,"A",{"$f":"IF('Aufgebot D'!$G$34>0,1,\"\")","v":""},{"$f":"IF('Aufgebot D'!$G$34>0,2,\"\")","v":""},{"$f":"IF('Aufgebot D'!$G$34=3,3,\"\")","v":""}]
["B",{"$nulls":4},"B"]
[]
["A",null,"Timeout","9. Satz",null,"A",{"$f":"IF('Aufgebot D'!$G$34>0,1,\"\")","v":""},{"$f":"IF('Aufgebot D'!$G$34>0,2,\"\")","v":""},{"$f":"IF('Aufgebot D'!$G$34=3,3,\"\")","v":""}]
["B",{"$nulls":4},"B"]
[]
[" Ergebnis    (A:B) ",{"$nulls":4},"1. Satz",null,null,"2. Satz",null,null,"3. Satz",null,null,"4. Satz",null,null,"5. Satz",null,null,null,"6. Satz",null,null,"7. Satz",null,null,"8. Satz",null,null,"9. Satz"]
[{"$nulls":6},":",null,null,":",null,null,":",null,null,":",null,null,":",null,null,null,":",null,null,":",null,null,":",null,null,":"]
["Sieger",{"$nulls":24},"Total Punkte",{"$nulls":4},"Endstand (Sätze)"]
[{"$nulls":25},":",{"$nulls":4},":"]
[]
[" Für die Richtigkeit der Eintragungen"]
[" Schiedsrichter:",{"$nulls":16},"Spielführer A:"]
[" Anschreiber:",{"$nulls":16}," Spielführer B:"]
[]
["Mit sportlichen Grüssen\nSwiss Faustball CUPKO\nBruno Pabst (Präsident)",{"$nulls":23},"Thundorf,",{"$nulls":5},{"$f":"TODAY()","v":"2025-08-28"}]

{"sheet":"Aufgebot E","index":20,"n_rows":48,"n_cols":26,"rows_kept":48,"cut":false,"hidden":true,"merged":[[41,0,41,2],[41,3,41,20],[41,21,41,23],[41,24,41,26],[50,2,50,8],[43,0,43,26],[44,0,44,8],[44,9,44,15],[44,17,44,24],[47,0,47,19],[47,20,47,22],[47,23,47,26],[36,0,36,26],[37,0,37,26],[38,0,38,26],[39,0,39,2],[39,3,39,5],[39,6,39,8],[39,9,39,11],[39,12,39,14],[39,15,39,17],[39,18,39,20],[39,21,39,23],[39,24,39,26],[35,0,35,5],[35,6,35,26],[26,35,26,38],[28,0,28,26],[30,0,30,26],[31,0,31,3],[31,4,31,16],[31,17,31,26],[31,28,31,29],[32,0,32,26],[33,6,33,7],[33,12,33,14],[33,28,33,29],[34,0,34,26],[22,0,22,11],[22,12,22,14],[23,28,24,29],[24,0,24,2],[26,6,26,8],[26,12,26,18],[26,19,26,20],[26,21,26,22],[26,24,26,26],[26,28,26,29],[17,28,19,29],[18,0,18,5],[18,6,18,11],[18,12,18,16],[18,17,18,26],[19,0,19,26],[14,28,15,29],[16,0,16,11],[16,12,16,15],[16,16,16,18],[16,20,16,23],[16,24,16,26],[16,28,16,29],[13,0,13,5],[13,6,13,10],[13,11,13,18],[13,19,13,26],[14,0,14,5],[14,6,14,10],[14,11,14,18],[14,19,14,26],[10,0,10,5],[10,6,10,12],[10,14,10,19],[10,20,10,26],[11,0,11,12],[11,14,11,26],[8,0,8,12],[8,14,8,26],[9,0,9,5],[9,6,9,12],[9,14,9,19],[9,20,9,26],[6,0,6,12],[6,13,7,13],[6,14,6,26],[6,28,6,29],[6,30,6,31],[7,14,7,26],[0,4,0,21],[2,0,2,26],[2,28,2,30],[4,0,4,4],[4,5,4,11],[4,12,4,13],[4,14,4,19],[4,20,4,23],[4,24,4,26]]}
[{"$nulls":4},{"$f":"Eigaben!Z3","v":"37. Schweizer Cup Männer 2025"}]
[1,{"$nulls":4},{"$f":"A2","v":1}]
["Aufgebot Mannschaften"]
[]
[{"$f":"VLOOKUP(A2,Eigaben!Y8:AC14,5,1)","v":"Vorrunde"},{"$nulls":4},{"$f":"VLOOKUP($A$2,Eigaben!$Y$8:$AB$14,2,1)","v":"2025-04-07"},{"$nulls":6},"bis",null,{"$f":"VLOOKUP($A$2,Eigaben!$Y$8:$AB$14,3,1)","v":"2025-04-25"},{"$nulls":5},"Spiel - Nr.",null,null,null,"E"]
[{"$f":"Eigaben!F10","v":0},{"$nulls":13},{"$f":"Eigaben!G10","v":0}]
["Heim - Mannschaft",{"$nulls":13},"Gast - Mannschaft"]
[{"$f":"(VLOOKUP($A$6,Eigaben!$Y$17:$Z$103,2,0))","v":{"$error":"#N/A"}},{"$nulls":13},{"$f":"(VLOOKUP($O$6,Eigaben!$Y$17:$Z$103,2,0))","v":{"$error":"#N/A"}}]
[{"$f":"VLOOKUP($A$6,Eigaben!$Y$17:$AH$103,3,1)&\" \"&VLOOKUP(A6,Eigaben!Y17:AH103,4,1)","v":{"$error":"#N/A"}},{"$nulls":13},{"$f":"VLOOKUP($O$6,Eigaben!$Y$17:$AH$103,3,1)&\" \"&VLOOKUP($O$6,Eigaben!$Y$17:$AH$103,4,1)","v":{"$error":"#N/A"}}]
[{"$f":"VLOOKUP($A$6,Eigaben!$Y$17:$AH$103,5,1)","v":{"$error":"#N/A"}},{"$nulls":5},{"$f":"VLOOKUP($A$6,Eigaben!$Y$17:$AH$103,6,1)&\" \"&VLOOKUP(A6,Eigaben!$Y$17:$AH$103,7,1)","v":{"$error":"#N/A"}},{"$nulls":7},{"$f":"VLOOKUP($O$6,Eigaben!$Y$17:$AH$103,5,1)","v":{"$error":"#N/A"}},{"$nulls":5},{"$f":"VLOOKUP($O$6,Eigaben!$Y$17:$AV$103,6,1)&\" \"&VLOOKUP($O$6,Eigaben!$Y$17:$AV$103,7,1)","v":{"$error":"#N/A"}}]
[{"$f":"IF(Eigaben!AF54=0,\"\",VLOOKUP($A$6,Eigaben!$Y$17:$AH$103,8,1))","v":{"$error":"#N/A"}},{"$nulls":5},{"$f":"IF(Eigaben!$AG$54=0,\"\",VLOOKUP($A$6,Eigaben!$Y$17:$AH$103,9,1))","v":{"$error":"#N/A"}},{"$nulls":7},{"$f":"IF(Eigaben!AF55=0,\"\",VLOOKUP($O$6,Eigaben!$Y$17:$AH$103,8,1))","v":{"$error":"#N/A"}},{"$nulls":5},{"$f":"IF(Eigaben!$P$54=0,\"\",VLOOKUP($O$6,Eigaben!$Y$17:$AH$103,9,1))","v":{"$error":"#N/A"}}]
[{"$f":"VLOOKUP($A$6,Eigaben!$Y$17:$AH$103,10,1)","v":{"$error":"#N/A"}},{"$nulls":13},{"$f":"VLOOKUP($O$6,Eigaben!$Y$17:$AH$103,10,1)","v":{"$error":"#N/A"}}]
[null,null,{"$f":"Eigaben!C10","v":0}]
["Datum",{"$nulls":5},"Zeit",{"$nulls":4},"Ort",{"$nulls":7},"Sportplatz"]
[{"$f":"IF(Eigaben!C10=0,\" \",VLOOKUP(C13,Eigaben!$C$6:$V$22,13,0))","v":" "},{"$nulls":5},{"$f":"IF(Eigaben!C10=0,\" \",VLOOKUP(C13,Eigaben!$C$6:$V$22,14,0))","v":" "},{"$nulls":4},{"$f":"IF(Eigaben!C10=0,\"\",VLOOKUP(C13,Eigaben!$C$6:$V$22,15,0))","v":""},{"$nulls":7},{"$f":"IF(Eigaben!C10=0,\"\",VLOOKUP(C13,Eigaben!C6:V22,16,0))","v":""}]
[null,null,{"$f":"Eigaben!T10","v":0}]
["Aufgebot Schiedsrichter *"]
[]
[{"$f":"IF(C16=0,\"\",VLOOKUP(C16,Schiri_25!A2:L181,3,1)&\" \"&VLOOKUP(C16,Schiri_25!A2:L181,2,1))","v":""},{"$nulls":5},{"$f":"IF(C16=0,\"\",VLOOKUP(C16,Schiri_25!A2:L181,9,1))","v":""},{"$nulls":5},{"$f":"IF(C16=0,\"\",IF(VLOOKUP(C16,Schiri_25!A2:M122,8,1)=0,\"\",VLOOKUP(C16,Schiri_25!A2:M122,8,1)))","v":""},{"$nulls":4},{"$f":"IF(C16=0,\"\",VLOOKUP(C16,Schiri_25!A2:L181,12,1))","v":""}]
[]
["* Im Verhinderungsfall sofort Verbindungsaufnahme mit Bruno Pabst: 079 243 02 08"]
[]
["Eintreffen des Schiedsrichters:",{"$nulls":11},{"$f":"IF(G15=\"\",\"\",G15-\"00:15:00\")","v":{"$error":"#VALUE!"}}]
[]
["Tenue:",null,null,"Offizielle Schiedsrichterausrüstung gelb / schwarz"]
[]
["Taggeld:",{"$nulls":4},"Fr.","**",{"$nulls":5},"Fahrspesen",{"$nulls":6},"Fr",null,1,null,null,{"$f":"Eigaben!V6","v":5}]
[]
["Die Fahrspesen (einfache Fahrt, Fr. 1,00 pro Km)  werden durch die Heim-Mannschaft bezahlt. \n**  (Das Taggeld wird direkt durch die CUPKO ausbezahlt.)"]
[{"$nulls":5},{"$f":"Eigaben!C6","v":"A"}]
["Modus"]
["Spielmodus:",null,null,null,"5 Gewinnsätze bis 11 (max. 15 : 14)",{"$nulls":12},"Pause nach  4 Sätzen max 5 Min."]
[]
["Bonus-Punkte:",{"$nulls":5},{"$f":"Eigaben!S10","v":0}]
[]
["Durchführung:\n",{"$nulls":5},"Bei einer allfälligen Verschiebung muss spätestens 5 Stunden vor Spielbeginn die Gast-Mannschaft, der Schiedsrichter und deer Chef CUPKO per Telefon und SMS informiert werden."]
[]
["Resultatmeldung"]
[]
["1. Satz",null,null,"2. Satz",null,null,"3. Satz",null,null,"4. Satz",null,null,"5. Satz",null,null,"6. Satz",null,null,"7. Satz",null,null,"8. Satz",null,null,"9. Satz"]
[null,":",null,null,":",null,null,":",null,null,":",null,null,":",null,null,":",null,null,":",null,null,":",null,null,":"]
["Sieger",{"$nulls":20},"Sätze",null,null,":"]
[]
["Resultatmeldung bis spätestens 12 Uhr des Folgetages durch den Schiedsrichter  per E-Mail, SMS oder WhatsApp an  "]
["pabst@swissfaustball.ch",{"$nulls":16},"pabst.bruno@bluewin.ch"]
[]
[]
["Mit sportlichen Grüssen\nSwiss Faustball CUPKO\nBruno Pabst (Präsident)",{"$nulls":19},"Thundorf, ",null,null,{"$f":"TODAY()","v":"2025-08-28"}]

{"sheet":"Spielbericht E","index":21,"n_rows":59,"n_cols":36,"rows_kept":59,"cut":false,"hidden":true,"merged":[[54,0,54,35],[55,0,55,16],[55,17,55,35],[56,0,56,16],[56,17,56,35],[58,0,60,23],[58,24,60,29],[58,30,60,35],[50,30,50,32],[50,33,51,35],[52,0,53,4],[52,25,52,29],[52,30,52,35],[53,25,53,29],[53,30,53,35],[50,11,50,13],[50,14,50,16],[50,17,50,20],[50,21,50,23],[50,24,50,26],[50,27,50,29],[35,2,36,2],[35,3,36,4],[50,8,50,10],[38,2,39,2],[38,3,39,4],[40,2,41,2],[40,3,41,4],[42,2,43,2],[42,3,43,4],[44,2,45,2],[44,3,45,4],[47,2,48,2],[47,3,48,4],[50,0,51,4],[25,0,25,5],[25,13,25,15],[31,2,32,2],[31,3,32,4],[33,2,34,2],[33,3,34,4],[16,5,16,16],[16,23,16,34],[17,5,17,16],[17,23,17,34],[29,2,30,2],[29,3,30,4],[18,5,18,16],[18,23,18,34],[19,18,19,22],[20,18,20,22],[22,0,22,4],[22,5,22,17],[22,27,22,35],[23,6,23,17],[23,18,23,23],[23,24,23,35],[13,5,13,16],[13,23,13,34],[14,5,14,16],[14,23,14,34],[15,5,15,16],[15,23,15,34],[10,5,10,16],[10,23,10,34],[11,5,11,16],[11,23,11,34],[12,5,12,16],[12,23,12,34],[7,35,8,35],[8,5,8,16],[8,23,8,34],[9,5,9,16],[9,23,9,34],[7,0,7,5],[7,6,7,16],[7,17,8,17],[7,18,7,23],[7,24,7,34],[0,6,1,35],[3,6,3,28],[3,29,3,35],[5,0,5,3],[5,4,5,8],[5,9,5,10],[5,11,5,13],[5,14,5,17],[5,18,5,28],[5,29,5,32],[5,33,5,35]]}
[{"$nulls":6},{"$f":"'Aufgebot E'!E1","v":"37. Schweizer Cup Männer 2025"}]
[]
[]
[{"$nulls":6},"            Spielbericht",{"$nulls":22},{"$f":"'Aufgebot E'!A5","v":"Vorrunde"}]
[]
["Datum:  ",null,null,null,{"$f":"'Aufgebot E'!A15","v":" "},{"$nulls":4},"Zeit:",null,{"$f":"'Aufgebot E'!G15","v":" "},null,null,"Spielort:",null,null,null,{"$f":"'Aufgebot E'!L15","v":""},{"$nulls":10}," Spiel-Nr.:",null,null,null,{"$f":"'Aufgebot E'!Y5","v":"E"}]
[]
["Mannschaft A:",{"$nulls":5},{"$f":"'Aufgebot E'!A8","v":{"$error":"#N/A"}},{"$nulls":10},"Verw.","Mannschaft B:",{"$nulls":5},{"$f":"'Aufgebot E'!O8","v":{"$error":"#N/A"}},{"$nulls":10},"Verw."]
["Nr.",null,"Spf.","Eins.","Jg.","Name/Vorname",{"$nulls":12},"Nr.",null,"Spf.","Eins.","Jg.","Name/Vorname"]
[{"$nulls":4},"","",{"$nulls":16},"",""]
[{"$nulls":4},"","",{"$nulls":10},"",{"$nulls":5},"","",{"$nulls":10},""]
[{"$nulls":4},"","",{"$nulls":10},"",{"$nulls":5},"","",{"$nulls":10},""]
[{"$nulls":4},"","",{"$nulls":10},"",{"$nulls":5},"","",{"$nulls":10},""]
[{"$nulls":4},"","",{"$nulls":10},"",{"$nulls":5},"","",{"$nulls":10},""]
[{"$nulls":4},"","",{"$nulls":10},"",{"$nulls":5},"","",{"$nulls":10},""]
[{"$nulls":4},"","",{"$nulls":10},"",{"$nulls":5},"","",{"$nulls":10},""]
[{"$nulls":4},"","",{"$nulls":10},"",{"$nulls":5},"","",{"$nulls":10},""]
[{"$nulls":4},"","",{"$nulls":10},"",{"$nulls":5},"","",{"$nulls":10},""]
[{"$nulls":4},"","",{"$nulls":16},"",""]
[" Trainer:",{"$nulls":5},"",{"$nulls":11},"Trainer:",{"$nulls":5},""]
[" Betreuer:",{"$nulls":5},"",{"$nulls":11}," Betreuer:"]
[]
[" Schiedsrichter:",{"$nulls":4},{"$f":"'Aufgebot E'!A19&\" \"&'Aufgebot E'!G19","v":" "},{"$nulls":12},"Heimmannschaft Verantw.",{"$nulls":8},{"$f":"'Aufgebot E'!A9","v":{"$error":"#N/A"}}]
[" Linienrichter:",{"$nulls":17}," Linienrichter:"]
[]
["Ballwahl/Anspiel:",{"$nulls":6},"1. Satz:","A",null,"B",null,null,"5. Satz:",null,null,"A",null,"B"]
[]
["Ausserordentliche Vorfälle:  ",{"$nulls":6},"","Protest/Einsprache",null,null,null,"","Ausschluss",null,null,"","Sonstiges",null,null,null,"(Ankreuzen + Bericht mit Unterschrift auf Rückseite)"]
[]
["A",null,"Timeout","1. Satz",null,"A",{"$f":"IF('Aufgebot E'!$G$34>0,1,\"\")","v":""},{"$f":"IF('Aufgebot E'!$G$34>0,2,\"\")","v":""},{"$f":"IF('Aufgebot E'!$G$34=3,3,\"\")","v":""}]
["B",{"$nulls":4},"B"]
["A",null,"Timeout","2. Satz",null,"A",{"$f":"IF('Aufgebot E'!$G$34>0,1,\"\")","v":""},{"$f":"IF('Aufgebot E'!$G$34>0,2,\"\")","v":""},{"$f":"IF('Aufgebot E'!$G$34=3,3,\"\")","v":""}]
["B",{"$nulls":4},"B"]
["A",null,"Timeout","3. Satz",null,"A",{"$f":"IF('Aufgebot E'!$G$34>0,1,\"\")","v":""},{"$f":"IF('Aufgebot E'!$G$34>0,2,\"\")","v":""},{"$f":"IF('Aufgebot E'!$G$34=3,3,\"\")","v":""}]
["B",{"$nulls":4},"B"]
["A",null,"Timeout","4. Satz",null,"A",{"$f":"IF('Aufgebot E'!$G$34>0,1,\"\")","v":""},{"$f":"IF('Aufgebot E'!$G$34>0,2,\"\")","v":""},{"$f":"IF('Aufgebot E'!$G$34=3,3,\"\")","v":""}]
["B",{"$nulls":4},"B"]
[]
["A",null,"Timeout","5. Satz",null,"A",{"$f":"IF('Aufgebot E'!$G$34>0,1,\"\")","v":""},{"$f":"IF('Aufgebot E'!$G$34>0,2,\"\")","v":""},{"$f":"IF('Aufgebot E'!$G$34=3,3,\"\")","v":""}]
["B",{"$nulls":4},"B"]
["A",null,"Timeout","6. Satz",null,"A",{"$f":"IF('Aufgebot E'!$G$34>0,1,\"\")","v":""},{"$f":"IF('Aufgebot E'!$G$34>0,2,\"\")","v":""},{"$f":"IF('Aufgebot E'!$G$34=3,3,\"\")","v":""}]
["B",{"$nulls":4},"B"]
["A",null,"Timeout","7. Satz",null,"A",{"$f":"IF('Aufgebot E'!$G$34>0,1,\"\")","v":""},{"$f":"IF('Aufgebot E'!$G$34>0,2,\"\")","v":""},{"$f":"IF('Aufgebot E'!$G$34=3,3,\"\")","v":""}]
["B",{"$nulls":4},"B"]
["A",null,"Timeout","8. Satz",null,"A",{"$f":"IF('Aufgebot E'!$G$34>0,1,\"\")","v":""},{"$f":"IF('Aufgebot E'!$G$34>0,2,\"\")","v":""},{"$f":"IF('Aufgebot E'!$G$34=3,3,\"\")","v":""}]
["B",{"$nulls":4},"B"]
[]
["A",null,"Timeout","9. Satz",null,"A",{"$f":"IF('Aufgebot E'!$G$34>0,1,\"\")","v":""},{"$f":"IF('Aufgebot E'!$G$34>0,2,\"\")","v":""},{"$f":"IF('Aufgebot E'!$G$34=3,3,\"\")","v":""}]
["B",{"$nulls":4},"B"]
[]
[" Ergebnis    (A:B) ",{"$nulls":4},"1. Satz",null,null,"2. Satz",null,null,"3. Satz",null,null,"4. Satz",null,null,"5. Satz",null,null,null,"6. Satz",null,null,"7. Satz",null,null,"8. Satz",null,null,"9. Satz"]
[{"$nulls":6},":",null,null,":",null,null,":",null,null,":",null,null,":",null,null,null,":",null,null,":",null,null,":",null,null,":"]
["Sieger",{"$nulls":24},"Total Punkte",{"$nulls":4},"Endstand (Sätze)"]
[{"$nulls":25},":",{"$nulls":4},":"]
[" Für die Richtigkeit der Eintragungen"]
[" Schiedsrichter:",{"$nulls":16},"Spielführer A:"]
[" Anschreiber:",{"$nulls":16}," Spielführer B:"]
[]
["Mit sportlichen Grüssen\nSwiss Faustball CUPKO\nBruno Pabst (Präsident)",{"$nulls":23},"Thundorf,",{"$nulls":5},{"$f":"TODAY()","v":"2025-08-28"}]

{"sheet":"Aufgebot F","index":22,"n_rows":48,"n_cols":26,"rows_kept":48,"cut":false,"hidden":true,"merged":[[41,0,41,2],[41,3,41,20],[41,21,41,23],[41,24,41,26],[50,2,50,8],[43,0,43,26],[44,0,44,8],[44,9,44,15],[44,17,44,24],[47,0,47,19],[47,20,47,22],[47,23,47,26],[36,0,36,26],[37,0,37,26],[38,0,38,26],[39,0,39,2],[39,3,39,5],[39,6,39,8],[39,9,39,11],[39,12,39,14],[39,15,39,17],[39,18,39,20],[39,21,39,23],[39,24,39,26],[35,0,35,5],[35,6,35,26],[26,35,26,38],[28,0,28,26],[30,0,30,26],[31,0,31,3],[31,4,31,16],[31,17,31,26],[31,28,31,29],[32,0,32,26],[33,6,33,7],[33,12,33,14],[33,28,33,29],[34,0,34,26],[22,0,22,11],[22,12,22,14],[23,28,24,29],[24,0,24,2],[26,6,26,8],[26,12,26,18],[26,19,26,20],[26,21,26,22],[26,24,26,26],[26,28,26,29],[17,28,19,29],[18,0,18,5],[18,6,18,11],[18,12,18,16],[18,17,18,26],[19,0,19,26],[14,28,15,29],[16,0,16,11],[16,12,16,15],[16,16,16,18],[16,20,16,23],[16,24,16,26],[16,28,16,29],[13,0,13,5],[13,6,13,10],[13,11,13,18],[13,19,13,26],[14,0,14,5],[14,6,14,10],[14,11,14,18],[14,19,14,26],[10,0,10,5],[10,6,10,12],[10,14,10,19],[10,20,10,26],[11,0,11,12],[11,14,11,26],[8,0,8,12],[8,14,8,26],[9,0,9,5],[9,6,9,12],[9,14,9,19],[9,20,9,26],[6,0,6,12],[6,13,7,13],[6,14,6,26],[6,28,6,29],[6,30,6,31],[7,14,7,26],[0,4,0,21],[2,0,2,26],[2,28,2,30],[4,0,4,4],[4,5,4,11],[4,12,4,13],[4,14,4,19],[4,20,4,23],[4,24,4,26]]}
[{"$nulls":4},{"$f":"Eigaben!Z3","v":"37. Schweizer Cup Männer 2025"}]
[1,{"$nulls":4},{"$f":"A2","v":1}]
["Aufgebot Mannschaften"]
[]
[{"$f":"VLOOKUP(A2,Eigaben!Y8:AC14,5,1)","v":"Vorrunde"},{"$nulls":4},{"$f":"VLOOKUP($A$2,Eigaben!$Y$8:$AB$14,2,1)","v":"2025-04-07"},{"$nulls":6},"bis",null,{"$f":"VLOOKUP($A$2,Eigaben!$Y$8:$AB$14,3,1)","v":"2025-04-25"},{"$nulls":5},"Spiel - Nr.",null,null,null,"F"]
[{"$f":"Eigaben!F11","v":0},{"$nulls":13},{"$f":"Eigaben!G11","v":0}]
["Heim - Mannschaft",{"$nulls":13},"Gast - Mannschaft"]
[{"$f":"(VLOOKUP($A$6,Eigaben!$Y$17:$Z$103,2,0))","v":{"$error":"#N/A"}},{"$nulls":13},{"$f":"(VLOOKUP($O$6,Eigaben!$Y$17:$Z$103,2,0))","v":{"$error":"#N/A"}}]
[{"$f":"VLOOKUP($A$6,Eigaben!$Y$17:$AH$103,3,1)&\" \"&VLOOKUP(A6,Eigaben!Y17:AH103,4,1)","v":{"$error":"#N/A"}},{"$nulls":13},{"$f":"VLOOKUP($O$6,Eigaben!$Y$17:$AH$103,3,1)&\" \"&VLOOKUP($O$6,Eigaben!$Y$17:$AH$103,4,1)","v":{"$error":"#N/A"}}]
[{"$f":"VLOOKUP($A$6,Eigaben!$Y$17:$AH$103,5,1)","v":{"$error":"#N/A"}},{"$nulls":5},{"$f":"VLOOKUP($A$6,Eigaben!$Y$17:$AH$103,6,1)&\" \"&VLOOKUP(A6,Eigaben!$Y$17:$AH$103,7,1)","v":{"$error":"#N/A"}},{"$nulls":7},{"$f":"VLOOKUP($O$6,Eigaben!$Y$17:$AH$103,5,1)","v":{"$error":"#N/A"}},{"$nulls":5},{"$f":"VLOOKUP($O$6,Eigaben!$Y$17:$AV$103,6,1)&\" \"&VLOOKUP($O$6,Eigaben!$Y$17:$AV$103,7,1)","v":{"$error":"#N/A"}}]
[{"$f":"IF(Eigaben!AF54=0,\"\",VLOOKUP($A$6,Eigaben!$Y$17:$AH$103,8,1))","v":{"$error":"#N/A"}},{"$nulls":5},{"$f":"IF(Eigaben!$AG$54=0,\"\",VLOOKUP($A$6,Eigaben!$Y$17:$AH$103,9,1))","v":{"$error":"#N/A"}},{"$nulls":7},{"$f":"IF(Eigaben!AF55=0,\"\",VLOOKUP($O$6,Eigaben!$Y$17:$AH$103,8,1))","v":{"$error":"#N/A"}},{"$nulls":5},{"$f":"IF(Eigaben!$P$54=0,\"\",VLOOKUP($O$6,Eigaben!$Y$17:$AH$103,9,1))","v":{"$error":"#N/A"}}]
[{"$f":"VLOOKUP($A$6,Eigaben!$Y$17:$AH$103,10,1)","v":{"$error":"#N/A"}},{"$nulls":13},{"$f":"VLOOKUP($O$6,Eigaben!$Y$17:$AH$103,10,1)","v":{"$error":"#N/A"}}]
[null,null,{"$f":"Eigaben!C11","v":0}]
["Datum",{"$nulls":5},"Zeit",{"$nulls":4},"Ort",{"$nulls":7},"Sportplatz"]
[{"$f":"IF(Eigaben!C6=0,\" \",VLOOKUP(C13,Eigaben!$C$6:$V$22,13,0))","v":{"$error":"#N/A"}},{"$nulls":5},{"$f":"IF(Eigaben!C6=0,\" \",VLOOKUP(C13,Eigaben!$C$6:$V$22,14,0))","v":{"$error":"#N/A"}},{"$nulls":4},{"$f":"IF(Eigaben!C6=0,\"\",VLOOKUP(C13,Eigaben!$C$6:$V$22,15,0))","v":{"$error":"#N/A"}},{"$nulls":7},{"$f":"IF(Eigaben!C6=0,\"\",VLOOKUP(C13,Eigaben!C6:V22,16,0))","v":{"$error":"#N/A"}}]
[null,null,{"$f":"Eigaben!T11","v":0}]
["Aufgebot Schiedsrichter *"]
[]
[{"$f":"IF(C16=0,\"\",VLOOKUP(C16,Schiri_25!A2:L181,3,1)&\" \"&VLOOKUP(C16,Schiri_25!A2:L181,2,1))","v":""},{"$nulls":5},{"$f":"IF(C16=0,\"\",VLOOKUP(C16,Schiri_25!A2:L181,9,1))","v":""},{"$nulls":5},{"$f":"IF(C16=0,\"\",IF(VLOOKUP(C16,Schiri_25!A2:M122,8,1)=0,\"\",VLOOKUP(C16,Schiri_25!A2:M122,8,1)))","v":""},{"$nulls":4},{"$f":"IF(C16=0,\"\",VLOOKUP(C16,Schiri_25!A2:L181,12,1))","v":""}]
[]
["* Im Verhinderungsfall sofort Verbindungsaufnahme mit Bruno Pabst: 079 243 02 08"]
[]
["Eintreffen des Schiedsrichters:",{"$nulls":11},{"$f":"IF(G15=\"\",\"\",G15-\"00:15:00\")","v":{"$error":"#N/A"}}]
[]
["Tenue:",null,null,"Offizielle Schiedsrichterausrüstung gelb / schwarz"]
[]
["Taggeld:",{"$nulls":4},"Fr.","**",{"$nulls":5},"Fahrspesen",{"$nulls":6},"Fr",null,1,null,null,{"$f":"Eigaben!V11","v":0}]
[]
["Die Fahrspesen (einfache Fahrt, Fr. 1,00 pro Km)  werden durch die Heim-Mannschaft bezahlt. \n**  (Das Taggeld wird direkt durch die CUPKO ausbezahlt.)"]
[{"$nulls":5},{"$f":"Eigaben!C6","v":"A"}]
["Modus"]
["Spielmodus:",null,null,null,"5 Gewinnsätze bis 11 (max. 15 : 14)",{"$nulls":12},"Pause nach  4 Sätzen max 5 Min."]
[]
["Bonus-Punkte:",{"$nulls":5},{"$f":"Eigaben!S6","v":0}]
[]
["Durchführung:\n",{"$nulls":5},"Bei einer allfälligen Verschiebung muss spätestens 5 Stunden vor Spielbeginn die Gast-Mannschaft, der Schiedsrichter und deer Chef CUPKO per Telefon und SMS informiert werden."]
[]
["Resultatmeldung"]
[]
["1. Satz",null,null,"2. Satz",null,null,"3. Satz",null,null,"4. Satz",null,null,"5. Satz",null,null,"6. Satz",null,null,"7. Satz",null,null,"8. Satz",null,null,"9. Satz"]
[null,":",null,null,":",null,null,":",null,null,":",null,null,":",null,null,":",null,null,":",null,null,":",null,null,":"]
["Sieger",{"$nulls":20},"Sätze",null,null,":"]
[]
["Resultatmeldung bis spätestens 12 Uhr des Folgetages durch den Schiedsrichter  per E-Mail, SMS oder WhatsApp an  "]
["pabst@swissfaustball.ch",{"$nulls":16},"pabst.bruno@bluewin.ch"]
[]
[]
["Mit sportlichen Grüssen\nSwiss Faustball CUPKO\nBruno Pabst (Präsident)",{"$nulls":19},"Thundorf, ",null,null,{"$f":"TODAY()","v":"2025-08-28"}]

{"sheet":"Spielbericht F","index":23,"n_rows":60,"n_cols":36,"rows_kept":60,"cut":false,"hidden":true,"merged":[[55,0,55,35],[56,0,56,16],[56,17,56,35],[57,0,57,16],[57,17,57,35],[59,0,61,23],[59,24,61,29],[59,30,61,35],[50,30,50,32],[50,33,51,35],[52,0,53,4],[52,25,52,29],[52,30,52,35],[53,25,53,29],[53,30,53,35],[50,11,50,13],[50,14,50,16],[50,17,50,20],[50,21,50,23],[50,24,50,26],[50,27,50,29],[35,2,36,2],[35,3,36,4],[50,8,50,10],[38,2,39,2],[38,3,39,4],[40,2,41,2],[40,3,41,4],[42,2,43,2],[42,3,43,4],[44,2,45,2],[44,3,45,4],[47,2,48,2],[47,3,48,4],[50,0,51,4],[25,0,25,5],[25,13,25,15],[31,2,32,2],[31,3,32,4],[33,2,34,2],[33,3,34,4],[16,5,16,16],[16,23,16,34],[17,5,17,16],[17,23,17,34],[29,2,30,2],[29,3,30,4],[18,5,18,16],[18,23,18,34],[19,18,19,22],[20,18,20,22],[22,0,22,4],[22,5,22,17],[22,27,22,35],[23,6,23,17],[23,18,23,23],[23,24,23,35],[13,5,13,16],[13,23,13,34],[14,5,14,16],[14,23,14,34],[15,5,15,16],[15,23,15,34],[10,5,10,16],[10,23,10,34],[11,5,11,16],[11,23,11,34],[12,5,12,16],[12,23,12,34],[7,35,8,35],[8,5,8,16],[8,23,8,34],[9,5,9,16],[9,23,9,34],[7,0,7,5],[7,6,7,16],[7,17,8,17],[7,18,7,23],[7,24,7,34],[0,6,1,35],[3,6,3,28],[3,29,3,35],[5,0,5,3],[5,4,5,8],[5,9,5,10],[5,11,5,13],[5,14,5,17],[5,18,5,28],[5,29,5,32],[5,33,5,35]]}
[{"$nulls":6},{"$f":"'Aufgebot F'!E1","v":"37. Schweizer Cup Männer 2025"}]
[]
[]
[{"$nulls":6},"            Spielbericht",{"$nulls":22},{"$f":"'Aufgebot F'!A5","v":"Vorrunde"}]
[]
["Datum:  ",null,null,null,{"$f":"'Aufgebot F'!A15","v":{"$error":"#N/A"}},{"$nulls":4},"Zeit:",null,{"$f":"'Aufgebot F'!G15","v":{"$error":"#N/A"}},null,null,"Spielort:",null,null,null,{"$f":"'Aufgebot F'!L15","v":{"$error":"#N/A"}},{"$nulls":10}," Spiel-Nr.:",null,null,null,{"$f":"'Aufgebot F'!Y5","v":"F"}]
[]
["Mannschaft A:",{"$nulls":5},{"$f":"'Aufgebot F'!A8","v":{"$error":"#N/A"}},{"$nulls":10},"Verw.","Mannschaft B:",{"$nulls":5},{"$f":"'Aufgebot F'!O8","v":{"$error":"#N/A"}},{"$nulls":10},"Verw."]
["Nr.",null,"Spf.","Eins.","Jg.","Name/Vorname",{"$nulls":12},"Nr.",null,"Spf.","Eins.","Jg.","Name/Vorname"]
[{"$nulls":4},"","",{"$nulls":16},"",""]
[{"$nulls":4},"","",{"$nulls":10},"",{"$nulls":5},"","",{"$nulls":10},""]
[{"$nulls":4},"","",{"$nulls":10},"",{"$nulls":5},"","",{"$nulls":10},""]
[{"$nulls":4},"","",{"$nulls":10},"",{"$nulls":5},"","",{"$nulls":10},""]
[{"$nulls":4},"","",{"$nulls":10},"",{"$nulls":5},"","",{"$nulls":10},""]
[{"$nulls":4},"","",{"$nulls":10},"",{"$nulls":5},"","",{"$nulls":10},""]
[{"$nulls":4},"","",{"$nulls":10},"",{"$nulls":5},"","",{"$nulls":10},""]
[{"$nulls":4},"","",{"$nulls":10},"",{"$nulls":5},"","",{"$nulls":10},""]
[{"$nulls":4},"","",{"$nulls":10},"",{"$nulls":5},"","",{"$nulls":10},""]
[{"$nulls":4},"","",{"$nulls":16},"",""]
[" Trainer:",{"$nulls":5},"",{"$nulls":11},"Trainer:",{"$nulls":5},""]
[" Betreuer:",{"$nulls":5},"",{"$nulls":11}," Betreuer:"]
[]
[" Schiedsrichter:",{"$nulls":4},{"$f":"'Aufgebot F'!A19&\" \"&'Aufgebot F'!G19","v":" "},{"$nulls":12},"Heimmannschaft Verantw.",{"$nulls":8},{"$f":"'Aufgebot F'!A9","v":{"$error":"#N/A"}}]
[" Linienrichter:",{"$nulls":17}," Linienrichter:"]
[]
["Ballwahl/Anspiel:",{"$nulls":6},"1. Satz:","A",null,"B",null,null,"5. Satz:",null,null,"A",null,"B"]
[]
["Ausserordentliche Vorfälle:  ",{"$nulls":6},"","Protest/Einsprache",null,null,null,"","Ausschluss",null,null,"","Sonstiges",null,null,null,"(Ankreuzen + Bericht mit Unterschrift auf Rückseite)"]
[]
["A",null,"Timeout","1. Satz",null,"A",{"$f":"IF('Aufgebot F'!$G$34>0,1,\"\")","v":""},{"$f":"IF('Aufgebot F'!$G$34>0,2,\"\")","v":""},{"$f":"IF('Aufgebot F'!$G$34=3,3,\"\")","v":""}]
["B",{"$nulls":4},"B"]
["A",null,"Timeout","2. Satz",null,"A",{"$f":"IF('Aufgebot F'!$G$34>0,1,\"\")","v":""},{"$f":"IF('Aufgebot F'!$G$34>0,2,\"\")","v":""},{"$f":"IF('Aufgebot F'!$G$34=3,3,\"\")","v":""}]
["B",{"$nulls":4},"B"]
["A",null,"Timeout","3. Satz",null,"A",{"$f":"IF('Aufgebot F'!$G$34>0,1,\"\")","v":""},{"$f":"IF('Aufgebot F'!$G$34>0,2,\"\")","v":""},{"$f":"IF('Aufgebot F'!$G$34=3,3,\"\")","v":""}]
["B",{"$nulls":4},"B"]
["A",null,"Timeout","4. Satz",null,"A",{"$f":"IF('Aufgebot F'!$G$34>0,1,\"\")","v":""},{"$f":"IF('Aufgebot F'!$G$34>0,2,\"\")","v":""},{"$f":"IF('Aufgebot F'!$G$34=3,3,\"\")","v":""}]
["B",{"$nulls":4},"B"]
[]
["A",null,"Timeout","5. Satz",null,"A",{"$f":"IF('Aufgebot F'!$G$34>0,1,\"\")","v":""},{"$f":"IF('Aufgebot F'!$G$34>0,2,\"\")","v":""},{"$f":"IF('Aufgebot F'!$G$34=3,3,\"\")","v":""}]
["B",{"$nulls":4},"B"]
["A",null,"Timeout","6. Satz",null,"A",{"$f":"IF('Aufgebot F'!$G$34>0,1,\"\")","v":""},{"$f":"IF('Aufgebot F'!$G$34>0,2,\"\")","v":""},{"$f":"IF('Aufgebot F'!$G$34=3,3,\"\")","v":""}]
["B",{"$nulls":4},"B"]
["A",null,"Timeout","7. Satz",null,"A",{"$f":"IF('Aufgebot F'!$G$34>0,1,\"\")","v":""},{"$f":"IF('Aufgebot F'!$G$34>0,2,\"\")","v":""},{"$f":"IF('Aufgebot F'!$G$34=3,3,\"\")","v":""}]
["B",{"$nulls":4},"B"]
["A",null,"Timeout","8. Satz",null,"A",{"$f":"IF('Aufgebot F'!$G$34>0,1,\"\")","v":""},{"$f":"IF('Aufgebot F'!$G$34>0,2,\"\")","v":""},{"$f":"IF('Aufgebot F'!$G$34=3,3,\"\")","v":""}]
["B",{"$nulls":4},"B"]
[]
["A",null,"Timeout","9. Satz",null,"A",{"$f":"IF('Aufgebot F'!$G$34>0,1,\"\")","v":""},{"$f":"IF('Aufgebot F'!$G$34>0,2,\"\")","v":""},{"$f":"IF('Aufgebot F'!$G$34=3,3,\"\")","v":""}]
["B",{"$nulls":4},"B"]
[]
[" Ergebnis    (A:B) ",{"$nulls":4},"1. Satz",null,null,"2. Satz",null,null,"3. Satz",null,null,"4. Satz",null,null,"5. Satz",null,null,null,"6. Satz",null,null,"7. Satz",null,null,"8. Satz",null,null,"9. Satz"]
[{"$nulls":6},":",null,null,":",null,null,":",null,null,":",null,null,":",null,null,null,":",null,null,":",null,null,":",null,null,":"]
["Sieger",{"$nulls":24},"Total Punkte",{"$nulls":4},"Endstand (Sätze)"]
[{"$nulls":25},":",{"$nulls":4},":"]
[]
[" Für die Richtigkeit der Eintragungen"]
[" Schiedsrichter:",{"$nulls":16},"Spielführer A:"]
[" Anschreiber:",{"$nulls":16}," Spielführer B:"]
[]
["Mit sportlichen Grüssen\nSwiss Faustball CUPKO\nBruno Pabst (Präsident)",{"$nulls":23},"Thundorf,",{"$nulls":5},{"$f":"TODAY()","v":"2025-08-28"}]

{"sheet":"Aufgebot 1","index":24,"n_rows":48,"n_cols":26,"rows_kept":48,"cut":false,"hidden":true,"merged":[[50,2,50,8],[43,0,43,26],[44,0,44,8],[44,9,44,15],[44,17,44,24],[47,0,47,19],[47,20,47,22],[47,23,47,26],[39,15,39,17],[39,18,39,20],[39,21,39,23],[39,24,39,26],[41,0,41,2],[41,3,41,20],[41,21,41,23],[41,24,41,26],[39,0,39,2],[39,3,39,5],[39,6,39,8],[39,9,39,11],[39,12,39,14],[33,28,33,29],[34,0,34,26],[36,0,36,26],[37,0,37,26],[38,0,38,26],[35,0,35,5],[35,6,35,26],[26,35,26,38],[28,0,28,26],[30,0,30,26],[31,0,31,3],[31,4,31,16],[31,17,31,26],[31,28,31,29],[26,19,26,20],[26,21,26,22],[26,24,26,26],[32,0,32,26],[33,6,33,7],[33,12,33,14],[22,0,22,11],[22,12,22,14],[24,0,24,2],[26,6,26,8],[26,12,26,18],[18,0,18,5],[18,6,18,11],[18,12,18,16],[18,17,18,26],[19,0,19,26],[16,0,16,11],[16,12,16,15],[16,16,16,18],[16,20,16,23],[16,24,16,26],[13,0,13,5],[13,6,13,10],[13,11,13,18],[13,19,13,26],[14,0,14,5],[14,6,14,10],[14,11,14,18],[14,19,14,26],[10,0,10,5],[10,6,10,12],[10,14,10,19],[10,20,10,26],[11,0,11,12],[11,14,11,26],[8,0,8,12],[8,14,8,26],[9,0,9,5],[9,6,9,12],[9,14,9,19],[9,20,9,26],[6,0,6,12],[6,13,7,13],[6,14,6,26],[6,28,6,29],[6,30,6,31],[7,14,7,26],[0,4,0,21],[2,0,2,26],[2,28,2,30],[4,0,4,4],[4,5,4,11],[4,12,4,13],[4,14,4,19],[4,20,4,23]]}
[{"$nulls":4},{"$f":"Eigaben!Z3","v":"37. Schweizer Cup Männer 2025"}]
[2,null,null,{"$f":"VLOOKUP(A2,Eigaben!Y8:AC14,5,0)","v":"1/16 Final "},{"$nulls":4},2]
["Aufgebot Mannschaften"]
[1]
[{"$f":"VLOOKUP(A2,Eigaben!Y8:AC14,5,0)","v":"1/16 Final "},{"$nulls":4},{"$f":"VLOOKUP($A$2,Eigaben!$Y$8:$AC$14,2,1)","v":"2025-05-05"},{"$nulls":6},"bis",null,{"$f":"VLOOKUP($A$2,Eigaben!$Y$8:$AB$14,3,1)","v":"2025-06-13"},{"$nulls":5},"Spiel - Nr.",null,null,null,1]
[{"$f":"Eigaben!F28","v":56},{"$nulls":13},{"$f":"Eigaben!G28","v":71}]
["Heim - Mannschaft",{"$nulls":13},"Gast - Mannschaft"]
[{"$f":"(VLOOKUP($A$6,Eigaben!$Y$17:$Z$103,2,0))","v":"TSV Jona 1( NLB O )"},{"$nulls":13},{"$f":"(VLOOKUP($O$6,Eigaben!$Y$17:$Z$103,2,0))","v":"STV Wigoltingen   ( NLA )"}]
[{"$f":"VLOOKUP($A$6,Eigaben!$Y$17:$AH$103,3,1)&\" \"&VLOOKUP(A6,Eigaben!Y17:AH103,4,1)","v":"Fabian Zahner"},{"$nulls":13},{"$f":"VLOOKUP($O$6,Eigaben!$Y$17:$AH$103,3,1)&\" \"&VLOOKUP($O$6,Eigaben!$Y$17:$AH$103,4,1)","v":"David Berger"}]
[{"$f":"VLOOKUP($A$6,Eigaben!$Y$17:$AH$103,5,1)","v":" "},{"$nulls":5},{"$f":"VLOOKUP($A$6,Eigaben!$Y$17:$AH$103,6,1)&\" \"&VLOOKUP(A6,Eigaben!$Y$17:$AH$103,7,1)","v":"   "},{"$nulls":7},{"$f":"VLOOKUP($O$6,Eigaben!$Y$17:$AH$103,5,1)","v":"Eggrainstr 25"},{"$nulls":5},{"$f":"VLOOKUP($O$6,Eigaben!$Y$17:$AV$103,6,1)&\" \"&VLOOKUP($O$6,Eigaben!$Y$17:$AV$103,7,1)","v":"8556 Wigoltingen"}]
[{"$f":"IF(Eigaben!AF54=0,\"\",VLOOKUP($A$6,Eigaben!$Y$17:$AH$103,8,1))","v":" "},{"$nulls":5},{"$f":"IF(Eigaben!$AG$54=0,\"\",VLOOKUP($A$6,Eigaben!$Y$17:$AH$103,9,1))","v":"076 592 09 17"},{"$nulls":7},{"$f":"IF(Eigaben!AF55=0,\"\",VLOOKUP($O$6,Eigaben!$Y$17:$AH$103,8,1))","v":"052 763 10 81"},{"$nulls":5},{"$f":"IF(Eigaben!$AG$54=0,\"\",VLOOKUP($O$6,Eigaben!$Y$17:$AH$103,9,1))","v":"079 388 63 87"}]
[{"$f":"VLOOKUP($A$6,Eigaben!$Y$17:$AH$103,10,1)","v":"tkchef@fbjona.ch"},{"$nulls":13},{"$f":"VLOOKUP($O$6,Eigaben!$Y$17:$AH$103,10,1)","v":"d_berger@bluewin.ch"}]
[null,null,{"$f":"Eigaben!C28","v":1}]
["Datum",{"$nulls":5},"Zeit",{"$nulls":4},"Ort",{"$nulls":7},"Sportplatz"]
[{"$f":"IF(Eigaben!C28=0,\"\",VLOOKUP(C13,Eigaben!$C$28:$V$109,13,0))","v":"2025-06-19"},{"$nulls":5},{"$f":"IF(Eigaben!C28=0,\"\",VLOOKUP(C13,Eigaben!$C$28:$V$110,14,0))","v":"19:30:00"},{"$nulls":4},{"$f":"IF(Eigaben!C28=0,\"\",VLOOKUP(C13,Eigaben!$C$28:$V$1110,15,0))","v":"Jona"},{"$nulls":7},{"$f":"IF(Eigaben!C28=0,\"\",VLOOKUP(C13,Eigaben!$C$28:$V$110,16,0))","v":"Sprtplatz Grünfeld"}]
[null,null,{"$f":"Eigaben!T28","v":57}]
["Aufgebot Schiedsrichter *"]
[]
[{"$f":"IF(C16=0,\"\",VLOOKUP(C16,Schiri_25!A2:L181,3,1)&\" \"&VLOOKUP(C16,Schiri_25!A2:L181,2,1))","v":"Manfred Friedlos"},{"$nulls":5},{"$f":"IF(C16=0,\"\",VLOOKUP(C16,Schiri_25!A2:L181,9,1))","v":"+41 79 468 57 67"},{"$nulls":5},{"$f":"IF(C16=0,\"\",IF(VLOOKUP(C16,Schiri_25!A2:M122,8,1)=0,\"\",VLOOKUP(C16,Schiri_25!A2:M122,8,1)))","v":"+41 55 440 83 80"},{"$nulls":4},{"$f":"IF(C16=0,\"\",VLOOKUP(C16,Schiri_25!A2:L181,12,1))","v":"manfred.friedlos@af21.ch"}]
[]
["* Im Verhinderungsfall sofort Verbindungsaufnahme mit Bruno Pabst: 079 243 02 08"]
[]
["Eintreffen des Schiedsrichters:",{"$nulls":11},{"$f":"IF(G15=\"\",\"\",G15-\"00:15:00\")","v":"19:15:00"}]
[]
["Tenue:",null,null,"Offizielle Schiedsrichterausrüstung blau / schwarz"]
[]
["Taggeld:",{"$nulls":4},"Fr.","**",{"$nulls":5},"Fahrspesen",{"$nulls":6},"Fr",null,1,null,null,{"$f":"Eigaben!V28","v":14}]
[]
["Die Fahrspesen (einfache Fahrt, Fr. 1,00 pro Km)  werden durch die Heim-Mannschaft bezahlt. \n**  (Das Taggeld wird direkt durch die CUPKO ausbezahlt.)"]
[{"$nulls":5},{"$f":"Eigaben!C6","v":"A"}]
["Modus"]
["Spielmodus:",null,null,null,"5 Gewinnsätze bis 11 (max. 15 : 14)",{"$nulls":12},"Pause nach  4 Sätzen max 5 Min."]
[]
["Bonus-Punkte:",{"$nulls":5},{"$f":"Eigaben!S28","v":2}]
[]
["Durchführung:\n",{"$nulls":5},"Bei einer allfälligen Verschiebung muss spätestens 5 Stunden vor Spielbeginn die Gast-Mannschaft, der Schiedsrichter und deer Chef CUPKO per Telefon und SMS informiert werden."]
[]
["Resultatmeldung"]
[]
["1. Satz",null,null,"2. Satz",null,null,"3. Satz",null,null,"4. Satz",null,null,"5. Satz",null,null,"6. Satz",null,null,"7. Satz",null,null,"8. Satz",null,null,"9. Satz"]
[null,":",null,null,":",null,null,":",null,null,":",null,null,":",null,null,":",null,null,":",null,null,":",null,null,":"]
["Sieger",{"$nulls":20},"Sätze",null,null,":"]
[]
["Resultatmeldung bis spätestens 12 Uhr des Folgetages durch den Schiedsrichter  per E-Mail, SMS oder WhatsApp an  "]
["pabst@swissfaustball.ch",{"$nulls":16},"pabst.bruno@bluewin.ch"]
[]
[]
["Mit sportlichen Grüssen\nSwiss Faustball CUPKO\nBruno Pabst (Präsident)",{"$nulls":19},"Thundorf, ",null,null,{"$f":"TODAY()","v":"2025-08-28"}]

{"sheet":"Spielbericht 1","index":25,"n_rows":57,"n_cols":36,"rows_kept":57,"cut":false,"hidden":true,"merged":[[53,0,53,35],[54,0,54,16],[54,17,54,35],[55,0,55,16],[55,17,55,35],[56,0,58,23],[56,24,58,29],[56,30,58,35],[49,30,49,32],[49,33,50,35],[51,0,52,4],[51,25,51,29],[51,30,51,35],[52,25,52,29],[52,30,52,35],[49,11,49,13],[49,14,49,16],[49,17,49,20],[49,21,49,23],[49,24,49,26],[49,27,49,29],[49,8,49,10],[38,2,39,2],[38,3,39,4],[40,2,41,2],[40,3,41,4],[42,2,43,2],[42,3,43,4],[44,2,45,2],[44,3,45,4],[47,2,48,2],[47,3,48,4],[49,0,50,4],[31,2,32,2],[31,3,32,4],[33,2,34,2],[33,3,34,4],[35,2,36,2],[35,3,36,4],[16,5,16,16],[16,23,16,34],[17,5,17,16],[17,23,17,34],[29,2,30,2],[29,3,30,4],[18,5,18,16],[18,23,18,34],[19,18,19,22],[20,18,20,22],[22,27,22,35],[23,6,23,17],[23,18,23,23],[23,24,23,35],[25,0,25,5],[25,13,25,15],[13,5,13,16],[13,23,13,34],[14,5,14,16],[14,23,14,34],[15,5,15,16],[15,23,15,34],[10,5,10,16],[10,23,10,34],[11,5,11,16],[11,23,11,34],[12,5,12,16],[12,23,12,34],[9,23,9,34],[7,0,7,5],[7,6,7,16],[7,17,8,17],[7,18,7,23],[7,24,7,34],[22,6,22,17],[0,6,1,35],[3,6,3,28],[3,29,3,35],[5,0,5,3],[5,4,5,8],[5,9,5,10],[5,11,5,13],[5,14,5,17],[5,18,5,28],[5,29,5,32],[5,33,5,35],[7,35,8,35],[8,5,8,16],[8,23,8,34],[9,5,9,16]]}
[{"$nulls":6},{"$f":"'Aufgebot A'!E1","v":"37. Schweizer Cup Männer 2025"}]
[]
[]
[{"$nulls":6},"            Spielbericht",{"$nulls":22},{"$f":"'Aufgebot 1'!A5","v":"1/16 Final "}]
[]
["Datum:  ",null,null,null,{"$f":"'Aufgebot 1'!A15","v":"2025-06-19"},{"$nulls":4},"Zeit:",null,{"$f":"'Aufgebot 1'!G15","v":"19:30:00"},null,null,"Spielort:",null,null,null,{"$f":"'Aufgebot 1'!L15","v":"Jona"},{"$nulls":10}," Spiel-Nr.:",null,null,null,{"$f":"'Aufgebot 1'!Y5","v":1}]
[]
["Mannschaft A:",{"$nulls":5},{"$f":"'Aufgebot 1'!A8","v":"TSV Jona 1( NLB O )"},{"$nulls":10},"Verw.","Mannschaft B:",{"$nulls":5},{"$f":"'Aufgebot 1'!O8","v":"STV Wigoltingen   ( NLA )"},{"$nulls":10},"Verw."]
["Nr.",null,"Spf.","Eins.","Jg.","Name/Vorname",{"$nulls":12},"Nr.",null,"Spf.","Eins.","Jg.","Name/Vorname"]
[{"$nulls":4},"","",{"$nulls":16},"",""]
[{"$nulls":4},"","",{"$nulls":10},"",{"$nulls":5},"","",{"$nulls":10},""]
[{"$nulls":4},"","",{"$nulls":10},"",{"$nulls":5},"","",{"$nulls":10},""]
[{"$nulls":4},"","",{"$nulls":10},"",{"$nulls":5},"","",{"$nulls":10},""]
[{"$nulls":4},"","",{"$nulls":10},"",{"$nulls":5},"","",{"$nulls":10},""]
[{"$nulls":4},"","",{"$nulls":10},"",{"$nulls":5},"","",{"$nulls":10},""]
[{"$nulls":4},"","",{"$nulls":10},"",{"$nulls":5},"","",{"$nulls":10},""]
[{"$nulls":4},"","",{"$nulls":10},"",{"$nulls":5},"","",{"$nulls":10},""]
[{"$nulls":4},"","",{"$nulls":10},"",{"$nulls":5},"","",{"$nulls":10},""]
[{"$nulls":4},"","",{"$nulls":16},"",""]
[" Trainer:",{"$nulls":5},"",{"$nulls":11},"Trainer:",{"$nulls":5},""]
[" Betreuer:",{"$nulls":5},"",{"$nulls":11}," Betreuer:"]
[]
[" Schiedsrichter:",{"$nulls":5},{"$f":"'Aufgebot 2'!A$19&\" \"&'Aufgebot 2'!$G19","v":"Daniel Graf +41 79 431 31 31"},{"$nulls":11},"Heimmannschaft Verantw.",{"$nulls":8},{"$f":"'Aufgebot 1'!A9","v":"Fabian Zahner"}]
[" Linienrichter:",{"$nulls":17}," Linienrichter:"]
[]
["Ballwahl/Anspiel:",{"$nulls":6},"1. Satz:","A",null,"B",null,null,"5. Satz:",null,null,"A",null,"B"]
[]
["Ausserordentliche Vorfälle:  ",{"$nulls":6},"","Protest/Einsprache",null,null,null,"","Ausschluss",null,null,"","Sonstiges",null,null,null,"(Ankreuzen + Bericht mit Unterschrift auf Rückseite)"]
[]
["A",null,"Timeout","1. Satz",null,"A",{"$f":"IF('Aufgebot 1'!$G$34>0,1,\"\")","v":1},{"$f":"IF('Aufgebot 1'!$G$34>0,2,\"\")","v":2},{"$f":"IF('Aufgebot 1'!$G$34=3,3,\"\")","v":""}]
["B",{"$nulls":4},"B"]
["A",null,"Timeout","2. Satz",null,"A",{"$f":"G30","v":1},{"$f":"H30","v":2},{"$f":"I30","v":""}]
["B",{"$nulls":4},"B"]
["A",null,"Timeout","3. Satz",null,"A",{"$f":"G32","v":1},{"$f":"H32","v":2},{"$f":"I32","v":""}]
["B",{"$nulls":4},"B"]
["A",null,"Timeout","4. Satz",null,"A",{"$f":"G34","v":1},{"$f":"H34","v":2},{"$f":"I34","v":""}]
["B",{"$nulls":4},"B"]
[]
["A",null,"Timeout","5. Satz",null,"A",{"$f":"G36","v":1},{"$f":"H36","v":2},{"$f":"I36","v":""}]
["B",{"$nulls":4},"B"]
["A",null,"Timeout","6. Satz",null,"A",{"$f":"G39","v":1},{"$f":"H39","v":2},{"$f":"I39","v":""}]
["B",{"$nulls":4},"B"]
["A",null,"Timeout","7. Satz",null,"A",{"$f":"G41","v":1},{"$f":"H41","v":2},{"$f":"I41","v":""}]
["B",{"$nulls":4},"B"]
["A",null,"Timeout","8. Satz",null,"A",{"$f":"G43","v":1},{"$f":"H43","v":2},{"$f":"I43","v":""}]
["B",{"$nulls":4},"B"]
[]
["A",null,"Timeout","9. Satz",null,"A",{"$f":"G45","v":1},{"$f":"H45","v":2},{"$f":"I45","v":""}]
["B",{"$nulls":4},"B"]
[" Ergebnis    (A:B) ",{"$nulls":4},"1. Satz",null,null,"2. Satz",null,null,"3. Satz",null,null,"4. Satz",null,null,"5. Satz",null,null,null,"6. Satz",null,null,"7. Satz",null,null,"8. Satz",null,null,"9. Satz"]
[{"$nulls":6},":",null,null,":",null,null,":",null,null,":",null,null,":",null,null,null,":",null,null,":",null,null,":",null,null,":"]
["Sieger",{"$nulls":24},"Total Punkte",{"$nulls":4},"Endstand (Sätze)"]
[{"$nulls":25},":",{"$nulls":4},":"]
[" Für die Richtigkeit der Eintragungen"]
[" Schiedsrichter:",{"$nulls":16},"Spielführer A:"]
[" Anschreiber:",{"$nulls":16}," Spielführer B:"]
["Mit sportlichen Grüssen\nSwiss Faustball CUPKO\nBruno Pabst (Präsident)",{"$nulls":23},"Thundorf,",{"$nulls":5},{"$f":"TODAY()","v":"2025-08-28"}]

{"sheet":"Aufgebot 2","index":26,"n_rows":48,"n_cols":26,"rows_kept":48,"cut":false,"hidden":true,"merged":[[41,0,41,2],[41,3,41,20],[41,21,41,23],[41,24,41,26],[50,2,50,8],[43,0,43,26],[44,0,44,8],[44,9,44,15],[44,17,44,24],[47,0,47,19],[47,20,47,22],[47,23,47,26],[36,0,36,26],[37,0,37,26],[38,0,38,26],[39,0,39,2],[39,3,39,5],[39,6,39,8],[39,9,39,11],[39,12,39,14],[39,15,39,17],[39,18,39,20],[39,21,39,23],[39,24,39,26],[35,0,35,5],[35,6,35,26],[26,35,26,38],[28,0,28,26],[30,0,30,26],[31,0,31,3],[31,4,31,16],[31,17,31,26],[31,28,31,29],[32,0,32,26],[33,6,33,7],[33,12,33,14],[33,28,33,29],[34,0,34,26],[26,6,26,8],[26,12,26,18],[26,19,26,20],[26,21,26,22],[26,24,26,26],[16,24,16,26],[19,0,19,26],[22,0,22,11],[22,12,22,14],[24,0,24,2],[18,0,18,5],[18,6,18,11],[18,12,18,16],[18,17,18,26],[16,0,16,11],[16,12,16,15],[16,16,16,18],[16,20,16,23],[13,0,13,5],[13,6,13,10],[13,11,13,18],[13,19,13,26],[14,0,14,5],[14,6,14,10],[14,11,14,18],[14,19,14,26],[10,0,10,5],[10,6,10,12],[10,14,10,19],[10,20,10,26],[11,0,11,12],[11,14,11,26],[8,0,8,12],[8,14,8,26],[9,0,9,5],[9,6,9,12],[9,14,9,19],[9,20,9,26],[6,0,6,12],[6,13,7,13],[6,14,6,26],[6,28,6,29],[6,30,6,31],[7,14,7,26],[0,4,0,21],[2,0,2,26],[2,28,2,30],[4,0,4,4],[4,5,4,11],[4,12,4,13],[4,14,4,19],[4,20,4,23]]}
[{"$nulls":4},{"$f":"Eigaben!Z3","v":"37. Schweizer Cup Männer 2025"}]
[2,null,null,{"$f":"VLOOKUP(A2,Eigaben!Y8:AC14,5,0)","v":"1/16 Final "},{"$nulls":4},2]
["Aufgebot Mannschaften"]
[1]
[{"$f":"VLOOKUP(A2,Eigaben!Y8:AC14,5,0)","v":"1/16 Final "},{"$nulls":4},{"$f":"VLOOKUP($A$2,Eigaben!$Y$8:$AC$14,2,1)","v":"2025-05-05"},{"$nulls":6},"bis",null,{"$f":"VLOOKUP($A$2,Eigaben!$Y$8:$AB$14,3,1)","v":"2025-06-13"},{"$nulls":5},"Spiel - Nr.",null,null,null,2]
[{"$f":"Eigaben!F29","v":58},{"$nulls":13},{"$f":"Eigaben!G29","v":54}]
["Heim - Mannschaft",{"$nulls":13},"Gast - Mannschaft"]
[{"$f":"(VLOOKUP($A$6,Eigaben!$Y$17:$Z$103,2,0))","v":"TV Oberwinterthur  (NLB )"},{"$nulls":13},{"$f":"(VLOOKUP($O$6,Eigaben!$Y$17:$Z$103,2,0))","v":"STV Dozwil ( NLB O )"}]
[{"$f":"VLOOKUP($A$6,Eigaben!$Y$17:$AH$103,3,1)&\" \"&VLOOKUP(A6,Eigaben!Y17:AH103,4,1)","v":"Fabio Schiess"},{"$nulls":13},{"$f":"VLOOKUP($O$6,Eigaben!$Y$17:$AH$103,3,1)&\" \"&VLOOKUP($O$6,Eigaben!$Y$17:$AH$103,4,1)","v":"Josua Schlattinger"}]
[{"$f":"VLOOKUP($A$6,Eigaben!$Y$17:$AH$103,5,1)","v":"Hofwis 12"},{"$nulls":5},{"$f":"VLOOKUP($A$6,Eigaben!$Y$17:$AH$103,6,1)&\" \"&VLOOKUP(A6,Eigaben!$Y$17:$AH$103,7,1)","v":"8352 Elsau"},{"$nulls":7},{"$f":"VLOOKUP($O$6,Eigaben!$Y$17:$AH$103,5,1)","v":" "},{"$nulls":5},{"$f":"VLOOKUP($O$6,Eigaben!$Y$17:$AV$103,6,1)&\" \"&VLOOKUP($O$6,Eigaben!$Y$17:$AV$103,7,1)","v":"   "}]
[{"$f":"IF(Eigaben!AF54=0,\"\",VLOOKUP($A$6,Eigaben!$Y$17:$AH$103,8,1))","v":" "},{"$nulls":5},{"$f":"IF(Eigaben!$AG$54=0,\"\",VLOOKUP($A$6,Eigaben!$Y$17:$AH$103,9,1))","v":"079 913 84 85"},{"$nulls":7},{"$f":"IF(Eigaben!AF55=0,\"\",VLOOKUP($O$6,Eigaben!$Y$17:$AH$103,8,1))","v":" "},{"$nulls":5},{"$f":"IF(Eigaben!$AG$54=0,\"\",VLOOKUP($O$6,Eigaben!$Y$17:$AH$103,9,1))","v":"076 320 30 46"}]
[{"$f":"VLOOKUP($A$6,Eigaben!$Y$17:$AH$103,10,1)","v":"fabio.schiess@schiessag.ch"},{"$nulls":13},{"$f":"VLOOKUP($O$6,Eigaben!$Y$17:$AH$103,10,1)","v":"j.schlattinger@gmx.ch"}]
[null,null,{"$f":"Eigaben!C29","v":2}]
["Datum",{"$nulls":5},"Zeit",{"$nulls":4},"Ort",{"$nulls":7},"Sportplatz"]
[{"$f":"IF(Eigaben!C28=0,\"\",VLOOKUP(C13,Eigaben!$C$28:$V$109,13,0))","v":"2025-06-16"},{"$nulls":5},{"$f":"IF(Eigaben!C28=0,\"\",VLOOKUP(C13,Eigaben!$C$28:$V$110,14,0))","v":"19:30:00"},{"$nulls":4},{"$f":"IF(Eigaben!C28=0,\"\",VLOOKUP(C13,Eigaben!$C$28:$V$1110,15,0))","v":"Oberwinterthur"},{"$nulls":7},{"$f":"IF(Eigaben!C28=0,\"\",VLOOKUP(C13,Eigaben!$C$28:$V$110,16,0))","v":"Stadlerstrasse"}]
[null,null,{"$f":"Eigaben!T29","v":7}]
["Aufgebot Schiedsrichter *"]
[]
[{"$f":"IF(C16=0,\"\",VLOOKUP(C16,Schiri_25!A2:L181,3,1)&\" \"&VLOOKUP(C16,Schiri_25!A2:L181,2,1))","v":"Daniel Graf"},{"$nulls":5},{"$f":"IF(C16=0,\"\",VLOOKUP(C16,Schiri_25!A2:L181,9,1))","v":"+41 79 431 31 31"},{"$nulls":5},{"$f":"IF(C16=0,\"\",IF(VLOOKUP(C16,Schiri_25!A2:M122,8,1)=0,\"\",VLOOKUP(C16,Schiri_25!A2:M122,8,1)))","v":""},{"$nulls":4},{"$f":"IF(C16=0,\"\",VLOOKUP(C16,Schiri_25!A2:L181,12,1))","v":"darf@bluewin.ch"}]
[]
["* Im Verhinderungsfall sofort Verbindungsaufnahme mit Bruno Pabst: 079 243 02 08"]
[]
["Eintreffen des Schiedsrichters:",{"$nulls":11},{"$f":"IF(G15=\"\",\"\",G15-\"00:15:00\")","v":"19:15:00"}]
[]
["Tenue:",null,null,"Offizielle Schiedsrichterausrüstung blau / schwarz"]
[]
["Taggeld:",{"$nulls":4},"Fr.","**",{"$nulls":5},"Fahrspesen",{"$nulls":6},"Fr",null,1,null,null,{"$f":"Eigaben!V29","v":3}]
[]
["Die Fahrspesen (einfache Fahrt, Fr. 1,00 pro Km)  werden durch die Heim-Mannschaft bezahlt. \n**  (Das Taggeld wird direkt durch die CUPKO ausbezahlt.)"]
[{"$nulls":5},{"$f":"Eigaben!C6","v":"A"}]
["Modus"]
["Spielmodus:",null,null,null,"5 Gewinnsätze bis 11 (max. 15 : 14)",{"$nulls":12},"Pause nach  4 Sätzen max 5 Min."]
[]
["Bonus-Punkte:",{"$nulls":5},{"$f":"Eigaben!S29","v":0}]
[]
["Durchführung:\n",{"$nulls":5},"Bei einer allfälligen Verschiebung muss spätestens 5 Stunden vor Spielbeginn die Gast-Mannschaft, der Schiedsrichter und deer Chef CUPKO per Telefon und SMS informiert werden."]
[]
["Resultatmeldung"]
[]
["1. Satz",null,null,"2. Satz",null,null,"3. Satz",null,null,"4. Satz",null,null,"5. Satz",null,null,"6. Satz",null,null,"7. Satz",null,null,"8. Satz",null,null,"9. Satz"]
[null,":",null,null,":",null,null,":",null,null,":",null,null,":",null,null,":",null,null,":",null,null,":",null,null,":"]
["Sieger",{"$nulls":20},"Sätze",null,null,":"]
[]
["Resultatmeldung bis spätestens 12 Uhr des Folgetages durch den Schiedsrichter  per E-Mail, SMS oder WhatsApp an  "]
["pabst@swissfaustball.ch",{"$nulls":16},"pabst.bruno@bluewin.ch"]
[]
[]
["Mit sportlichen Grüssen\nSwiss Faustball CUPKO\nBruno Pabst (Präsident)",{"$nulls":19},"Thundorf, ",null,null,{"$f":"TODAY()","v":"2025-08-28"}]

{"sheet":"Spielbericht 2","index":27,"n_rows":60,"n_cols":36,"rows_kept":60,"cut":false,"hidden":true,"merged":[[55,0,55,35],[56,0,56,16],[56,17,56,35],[57,0,57,16],[57,17,57,35],[59,0,61,23],[59,24,61,29],[59,30,61,35],[50,30,50,32],[50,33,51,35],[52,0,53,4],[52,25,52,29],[52,30,52,35],[53,25,53,29],[53,30,53,35],[50,11,50,13],[50,14,50,16],[50,17,50,20],[50,21,50,23],[50,24,50,26],[50,27,50,29],[35,2,36,2],[35,3,36,4],[50,8,50,10],[38,2,39,2],[38,3,39,4],[40,2,41,2],[40,3,41,4],[42,2,43,2],[42,3,43,4],[44,2,45,2],[44,3,45,4],[47,2,48,2],[47,3,48,4],[50,0,51,4],[25,13,25,15],[31,2,32,2],[31,3,32,4],[33,2,34,2],[33,3,34,4],[16,5,16,16],[16,23,16,34],[17,5,17,16],[17,23,17,34],[29,2,30,2],[29,3,30,4],[18,5,18,16],[18,23,18,34],[19,18,19,22],[20,18,20,22],[22,6,22,17],[22,27,22,35],[23,6,23,17],[23,18,23,23],[23,24,23,35],[25,0,25,5],[13,5,13,16],[13,23,13,34],[14,5,14,16],[14,23,14,34],[15,5,15,16],[15,23,15,34],[10,5,10,16],[10,23,10,34],[11,5,11,16],[11,23,11,34],[12,5,12,16],[12,23,12,34],[7,35,8,35],[8,5,8,16],[8,23,8,34],[9,5,9,16],[9,23,9,34],[7,0,7,5],[7,6,7,16],[7,17,8,17],[7,18,7,23],[7,24,7,34],[0,6,1,35],[3,6,3,28],[3,29,3,35],[5,0,5,3],[5,4,5,8],[5,9,5,10],[5,11,5,13],[5,14,5,17],[5,18,5,28],[5,29,5,32],[5,33,5,35]]}
[{"$nulls":6},{"$f":"'Aufgebot A'!E1","v":"37. Schweizer Cup Männer 2025"}]
[]
[]
[{"$nulls":6},"            Spielbericht",{"$nulls":22},{"$f":"'Aufgebot 2'!A5","v":"1/16 Final "}]
[]
["Datum:  ",null,null,null,{"$f":"'Aufgebot 2'!A15","v":"2025-06-16"},{"$nulls":4},"Zeit:",null,{"$f":"'Aufgebot 2'!G15","v":"19:30:00"},null,null,"Spielort:",null,null,null,{"$f":"'Aufgebot 2'!L15","v":"Oberwinterthur"},{"$nulls":10}," Spiel-Nr.:",null,null,null,{"$f":"'Aufgebot 2'!Y5","v":2}]
[]
["Mannschaft A:",{"$nulls":5},{"$f":"'Aufgebot 2'!A8","v":"TV Oberwinterthur  (NLB )"},{"$nulls":10},"Verw.","Mannschaft B:",{"$nulls":5},{"$f":"'Aufgebot 2'!O8","v":"STV Dozwil ( NLB O )"},{"$nulls":10},"Verw."]
["Nr.",null,"Spf.","Eins.","Jg.","Name/Vorname",{"$nulls":12},"Nr.",null,"Spf.","Eins.","Jg.","Name/Vorname"]
[{"$nulls":4},"","",{"$nulls":16},"",""]
[{"$nulls":4},"","",{"$nulls":10},"",{"$nulls":5},"","",{"$nulls":10},""]
[{"$nulls":4},"","",{"$nulls":10},"",{"$nulls":5},"","",{"$nulls":10},""]
[{"$nulls":4},"","",{"$nulls":10},"",{"$nulls":5},"","",{"$nulls":10},""]
[{"$nulls":4},"","",{"$nulls":10},"",{"$nulls":5},"","",{"$nulls":10},""]
[{"$nulls":4},"","",{"$nulls":10},"",{"$nulls":5},"","",{"$nulls":10},""]
[{"$nulls":4},"","",{"$nulls":10},"",{"$nulls":5},"","",{"$nulls":10},""]
[{"$nulls":4},"","",{"$nulls":10},"",{"$nulls":5},"","",{"$nulls":10},""]
[{"$nulls":4},"","",{"$nulls":10},"",{"$nulls":5},"","",{"$nulls":10},""]
[{"$nulls":4},"","",{"$nulls":16},"",""]
[" Trainer:",{"$nulls":5},"",{"$nulls":11},"Trainer:",{"$nulls":5},""]
[" Betreuer:",{"$nulls":5},"",{"$nulls":11}," Betreuer:"]
[]
[" Schiedsrichter:",{"$nulls":5},{"$f":"'Aufgebot 2'!A19&\" \"&'Aufgebot 2'!G19","v":"Daniel Graf +41 79 431 31 31"},{"$nulls":11},"Heimmannschaft Verantw.",{"$nulls":8},{"$f":"'Aufgebot 2'!A9","v":"Fabio Schiess"}]
[" Linienrichter:",{"$nulls":17}," Linienrichter:"]
[]
["Ballwahl/Anspiel:",{"$nulls":6},"1. Satz:","A",null,"B",null,null,"5. Satz:",null,null,"A",null,"B"]
[]
["Ausserordentliche Vorfälle:  ",{"$nulls":6},"","Protest/Einsprache",null,null,null,"","Ausschluss",null,null,"","Sonstiges",null,null,null,"(Ankreuzen + Bericht mit Unterschrift auf Rückseite)"]
[]
["A",null,"Timeout","1. Satz",null,"A",{"$f":"IF('Aufgebot 2'!$G$34>0,1,\"\")","v":""},{"$f":"IF('Aufgebot 2'!$G$34>0,2,\"\")","v":""},{"$f":"IF('Aufgebot 2'!$G$34=3,3,\"\")","v":""}]
["B",{"$nulls":4},"B"]
["A",null,"Timeout","2. Satz",null,"A",{"$f":"IF('Aufgebot 2'!$G$34>0,1,\"\")","v":""},{"$f":"IF('Aufgebot 2'!$G$34>0,2,\"\")","v":""},{"$f":"IF('Aufgebot 2'!$G$34=3,3,\"\")","v":""}]
["B",{"$nulls":4},"B"]
["A",null,"Timeout","3. Satz",null,"A",{"$f":"IF('Aufgebot 2'!$G$34>0,1,\"\")","v":""},{"$f":"IF('Aufgebot 2'!$G$34>0,2,\"\")","v":""},{"$f":"IF('Aufgebot 2'!$G$34=3,3,\"\")","v":""}]
["B",{"$nulls":4},"B"]
["A",null,"Timeout","4. Satz",null,"A",{"$f":"IF('Aufgebot 2'!$G$34>0,1,\"\")","v":""},{"$f":"IF('Aufgebot 2'!$G$34>0,2,\"\")","v":""},{"$f":"IF('Aufgebot 2'!$G$34=3,3,\"\")","v":""}]
["B",{"$nulls":4},"B"]
[]
["A",null,"Timeout","5. Satz",null,"A",{"$f":"IF('Aufgebot 2'!$G$34>0,1,\"\")","v":""},{"$f":"IF('Aufgebot 2'!$G$34>0,2,\"\")","v":""},{"$f":"IF('Aufgebot 2'!$G$34=3,3,\"\")","v":""}]
["B",{"$nulls":4},"B"]
["A",null,"Timeout","6. Satz",null,"A",{"$f":"IF('Aufgebot 2'!$G$34>0,1,\"\")","v":""},{"$f":"IF('Aufgebot 2'!$G$34>0,2,\"\")","v":""},{"$f":"IF('Aufgebot 2'!$G$34=3,3,\"\")","v":""}]
["B",{"$nulls":4},"B"]
["A",null,"Timeout","7. Satz",null,"A",{"$f":"IF('Aufgebot 2'!$G$34>0,1,\"\")","v":""},{"$f":"IF('Aufgebot 2'!$G$34>0,2,\"\")","v":""},{"$f":"IF('Aufgebot 2'!$G$34=3,3,\"\")","v":""}]
["B",{"$nulls":4},"B"]
["A",null,"Timeout","8. Satz",null,"A",{"$f":"IF('Aufgebot 2'!$G$34>0,1,\"\")","v":""},{"$f":"IF('Aufgebot 2'!$G$34>0,2,\"\")","v":""},{"$f":"IF('Aufgebot 2'!$G$34=3,3,\"\")","v":""}]
["B",{"$nulls":4},"B"]
[]
["A",null,"Timeout","9. Satz",null,"A",{"$f":"IF('Aufgebot 2'!$G$34>0,1,\"\")","v":""},{"$f":"IF('Aufgebot 2'!$G$34>0,2,\"\")","v":""},{"$f":"IF('Aufgebot 2'!$G$34=3,3,\"\")","v":""}]
["B",{"$nulls":4},"B"]
[]
[" Ergebnis    (A:B) ",{"$nulls":4},"1. Satz",null,null,"2. Satz",null,null,"3. Satz",null,null,"4. Satz",null,null,"5. Satz",null,null,null,"6. Satz",null,null,"7. Satz",null,null,"8. Satz",null,null,"9. Satz"]
[{"$nulls":6},":",null,null,":",null,null,":",null,null,":",null,null,":",null,null,null,":",null,null,":",null,null,":",null,null,":"]
["Sieger",{"$nulls":24},"Total Punkte",{"$nulls":4},"Endstand (Sätze)"]
[{"$nulls":25},":",{"$nulls":4},":"]
[]
[" Für die Richtigkeit der Eintragungen"]
[" Schiedsrichter:",{"$nulls":16},"Spielführer A:"]
[" Anschreiber:",{"$nulls":16}," Spielführer B:"]
[]
["Mit sportlichen Grüssen\nSwiss Faustball CUPKO\nBruno Pabst (Präsident)",{"$nulls":23},"Thundorf,",{"$nulls":5},{"$f":"TODAY()","v":"2025-08-28"}]

{"sheet":"Aufgebot 3","index":28,"n_rows":48,"n_cols":26,"rows_kept":48,"cut":false,"hidden":true,"merged":[[41,0,41,2],[41,3,41,20],[41,21,41,23],[41,24,41,26],[50,2,50,8],[43,0,43,26],[44,0,44,8],[44,9,44,15],[44,17,44,24],[47,0,47,19],[47,20,47,22],[47,23,47,26],[36,0,36,26],[37,0,37,26],[38,0,38,26],[39,0,39,2],[39,3,39,5],[39,6,39,8],[39,9,39,11],[39,12,39,14],[39,15,39,17],[39,18,39,20],[39,21,39,23],[39,24,39,26],[35,0,35,5],[35,6,35,26],[26,35,26,38],[28,0,28,26],[30,0,30,26],[31,0,31,3],[31,4,31,16],[31,17,31,26],[31,28,31,29],[32,0,32,26],[33,6,33,7],[33,12,33,14],[33,28,33,29],[34,0,34,26],[26,6,26,8],[26,12,26,18],[26,19,26,20],[26,21,26,22],[26,24,26,26],[16,24,16,26],[19,0,19,26],[22,0,22,11],[22,12,22,14],[24,0,24,2],[18,0,18,5],[18,6,18,11],[18,12,18,16],[18,17,18,26],[16,0,16,11],[16,12,16,15],[16,16,16,18],[16,20,16,23],[13,0,13,5],[13,6,13,10],[13,11,13,18],[13,19,13,26],[14,0,14,5],[14,6,14,10],[14,11,14,18],[14,19,14,26],[10,0,10,5],[10,6,10,12],[10,14,10,19],[10,20,10,26],[11,0,11,12],[11,14,11,26],[8,0,8,12],[8,14,8,26],[9,0,9,5],[9,6,9,12],[9,14,9,19],[9,20,9,26],[6,0,6,12],[6,13,7,13],[6,14,6,26],[6,28,6,29],[6,30,6,31],[7,14,7,26],[0,4,0,21],[2,0,2,26],[2,28,2,30],[4,0,4,4],[4,5,4,11],[4,12,4,13],[4,14,4,19],[4,20,4,23]]}
[{"$nulls":4},{"$f":"Eigaben!Z3","v":"37. Schweizer Cup Männer 2025"}]
[2,null,null,{"$f":"VLOOKUP(A2,Eigaben!Y8:AC14,5,0)","v":"1/16 Final "},{"$nulls":4},2]
["Aufgebot Mannschaften"]
[1]
[{"$f":"VLOOKUP(A2,Eigaben!Y8:AC14,5,0)","v":"1/16 Final "},{"$nulls":4},{"$f":"VLOOKUP($A$2,Eigaben!$Y$8:$AC$14,2,1)","v":"2025-05-05"},{"$nulls":6},"bis",null,{"$f":"VLOOKUP($A$2,Eigaben!$Y$8:$AB$14,3,1)","v":"2025-06-13"},{"$nulls":5},"Spiel - Nr.",null,null,null,{"$f":"'Aufgebot 2'!Y5+1","v":3}]
[{"$f":"Eigaben!F30","v":42},{"$nulls":13},{"$f":"Eigaben!G30","v":59}]
["Heim - Mannschaft",{"$nulls":13},"Gast - Mannschaft"]
[{"$f":"(VLOOKUP($A$6,Eigaben!$Y$17:$Z$103,2,0))","v":"STV Felben-W.hausen ( 2. Liga )"},{"$nulls":13},{"$f":"(VLOOKUP($O$6,Eigaben!$Y$17:$Z$103,2,0))","v":"STV Rickenbach-Wilen 2 ( NLB )"}]
[{"$f":"VLOOKUP($A$6,Eigaben!$Y$17:$AH$103,3,1)&\" \"&VLOOKUP(A6,Eigaben!Y17:AH103,4,1)","v":"Patrick Oderbolz"},{"$nulls":13},{"$f":"VLOOKUP($O$6,Eigaben!$Y$17:$AH$103,3,1)&\" \"&VLOOKUP($O$6,Eigaben!$Y$17:$AH$103,4,1)","v":"Jonas Hess"}]
[{"$f":"VLOOKUP($A$6,Eigaben!$Y$17:$AH$103,5,1)","v":" "},{"$nulls":5},{"$f":"VLOOKUP($A$6,Eigaben!$Y$17:$AH$103,6,1)&\" \"&VLOOKUP(A6,Eigaben!$Y$17:$AH$103,7,1)","v":"   "},{"$nulls":7},{"$f":"VLOOKUP($O$6,Eigaben!$Y$17:$AH$103,5,1)","v":" "},{"$nulls":5},{"$f":"VLOOKUP($O$6,Eigaben!$Y$17:$AV$103,6,1)&\" \"&VLOOKUP($O$6,Eigaben!$Y$17:$AV$103,7,1)","v":"   "}]
[{"$f":"IF(Eigaben!AF54=0,\"\",VLOOKUP($A$6,Eigaben!$Y$17:$AH$103,8,1))","v":" "},{"$nulls":5},{"$f":"IF(Eigaben!$AG$54=0,\"\",VLOOKUP($A$6,Eigaben!$Y$17:$AH$103,9,1))","v":"079 346 01 18"},{"$nulls":7},{"$f":"IF(Eigaben!AF55=0,\"\",VLOOKUP($O$6,Eigaben!$Y$17:$AH$103,8,1))","v":" "},{"$nulls":5},{"$f":"IF(Eigaben!$AG$54=0,\"\",VLOOKUP($O$6,Eigaben!$Y$17:$AH$103,9,1))","v":"079 900 69 17"}]
[{"$f":"VLOOKUP($A$6,Eigaben!$Y$17:$AH$103,10,1)","v":"patrick@oderbolz.ch"},{"$nulls":13},{"$f":"VLOOKUP($O$6,Eigaben!$Y$17:$AH$103,10,1)","v":"spiko@fgriwi.ch"}]
[null,null,{"$f":"Eigaben!C30","v":3}]
["Datum",{"$nulls":5},"Zeit",{"$nulls":4},"Ort",{"$nulls":7},"Sportplatz"]
[{"$f":"IF(Eigaben!C30=0,\"\",VLOOKUP(C13,Eigaben!$C$28:$V$109,13,0))","v":"2025-05-22"},{"$nulls":5},{"$f":"IF(Eigaben!C30=0,\"\",VLOOKUP(C13,Eigaben!$C$28:$V$110,14,0))","v":"19:00:00"},{"$nulls":4},{"$f":"IF(Eigaben!C30=0,\"\",VLOOKUP(C13,Eigaben!$C$28:$V$1110,15,0))","v":"Felben - Wellhausen"},{"$nulls":7},{"$f":"IF(Eigaben!C30=0,\"\",VLOOKUP(C13,Eigaben!$C$28:$V$110,16,0))","v":"Schulhaus Heuberghalle"}]
[null,null,{"$f":"Eigaben!T30","v":43}]
["Aufgebot Schiedsrichter *"]
[]
[{"$f":"IF(C16=0,\"\",VLOOKUP(C16,Schiri_25!A2:L181,3,1)&\" \"&VLOOKUP(C16,Schiri_25!A2:L181,2,1))","v":"Rico Tenini"},{"$nulls":5},{"$f":"IF(C16=0,\"\",VLOOKUP(C16,Schiri_25!A2:L181,9,1))","v":"+41 78 686 52 32"},{"$nulls":5},{"$f":"IF(C16=0,\"\",IF(VLOOKUP(C16,Schiri_25!A2:M122,8,1)=0,\"\",VLOOKUP(C16,Schiri_25!A2:M122,8,1)))","v":""},{"$nulls":4},{"$f":"IF(C16=0,\"\",VLOOKUP(C16,Schiri_25!A2:L181,12,1))","v":"briri.tenini@bluewin.ch"}]
[]
["* Im Verhinderungsfall sofort Verbindungsaufnahme mit Bruno Pabst: 079 243 02 08"]
[]
["Eintreffen des Schiedsrichters:",{"$nulls":11},{"$f":"IF(G15=\"\",\"\",G15-\"00:15:00\")","v":"18:45:00"}]
[]
["Tenue:",null,null,"Offizielle Schiedsrichterausrüstung blau / schwarz"]
[]
["Taggeld:",{"$nulls":4},"Fr.","**",{"$nulls":5},"Fahrspesen",{"$nulls":6},"Fr",null,1,null,null,{"$f":"Eigaben!V30","v":14}]
[]
["Die Fahrspesen (einfache Fahrt, Fr. 1,00 pro Km)  werden durch die Heim-Mannschaft bezahlt. \n**  (Das Taggeld wird direkt durch die CUPKO ausbezahlt.)"]
[{"$nulls":5},{"$f":"Eigaben!C6","v":"A"}]
["Modus"]
["Spielmodus:",null,null,null,"5 Gewinnsätze bis 11 (max. 15 : 14)",{"$nulls":12},"Pause nach  4 Sätzen max 5 Min."]
[]
["Bonus-Punkte:",{"$nulls":5},{"$f":"Eigaben!S30","v":0}]
[]
["Durchführung:\n",{"$nulls":5},"Bei einer allfälligen Verschiebung muss spätestens 5 Stunden vor Spielbeginn die Gast-Mannschaft, der Schiedsrichter und deer Chef CUPKO per Telefon und SMS informiert werden."]
[]
["Resultatmeldung"]
[]
["1. Satz",null,null,"2. Satz",null,null,"3. Satz",null,null,"4. Satz",null,null,"5. Satz",null,null,"6. Satz",null,null,"7. Satz",null,null,"8. Satz",null,null,"9. Satz"]
[null,":",null,null,":",null,null,":",null,null,":",null,null,":",null,null,":",null,null,":",null,null,":",null,null,":"]
["Sieger",{"$nulls":20},"Sätze",null,null,":"]
[]
["Resultatmeldung bis spätestens 12 Uhr des Folgetages durch den Schiedsrichter  per E-Mail, SMS oder WhatsApp an  "]
["pabst@swissfaustball.ch",{"$nulls":16},"pabst.bruno@bluewin.ch"]
[]
[]
["Mit sportlichen Grüssen\nSwiss Faustball CUPKO\nBruno Pabst (Präsident)",{"$nulls":19},"Thundorf, ",null,null,{"$f":"TODAY()","v":"2025-08-28"}]

{"sheet":"Spielbericht 3","index":29,"n_rows":60,"n_cols":36,"rows_kept":60,"cut":false,"hidden":true,"merged":[[55,0,55,35],[56,0,56,16],[56,17,56,35],[57,0,57,16],[57,17,57,35],[59,0,61,23],[59,24,61,29],[59,30,61,35],[50,30,50,32],[50,33,51,35],[52,0,53,4],[52,25,52,29],[52,30,52,35],[53,25,53,29],[53,30,53,35],[50,11,50,13],[50,14,50,16],[50,17,50,20],[50,21,50,23],[50,24,50,26],[50,27,50,29],[35,2,36,2],[35,3,36,4],[50,8,50,10],[38,2,39,2],[38,3,39,4],[40,2,41,2],[40,3,41,4],[42,2,43,2],[42,3,43,4],[44,2,45,2],[44,3,45,4],[47,2,48,2],[47,3,48,4],[50,0,51,4],[25,13,25,15],[31,2,32,2],[31,3,32,4],[33,2,34,2],[33,3,34,4],[16,5,16,16],[16,23,16,34],[17,5,17,16],[17,23,17,34],[29,2,30,2],[29,3,30,4],[18,5,18,16],[18,23,18,34],[19,18,19,22],[20,18,20,22],[22,6,22,17],[22,27,22,35],[23,6,23,17],[23,18,23,23],[23,24,23,35],[25,0,25,5],[13,5,13,16],[13,23,13,34],[14,5,14,16],[14,23,14,34],[15,5,15,16],[15,23,15,34],[10,5,10,16],[10,23,10,34],[11,5,11,16],[11,23,11,34],[12,5,12,16],[12,23,12,34],[7,35,8,35],[8,5,8,16],[8,23,8,34],[9,5,9,16],[9,23,9,34],[7,0,7,5],[7,6,7,16],[7,17,8,17],[7,18,7,23],[7,24,7,34],[0,6,1,35],[3,6,3,28],[3,29,3,35],[5,0,5,3],[5,4,5,8],[5,9,5,10],[5,11,5,13],[5,14,5,17],[5,18,5,28],[5,29,5,32],[5,33,5,35]]}
[{"$nulls":6},{"$f":"'Aufgebot A'!E1","v":"37. Schweizer Cup Männer 2025"}]
[]
[]
[{"$nulls":6},"            Spielbericht",{"$nulls":22},{"$f":"'Aufgebot 3'!A5","v":"1/16 Final "}]
[]
["Datum:  ",null,null,null,{"$f":"'Aufgebot 3'!A15","v":"2025-05-22"},{"$nulls":4},"Zeit:",null,{"$f":"'Aufgebot 3'!G15","v":"19:00:00"},null,null,"Spielort:",null,null,null,{"$f":"'Aufgebot 3'!L15","v":"Felben - Wellhausen"},{"$nulls":10}," Spiel-Nr.:",null,null,null,{"$f":"'Aufgebot 3'!Y5","v":3}]
[]
["Mannschaft A:",{"$nulls":5},{"$f":"'Aufgebot 3'!A8","v":"STV Felben-W.hausen ( 2. Liga )"},{"$nulls":10},"Verw.","Mannschaft B:",{"$nulls":5},{"$f":"'Aufgebot 3'!O8","v":"STV Rickenbach-Wilen 2 ( NLB )"},{"$nulls":10},"Verw."]
["Nr.",null,"Spf.","Eins.","Jg.","Name/Vorname",{"$nulls":12},"Nr.",null,"Spf.","Eins.","Jg.","Name/Vorname"]
[{"$nulls":4},"","",{"$nulls":16},"",""]
[{"$nulls":4},"","",{"$nulls":10},"",{"$nulls":5},"","",{"$nulls":10},""]
[{"$nulls":4},"","",{"$nulls":10},"",{"$nulls":5},"","",{"$nulls":10},""]
[{"$nulls":4},"","",{"$nulls":10},"",{"$nulls":5},"","",{"$nulls":10},""]
[{"$nulls":4},"","",{"$nulls":10},"",{"$nulls":5},"","",{"$nulls":10},""]
[{"$nulls":4},"","",{"$nulls":10},"",{"$nulls":5},"","",{"$nulls":10},""]
[{"$nulls":4},"","",{"$nulls":10},"",{"$nulls":5},"","",{"$nulls":10},""]
[{"$nulls":4},"","",{"$nulls":10},"",{"$nulls":5},"","",{"$nulls":10},""]
[{"$nulls":4},"","",{"$nulls":10},"",{"$nulls":5},"","",{"$nulls":10},""]
[{"$nulls":4},"","",{"$nulls":16},"",""]
[" Trainer:",{"$nulls":5},"",{"$nulls":11},"Trainer:",{"$nulls":5},""]
[" Betreuer:",{"$nulls":5},"",{"$nulls":11}," Betreuer:"]
[]
[" Schiedsrichter:",{"$nulls":5},{"$f":"'Aufgebot 3'!A19&\" \"&'Aufgebot 3'!G19","v":"Rico Tenini +41 78 686 52 32"},{"$nulls":11},"Heimmannschaft Verantw.",{"$nulls":8},{"$f":"'Aufgebot 3'!A9","v":"Patrick Oderbolz"}]
[" Linienrichter:",{"$nulls":17}," Linienrichter:"]
[]
["Ballwahl/Anspiel:",{"$nulls":6},"1. Satz:","A",null,"B",null,null,"5. Satz:",null,null,"A",null,"B"]
[]
["Ausserordentliche Vorfälle:  ",{"$nulls":6},"","Protest/Einsprache",null,null,null,"","Ausschluss",null,null,"","Sonstiges",null,null,null,"(Ankreuzen + Bericht mit Unterschrift auf Rückseite)"]
[]
["A",null,"Timeout","1. Satz",null,"A",{"$f":"IF('Aufgebot 3'!$G$34>0,1,\"\")","v":""},{"$f":"IF('Aufgebot 3'!$G$34>0,2,\"\")","v":""},{"$f":"IF('Aufgebot 3'!$G$34=3,3,\"\")","v":""}]
["B",{"$nulls":4},"B"]
["A",null,"Timeout","2. Satz",null,"A",{"$f":"G30","v":""},{"$f":"H30","v":""},{"$f":"I30","v":""}]
["B",{"$nulls":4},"B"]
["A",null,"Timeout","3. Satz",null,"A",{"$f":"G32","v":""},{"$f":"H32","v":""},{"$f":"I32","v":""}]
["B",{"$nulls":4},"B"]
["A",null,"Timeout","4. Satz",null,"A",{"$f":"G34","v":""},{"$f":"H34","v":""},{"$f":"I34","v":""}]
["B",{"$nulls":4},"B"]
[]
["A",null,"Timeout","5. Satz",null,"A",{"$f":"G36","v":""},{"$f":"H36","v":""},{"$f":"I36","v":""}]
["B",{"$nulls":4},"B"]
["A",null,"Timeout","6. Satz",null,"A",{"$f":"G39","v":""},{"$f":"H39","v":""},{"$f":"I39","v":""}]
["B",{"$nulls":4},"B"]
["A",null,"Timeout","7. Satz",null,"A",{"$f":"G41","v":""},{"$f":"H41","v":""},{"$f":"I41","v":""}]
["B",{"$nulls":4},"B"]
["A",null,"Timeout","8. Satz",null,"A",{"$f":"G43","v":""},{"$f":"H43","v":""},{"$f":"I43","v":""}]
["B",{"$nulls":4},"B"]
[]
["A",null,"Timeout","9. Satz",null,"A",{"$f":"G45","v":""},{"$f":"H45","v":""},{"$f":"I45","v":""}]
["B",{"$nulls":4},"B"]
[]
[" Ergebnis    (A:B) ",{"$nulls":4},"1. Satz",null,null,"2. Satz",null,null,"3. Satz",null,null,"4. Satz",null,null,"5. Satz",null,null,null,"6. Satz",null,null,"7. Satz",null,null,"8. Satz",null,null,"9. Satz"]
[{"$nulls":6},":",null,null,":",null,null,":",null,null,":",null,null,":",null,null,null,":",null,null,":",null,null,":",null,null,":"]
["Sieger",{"$nulls":24},"Total Punkte",{"$nulls":4},"Endstand (Sätze)"]
[{"$nulls":25},":",{"$nulls":4},":"]
[]
[" Für die Richtigkeit der Eintragungen"]
[" Schiedsrichter:",{"$nulls":16},"Spielführer A:"]
[" Anschreiber:",{"$nulls":16}," Spielführer B:"]
[]
["Mit sportlichen Grüssen\nSwiss Faustball CUPKO\nBruno Pabst (Präsident)",{"$nulls":23},"Thundorf,",{"$nulls":5},{"$f":"TODAY()","v":"2025-08-28"}]

{"sheet":"Aufgebot 4","index":30,"n_rows":48,"n_cols":26,"rows_kept":48,"cut":false,"hidden":true,"merged":[[41,0,41,2],[41,3,41,20],[41,21,41,23],[41,24,41,26],[50,2,50,8],[43,0,43,26],[44,0,44,8],[44,9,44,15],[44,17,44,24],[47,0,47,19],[47,20,47,22],[47,23,47,26],[36,0,36,26],[37,0,37,26],[38,0,38,26],[39,0,39,2],[39,3,39,5],[39,6,39,8],[39,9,39,11],[39,12,39,14],[39,15,39,17],[39,18,39,20],[39,21,39,23],[39,24,39,26],[35,0,35,5],[35,6,35,26],[26,35,26,38],[28,0,28,26],[30,0,30,26],[31,0,31,3],[31,4,31,16],[31,17,31,26],[31,28,31,29],[32,0,32,26],[33,6,33,7],[33,12,33,14],[33,28,33,29],[34,0,34,26],[26,6,26,8],[26,12,26,18],[26,19,26,20],[26,21,26,22],[26,24,26,26],[16,24,16,26],[19,0,19,26],[22,0,22,11],[22,12,22,14],[24,0,24,2],[18,0,18,5],[18,6,18,11],[18,12,18,16],[18,17,18,26],[16,0,16,11],[16,12,16,15],[16,16,16,18],[16,20,16,23],[13,0,13,5],[13,6,13,10],[13,11,13,18],[13,19,13,26],[14,0,14,5],[14,6,14,10],[14,11,14,18],[14,19,14,26],[10,0,10,5],[10,6,10,12],[10,14,10,19],[10,20,10,26],[11,0,11,12],[11,14,11,26],[8,0,8,12],[8,14,8,26],[9,0,9,5],[9,6,9,12],[9,14,9,19],[9,20,9,26],[6,0,6,12],[6,13,7,13],[6,14,6,26],[6,28,6,29],[6,30,6,31],[7,14,7,26],[0,4,0,21],[2,0,2,26],[2,28,2,30],[4,0,4,4],[4,5,4,11],[4,12,4,13],[4,14,4,19],[4,20,4,23]]}
[{"$nulls":4},{"$f":"Eigaben!Z3","v":"37. Schweizer Cup Männer 2025"}]
[2,null,null,{"$f":"VLOOKUP(A2,Eigaben!Y8:AC14,5,0)","v":"1/16 Final "},{"$nulls":4},2]
["Aufgebot Mannschaften"]
[1]
[{"$f":"VLOOKUP(A2,Eigaben!Y8:AC14,5,0)","v":"1/16 Final "},{"$nulls":4},{"$f":"VLOOKUP($A$2,Eigaben!$Y$8:$AC$14,2,1)","v":"2025-05-05"},{"$nulls":6},"bis",null,{"$f":"VLOOKUP($A$2,Eigaben!$Y$8:$AB$14,3,1)","v":"2025-06-13"},{"$nulls":5},"Spiel - Nr.",null,null,null,{"$f":"'Aufgebot 3'!Y5+1","v":4}]
[{"$f":"Eigaben!F31","v":55},{"$nulls":13},{"$f":"Eigaben!G31","v":65}]
["Heim - Mannschaft",{"$nulls":13},"Gast - Mannschaft"]
[{"$f":"(VLOOKUP($A$6,Eigaben!$Y$17:$Z$103,2,0))","v":"FG Elgg-Ettenhausen 2 ( NLB O )"},{"$nulls":13},{"$f":"(VLOOKUP($O$6,Eigaben!$Y$17:$Z$103,2,0))","v":"SVD Diepoldsau-Schmitter (NLA)"}]
[{"$f":"VLOOKUP($A$6,Eigaben!$Y$17:$AH$103,3,1)&\" \"&VLOOKUP(A6,Eigaben!Y17:AH103,4,1)","v":"Christian Götsch"},{"$nulls":13},{"$f":"VLOOKUP($O$6,Eigaben!$Y$17:$AH$103,3,1)&\" \"&VLOOKUP($O$6,Eigaben!$Y$17:$AH$103,4,1)","v":"Lorena Lipp"}]
[{"$f":"VLOOKUP($A$6,Eigaben!$Y$17:$AH$103,5,1)","v":"Handestr 15"},{"$nulls":5},{"$f":"VLOOKUP($A$6,Eigaben!$Y$17:$AH$103,6,1)&\" \"&VLOOKUP(A6,Eigaben!$Y$17:$AH$103,7,1)","v":"8357 Guntershausen"},{"$nulls":7},{"$f":"VLOOKUP($O$6,Eigaben!$Y$17:$AH$103,5,1)","v":"Unterdorfstr 47"},{"$nulls":5},{"$f":"VLOOKUP($O$6,Eigaben!$Y$17:$AV$103,6,1)&\" \"&VLOOKUP($O$6,Eigaben!$Y$17:$AV$103,7,1)","v":"9443 Widnau"}]
[{"$f":"IF(Eigaben!AF54=0,\"\",VLOOKUP($A$6,Eigaben!$Y$17:$AH$103,8,1))","v":" "},{"$nulls":5},{"$f":"IF(Eigaben!$AG$54=0,\"\",VLOOKUP($A$6,Eigaben!$Y$17:$AH$103,9,1))","v":"078 711 66 45"},{"$nulls":7},{"$f":"IF(Eigaben!AF55=0,\"\",VLOOKUP($O$6,Eigaben!$Y$17:$AH$103,8,1))","v":" "},{"$nulls":5},{"$f":"IF(Eigaben!$AG$54=0,\"\",VLOOKUP($O$6,Eigaben!$Y$17:$AH$103,9,1))","v":"076 573 09 99"}]
[{"$f":"VLOOKUP($A$6,Eigaben!$Y$17:$AH$103,10,1)","v":"christian.goetsch@fbv-ettenhausen.ch"},{"$nulls":13},{"$f":"VLOOKUP($O$6,Eigaben!$Y$17:$AH$103,10,1)","v":"spiko@faustball-svd.clubdesk.com"}]
[null,null,{"$f":"Eigaben!C31","v":4}]
["Datum",{"$nulls":5},"Zeit",{"$nulls":4},"Ort",{"$nulls":7},"Sportplatz"]
[{"$f":"IF(Eigaben!C31=0,\"\",VLOOKUP(C13,Eigaben!$C$28:$V$109,13,0))","v":"2025-06-05"},{"$nulls":5},{"$f":"IF(Eigaben!C31=0,\"\",VLOOKUP(C13,Eigaben!$C$28:$V$110,14,0))","v":"19:30:00"},{"$nulls":4},{"$f":"IF(Eigaben!C31=0,\"\",VLOOKUP(C13,Eigaben!$C$28:$V$1110,15,0))","v":"Ettenhausen "},{"$nulls":7},{"$f":"IF(Eigaben!C31=0,\"\",VLOOKUP(C13,Eigaben!$C$28:$V$110,16,0))","v":"In Elgg im See"}]
[null,null,{"$f":"Eigaben!T31","v":79}]
["Aufgebot Schiedsrichter *"]
[]
[{"$f":"IF(C16=0,\"\",VLOOKUP(C16,Schiri_25!A2:L181,3,1)&\" \"&VLOOKUP(C16,Schiri_25!A2:L181,2,1))","v":"Daniel Ziereisen"},{"$nulls":5},{"$f":"IF(C16=0,\"\",VLOOKUP(C16,Schiri_25!A2:L181,9,1))","v":"+41 79 672 26 12"},{"$nulls":5},{"$f":"IF(C16=0,\"\",IF(VLOOKUP(C16,Schiri_25!A2:M122,8,1)=0,\"\",VLOOKUP(C16,Schiri_25!A2:M122,8,1)))","v":"+41 52 364 23 90"},{"$nulls":4},{"$f":"IF(C16=0,\"\",VLOOKUP(C16,Schiri_25!A2:L181,12,1))","v":"daniel.ziereisen@hcs-controls.ch"}]
[]
["* Im Verhinderungsfall sofort Verbindungsaufnahme mit Bruno Pabst: 079 243 02 08"]
[]
["Eintreffen des Schiedsrichters:",{"$nulls":11},{"$f":"IF(G15=\"\",\"\",G15-\"00:15:00\")","v":"19:15:00"}]
[]
["Tenue:",null,null,"Offizielle Schiedsrichterausrüstung blau / schwarz"]
[]
["Taggeld:",{"$nulls":4},"Fr.","**",{"$nulls":5},"Fahrspesen",{"$nulls":6},"Fr",null,1,null,null,{"$f":"Eigaben!V31","v":6}]
[]
["Die Fahrspesen (einfache Fahrt, Fr. 1,00 pro Km)  werden durch die Heim-Mannschaft bezahlt. \n**  (Das Taggeld wird direkt durch die CUPKO ausbezahlt.)"]
[{"$nulls":5},{"$f":"Eigaben!C6","v":"A"}]
["Modus"]
["Spielmodus:",null,null,null,"5 Gewinnsätze bis 11 (max. 15 : 14)",{"$nulls":12},"Pause nach  4 Sätzen max 5 Min."]
[]
["Bonus-Punkte:",{"$nulls":5},{"$f":"Eigaben!S31","v":2}]
[]
["Durchführung:\n",{"$nulls":5},"Bei einer allfälligen Verschiebung muss spätestens 5 Stunden vor Spielbeginn die Gast-Mannschaft, der Schiedsrichter und deer Chef CUPKO per Telefon und SMS informiert werden."]
[]
["Resultatmeldung"]
[]
["1. Satz",null,null,"2. Satz",null,null,"3. Satz",null,null,"4. Satz",null,null,"5. Satz",null,null,"6. Satz",null,null,"7. Satz",null,null,"8. Satz",null,null,"9. Satz"]
[null,":",null,null,":",null,null,":",null,null,":",null,null,":",null,null,":",null,null,":",null,null,":",null,null,":"]
["Sieger",{"$nulls":20},"Sätze",null,null,":"]
[]
["Resultatmeldung bis spätestens 12 Uhr des Folgetages durch den Schiedsrichter  per E-Mail, SMS oder WhatsApp an  "]
["pabst@swissfaustball.ch",{"$nulls":16},"pabst.bruno@bluewin.ch"]
[]
[]
["Mit sportlichen Grüssen\nSwiss Faustball CUPKO\nBruno Pabst (Präsident)",{"$nulls":19},"Thundorf, ",null,null,{"$f":"TODAY()","v":"2025-08-28"}]

{"sheet":"Spielbericht 4","index":31,"n_rows":57,"n_cols":36,"rows_kept":57,"cut":false,"hidden":true,"merged":[[53,0,53,35],[54,0,54,16],[54,17,54,35],[55,0,55,16],[55,17,55,35],[56,0,58,23],[56,24,58,29],[56,30,58,35],[49,30,49,32],[49,33,50,35],[51,0,52,4],[51,25,51,29],[51,30,51,35],[52,25,52,29],[52,30,52,35],[49,11,49,13],[49,14,49,16],[49,17,49,20],[49,21,49,23],[49,24,49,26],[49,27,49,29],[35,2,36,2],[35,3,36,4],[49,8,49,10],[38,2,39,2],[38,3,39,4],[40,2,41,2],[40,3,41,4],[42,2,43,2],[42,3,43,4],[44,2,45,2],[44,3,45,4],[47,2,48,2],[47,3,48,4],[49,0,50,4],[25,13,25,15],[31,2,32,2],[31,3,32,4],[33,2,34,2],[33,3,34,4],[16,5,16,16],[16,23,16,34],[17,5,17,16],[17,23,17,34],[29,2,30,2],[29,3,30,4],[18,5,18,16],[18,23,18,34],[19,18,19,22],[20,18,20,22],[22,6,22,17],[22,27,22,35],[23,6,23,17],[23,18,23,23],[23,24,23,35],[25,0,25,5],[13,5,13,16],[13,23,13,34],[14,5,14,16],[14,23,14,34],[15,5,15,16],[15,23,15,34],[10,5,10,16],[10,23,10,34],[11,5,11,16],[11,23,11,34],[12,5,12,16],[12,23,12,34],[7,35,8,35],[8,5,8,16],[8,23,8,34],[9,5,9,16],[9,23,9,34],[7,0,7,5],[7,6,7,16],[7,17,8,17],[7,18,7,23],[7,24,7,34],[0,6,1,35],[3,6,3,28],[3,29,3,35],[5,0,5,3],[5,4,5,8],[5,9,5,10],[5,11,5,13],[5,14,5,17],[5,18,5,28],[5,29,5,32],[5,33,5,35]]}
[{"$nulls":6},{"$f":"'Aufgebot A'!E1","v":"37. Schweizer Cup Männer 2025"}]
[]
[]
[{"$nulls":6},"            Spielbericht",{"$nulls":22},{"$f":"'Aufgebot 4'!A5","v":"1/16 Final "}]
[]
["Datum:  ",null,null,null,{"$f":"'Aufgebot 4'!A15","v":"2025-06-05"},{"$nulls":4},"Zeit:",null,{"$f":"'Aufgebot 4'!G15","v":"19:30:00"},null,null,"Spielort:",null,null,null,{"$f":"'Aufgebot 4'!L15","v":"Ettenhausen "},{"$nulls":10}," Spiel-Nr.:",null,null,null,{"$f":"'Aufgebot 4'!Y5","v":4}]
[]
["Mannschaft A:",{"$nulls":5},{"$f":"'Aufgebot 4'!A8","v":"FG Elgg-Ettenhausen 2 ( NLB O )"},{"$nulls":10},"Verw.","Mannschaft B:",{"$nulls":5},{"$f":"'Aufgebot 4'!O8","v":"SVD Diepoldsau-Schmitter (NLA)"},{"$nulls":10},"Verw."]
["Nr.",null,"Spf.","Eins.","Jg.","Name/Vorname",{"$nulls":12},"Nr.",null,"Spf.","Eins.","Jg.","Name/Vorname"]
[{"$nulls":4},"","",{"$nulls":16},"",""]
[{"$nulls":4},"","",{"$nulls":10},"",{"$nulls":5},"","",{"$nulls":10},""]
[{"$f":"VLOOKUP($A$6,Eigaben!$Y$17:$AH$103,10,1)","v":0},null,null,null,"","",{"$nulls":10},"",{"$nulls":5},"","",{"$nulls":10},""]
[{"$nulls":4},"","",{"$nulls":10},"",{"$nulls":5},"","",{"$nulls":10},""]
[{"$nulls":4},"","",{"$nulls":10},"",{"$nulls":5},"","",{"$nulls":10},""]
[{"$nulls":4},"","",{"$nulls":10},"",{"$nulls":5},"","",{"$nulls":10},""]
[{"$nulls":4},"","",{"$nulls":10},"",{"$nulls":5},"","",{"$nulls":10},""]
[{"$nulls":4},"","",{"$nulls":10},"",{"$nulls":5},"","",{"$nulls":10},""]
[{"$nulls":4},"","",{"$nulls":10},"",{"$nulls":5},"","",{"$nulls":10},""]
[{"$nulls":4},"","",{"$nulls":16},"",""]
[" Trainer:",{"$nulls":5},"",{"$nulls":11},"Trainer:",{"$nulls":5},""]
[" Betreuer:",{"$nulls":5},"",{"$nulls":11}," Betreuer:"]
[]
[" Schiedsrichter:",{"$nulls":5},{"$f":"'Aufgebot 4'!A19&\" \"&'Aufgebot 4'!G19","v":"Daniel Ziereisen +41 79 672 26 12"},{"$nulls":11},"Heimmannschaft Verantw.",{"$nulls":8},{"$f":"'Aufgebot 4'!A9","v":"Christian Götsch"}]
[" Linienrichter:",{"$nulls":17}," Linienrichter:"]
[]
["Ballwahl/Anspiel:",{"$nulls":6},"1. Satz:","A",null,"B",null,null,"5. Satz:",null,null,"A",null,"B"]
[]
["Ausserordentliche Vorfälle:  ",{"$nulls":6},"","Protest/Einsprache",null,null,null,"","Ausschluss",null,null,"","Sonstiges",null,null,null,"(Ankreuzen + Bericht mit Unterschrift auf Rückseite)"]
[]
["A",null,"Timeout","1. Satz",null,"A",{"$f":"IF('Aufgebot 4'!$G$34>0,1,\"\")","v":1},{"$f":"IF('Aufgebot 4'!$G$34>0,2,\"\")","v":2},{"$f":"IF('Aufgebot 4'!$G$34=3,3,\"\")","v":""}]
["B",{"$nulls":4},"B"]
["A",null,"Timeout","2. Satz",null,"A",{"$f":"IF('Aufgebot 4'!$G$34>0,1,\"\")","v":1},{"$f":"IF('Aufgebot 4'!$G$34>0,2,\"\")","v":2},{"$f":"IF('Aufgebot 4'!$G$34=3,3,\"\")","v":""}]
["B",{"$nulls":4},"B"]
["A",null,"Timeout","3. Satz",null,"A",{"$f":"IF('Aufgebot 4'!$G$34>0,1,\"\")","v":1},{"$f":"IF('Aufgebot 4'!$G$34>0,2,\"\")","v":2},{"$f":"IF('Aufgebot 4'!$G$34=3,3,\"\")","v":""}]
["B",{"$nulls":4},"B"]
["A",null,"Timeout","4. Satz",null,"A",{"$f":"IF('Aufgebot 4'!$G$34>0,1,\"\")","v":1},{"$f":"IF('Aufgebot 4'!$G$34>0,2,\"\")","v":2},{"$f":"IF('Aufgebot 4'!$G$34=3,3,\"\")","v":""}]
["B",{"$nulls":4},"B"]
[]
["A",null,"Timeout","5. Satz",null,"A",{"$f":"IF('Aufgebot 4'!$G$34>0,1,\"\")","v":1},{"$f":"IF('Aufgebot 4'!$G$34>0,2,\"\")","v":2},{"$f":"IF('Aufgebot 4'!$G$34=3,3,\"\")","v":""}]
["B",{"$nulls":4},"B"]
["A",null,"Timeout","6. Satz",null,"A",{"$f":"IF('Aufgebot 4'!$G$34>0,1,\"\")","v":1},{"$f":"IF('Aufgebot 4'!$G$34>0,2,\"\")","v":2},{"$f":"IF('Aufgebot 4'!$G$34=3,3,\"\")","v":""}]
["B",{"$nulls":4},"B"]
["A",null,"Timeout","7. Satz",null,"A",{"$f":"IF('Aufgebot 4'!$G$34>0,1,\"\")","v":1},{"$f":"IF('Aufgebot 4'!$G$34>0,2,\"\")","v":2},{"$f":"IF('Aufgebot 4'!$G$34=3,3,\"\")","v":""}]
["B",{"$nulls":4},"B"]
["A",null,"Timeout","8. Satz",null,"A",{"$f":"IF('Aufgebot 4'!$G$34>0,1,\"\")","v":1},{"$f":"IF('Aufgebot 4'!$G$34>0,2,\"\")","v":2},{"$f":"IF('Aufgebot 4'!$G$34=3,3,\"\")","v":""}]
["B",{"$nulls":4},"B"]
[]
["A",null,"Timeout","9. Satz",null,"A",{"$f":"IF('Aufgebot 4'!$G$34>0,1,\"\")","v":1},{"$f":"IF('Aufgebot 4'!$G$34>0,2,\"\")","v":2},{"$f":"IF('Aufgebot 4'!$G$34=3,3,\"\")","v":""}]
["B",{"$nulls":4},"B"]
[" Ergebnis    (A:B) ",{"$nulls":4},"1. Satz",null,null,"2. Satz",null,null,"3. Satz",null,null,"4. Satz",null,null,"5. Satz",null,null,null,"6. Satz",null,null,"7. Satz",null,null,"8. Satz",null,null,"9. Satz"]
[{"$nulls":6},":",null,null,":",null,null,":",null,null,":",null,null,":",null,null,null,":",null,null,":",null,null,":",null,null,":"]
["Sieger",{"$nulls":24},"Total Punkte",{"$nulls":4},"Endstand (Sätze)"]
[{"$nulls":25},":",{"$nulls":4},":"]
[" Für die Richtigkeit der Eintragungen"]
[" Schiedsrichter:",{"$nulls":16},"Spielführer A:"]
[" Anschreiber:",{"$nulls":16}," Spielführer B:"]
["Mit sportlichen Grüssen\nSwiss Faustball CUPKO\nBruno Pabst (Präsident)",{"$nulls":23},"Thundorf,",{"$nulls":5},{"$f":"TODAY()","v":"2025-08-28"}]

{"sheet":"Aufgebot 5","index":32,"n_rows":48,"n_cols":26,"rows_kept":48,"cut":false,"hidden":true,"merged":[[41,0,41,2],[41,3,41,20],[41,21,41,23],[41,24,41,26],[50,2,50,8],[43,0,43,26],[44,0,44,8],[44,9,44,15],[44,17,44,24],[47,0,47,19],[47,20,47,22],[47,23,47,26],[36,0,36,26],[37,0,37,26],[38,0,38,26],[39,0,39,2],[39,3,39,5],[39,6,39,8],[39,9,39,11],[39,12,39,14],[39,15,39,17],[39,18,39,20],[39,21,39,23],[39,24,39,26],[35,0,35,5],[35,6,35,26],[26,35,26,38],[28,0,28,26],[30,0,30,26],[31,0,31,3],[31,4,31,16],[31,17,31,26],[31,28,31,29],[32,0,32,26],[33,6,33,7],[33,12,33,14],[33,28,33,29],[34,0,34,26],[26,6,26,8],[26,12,26,18],[26,19,26,20],[26,21,26,22],[26,24,26,26],[16,24,16,26],[19,0,19,26],[22,0,22,11],[22,12,22,14],[24,0,24,2],[18,0,18,5],[18,6,18,11],[18,12,18,16],[18,17,18,26],[16,0,16,11],[16,12,16,15],[16,16,16,18],[16,20,16,23],[13,0,13,5],[13,6,13,10],[13,11,13,18],[13,19,13,26],[14,0,14,5],[14,6,14,10],[14,11,14,18],[14,19,14,26],[10,0,10,5],[10,6,10,12],[10,14,10,19],[10,20,10,26],[11,0,11,12],[11,14,11,26],[8,0,8,12],[8,14,8,26],[9,0,9,5],[9,6,9,12],[9,14,9,19],[9,20,9,26],[6,0,6,12],[6,13,7,13],[6,14,6,26],[6,28,6,29],[6,30,6,31],[7,14,7,26],[0,4,0,21],[2,0,2,26],[2,28,2,30],[4,0,4,4],[4,5,4,11],[4,12,4,13],[4,14,4,19],[4,20,4,23]]}
[{"$nulls":4},{"$f":"Eigaben!Z3","v":"37. Schweizer Cup Männer 2025"}]
[2,null,null,{"$f":"VLOOKUP(A2,Eigaben!Y8:AC14,5,0)","v":"1/16 Final "},{"$nulls":4},2]
["Aufgebot Mannschaften"]
[1]
[{"$f":"VLOOKUP(A2,Eigaben!Y8:AC14,5,0)","v":"1/16 Final "},{"$nulls":4},{"$f":"VLOOKUP($A$2,Eigaben!$Y$8:$AC$14,2,1)","v":"2025-05-05"},{"$nulls":6},"bis",null,{"$f":"VLOOKUP($A$2,Eigaben!$Y$8:$AB$14,3,1)","v":"2025-06-13"},{"$nulls":5},"Spiel - Nr.",null,null,null,5]
[{"$f":"Eigaben!F32","v":53},{"$nulls":13},{"$f":"Eigaben!G32","v":67}]
["Heim - Mannschaft",{"$nulls":13},"Gast - Mannschaft"]
[{"$f":"(VLOOKUP($A$6,Eigaben!$Y$17:$Z$103,2,0))","v":"STV Dägerlen ( NLB O )"},{"$nulls":13},{"$f":"(VLOOKUP($O$6,Eigaben!$Y$17:$Z$103,2,0))","v":"FG Fricktal ( NLA  )"}]
[{"$f":"VLOOKUP($A$6,Eigaben!$Y$17:$AH$103,3,1)&\" \"&VLOOKUP(A6,Eigaben!Y17:AH103,4,1)","v":"Aron Werder"},{"$nulls":13},{"$f":"VLOOKUP($O$6,Eigaben!$Y$17:$AH$103,3,1)&\" \"&VLOOKUP($O$6,Eigaben!$Y$17:$AH$103,4,1)","v":"Patrick Hochreuter"}]
[{"$f":"VLOOKUP($A$6,Eigaben!$Y$17:$AH$103,5,1)","v":" "},{"$nulls":5},{"$f":"VLOOKUP($A$6,Eigaben!$Y$17:$AH$103,6,1)&\" \"&VLOOKUP(A6,Eigaben!$Y$17:$AH$103,7,1)","v":"   "},{"$nulls":7},{"$f":"VLOOKUP($O$6,Eigaben!$Y$17:$AH$103,5,1)","v":"Scheuerackerweg 16"},{"$nulls":5},{"$f":"VLOOKUP($O$6,Eigaben!$Y$17:$AV$103,6,1)&\" \"&VLOOKUP($O$6,Eigaben!$Y$17:$AV$103,7,1)","v":"5223 Riniken"}]
[{"$f":"IF(Eigaben!AF54=0,\"\",VLOOKUP($A$6,Eigaben!$Y$17:$AH$103,8,1))","v":" "},{"$nulls":5},{"$f":"IF(Eigaben!$AG$54=0,\"\",VLOOKUP($A$6,Eigaben!$Y$17:$AH$103,9,1))","v":"077 423 20 05"},{"$nulls":7},{"$f":"IF(Eigaben!AF55=0,\"\",VLOOKUP($O$6,Eigaben!$Y$17:$AH$103,8,1))","v":" "},{"$nulls":5},{"$f":"IF(Eigaben!$P$54=0,\"\",VLOOKUP($O$6,Eigaben!$Y$17:$AH$103,9,1))","v":"079 238 91 30"}]
[{"$f":"VLOOKUP($A$6,Eigaben!$Y$17:$AH$103,10,1)","v":"materialwart@fbrdaegerlen.ch"},{"$nulls":13},{"$f":"VLOOKUP($O$6,Eigaben!$Y$17:$AH$103,10,1)","v":"info@fgfricktal.ch"}]
[null,null,{"$f":"Eigaben!C32","v":5}]
["Datum",{"$nulls":5},"Zeit",{"$nulls":4},"Ort",{"$nulls":7},"Sportplatz"]
[{"$f":"IF(Eigaben!C32=0,\"\",VLOOKUP(C13,Eigaben!$C$28:$V$109,13,0))","v":"2025-05-22"},{"$nulls":5},{"$f":"IF(Eigaben!C3=0,\"\",VLOOKUP(C13,Eigaben!$C$28:$V$110,14,0))","v":"19:30:00"},{"$nulls":4},{"$f":"IF(Eigaben!C32=0,\"\",VLOOKUP(C13,Eigaben!$C$28:$V$1110,15,0))","v":"8471 Dägerlen"},{"$nulls":7},{"$f":"IF(Eigaben!C32=0,\"\",VLOOKUP(C13,Eigaben!$C$28:$V$110,16,0))","v":"Schulweg 1"}]
[null,null,{"$f":"Eigaben!T32","v":7}]
["Aufgebot Schiedsrichter *"]
[]
[{"$f":"IF(C16=0,\"\",VLOOKUP(C16,Schiri_25!A2:L181,3,1)&\" \"&VLOOKUP(C16,Schiri_25!A2:L181,2,1))","v":"Daniel Graf"},{"$nulls":5},{"$f":"IF(C16=0,\"\",VLOOKUP(C16,Schiri_25!A2:L181,9,1))","v":"+41 79 431 31 31"},{"$nulls":5},{"$f":"IF(C16=0,\"\",IF(VLOOKUP(C16,Schiri_25!A2:M122,8,1)=0,\"\",VLOOKUP(C16,Schiri_25!A2:M122,8,1)))","v":""},{"$nulls":4},{"$f":"IF(C16=0,\"\",VLOOKUP(C16,Schiri_25!A2:L181,12,1))","v":"darf@bluewin.ch"}]
[]
["* Im Verhinderungsfall sofort Verbindungsaufnahme mit Bruno Pabst: 079 243 02 08"]
[]
["Eintreffen des Schiedsrichters:",{"$nulls":11},{"$f":"IF(G15=\"\",\"\",G15-\"00:15:00\")","v":"19:15:00"}]
[]
["Tenue:",null,null,"Offizielle Schiedsrichterausrüstung blau / schwarz"]
[]
["Taggeld:",{"$nulls":4},"Fr.","**",{"$nulls":5},"Fahrspesen",{"$nulls":6},"Fr",null,1,null,null,{"$f":"Eigaben!V32","v":4}]
[]
["Die Fahrspesen (einfache Fahrt, Fr. 1,00 pro Km)  werden durch die Heim-Mannschaft bezahlt. \n**  (Das Taggeld wird direkt durch die CUPKO ausbezahlt.)"]
[{"$nulls":5},{"$f":"Eigaben!C6","v":"A"}]
["Modus"]
["Spielmodus:",null,null,null,"5 Gewinnsätze bis 11 (max. 15 : 14)",{"$nulls":12},"Pause nach  4 Sätzen max 5 Min."]
[]
["Bonus-Punkte:",{"$nulls":5},{"$f":"Eigaben!S32","v":2}]
[]
["Durchführung:\n",{"$nulls":5},"Bei einer allfälligen Verschiebung muss spätestens 5 Stunden vor Spielbeginn die Gast-Mannschaft, der Schiedsrichter und deer Chef CUPKO per Telefon und SMS informiert werden."]
[]
["Resultatmeldung"]
[]
["1. Satz",null,null,"2. Satz",null,null,"3. Satz",null,null,"4. Satz",null,null,"5. Satz",null,null,"6. Satz",null,null,"7. Satz",null,null,"8. Satz",null,null,"9. Satz"]
[null,":",null,null,":",null,null,":",null,null,":",null,null,":",null,null,":",null,null,":",null,null,":",null,null,":"]
["Sieger",{"$nulls":20},"Sätze",null,null,":"]
[]
["Resultatmeldung bis spätestens 12 Uhr des Folgetages durch den Schiedsrichter  per E-Mail, SMS oder WhatsApp an  "]
["pabst@swissfaustball.ch",{"$nulls":16},"pabst.bruno@bluewin.ch"]
[]
[]
["Mit sportlichen Grüssen\nSwiss Faustball CUPKO\nBruno Pabst (Präsident)",{"$nulls":19},"Thundorf, ",null,null,{"$f":"TODAY()","v":"2025-08-28"}]

{"sheet":"Spielbericht 5","index":33,"n_rows":59,"n_cols":36,"rows_kept":59,"cut":false,"hidden":true,"merged":[[54,0,54,35],[55,0,55,16],[55,17,55,35],[56,0,56,16],[56,17,56,35],[58,0,60,23],[58,24,60,29],[58,30,60,35],[50,30,50,32],[50,33,51,35],[52,0,53,4],[52,25,52,29],[52,30,52,35],[53,25,53,29],[53,30,53,35],[50,11,50,13],[50,14,50,16],[50,17,50,20],[50,21,50,23],[50,24,50,26],[50,27,50,29],[35,2,36,2],[35,3,36,4],[50,8,50,10],[38,2,39,2],[38,3,39,4],[40,2,41,2],[40,3,41,4],[42,2,43,2],[42,3,43,4],[44,2,45,2],[44,3,45,4],[47,2,48,2],[47,3,48,4],[50,0,51,4],[25,13,25,15],[31,2,32,2],[31,3,32,4],[33,2,34,2],[33,3,34,4],[16,5,16,16],[16,23,16,34],[17,5,17,16],[17,23,17,34],[29,2,30,2],[29,3,30,4],[18,5,18,16],[18,23,18,34],[19,18,19,22],[20,18,20,22],[22,6,22,17],[22,27,22,35],[23,6,23,17],[23,18,23,23],[23,24,23,35],[25,0,25,5],[13,5,13,16],[13,23,13,34],[14,5,14,16],[14,23,14,34],[15,5,15,16],[15,23,15,34],[10,5,10,16],[10,23,10,34],[11,5,11,16],[11,23,11,34],[12,5,12,16],[12,23,12,34],[7,35,8,35],[8,5,8,16],[8,23,8,34],[9,5,9,16],[9,23,9,34],[7,0,7,5],[7,6,7,16],[7,17,8,17],[7,18,7,23],[7,24,7,34],[0,6,1,35],[3,6,3,28],[3,29,3,35],[5,0,5,3],[5,4,5,8],[5,9,5,10],[5,11,5,13],[5,14,5,17],[5,18,5,28],[5,29,5,32],[5,33,5,35]]}
[{"$nulls":6},{"$f":"'Aufgebot A'!E1","v":"37. Schweizer Cup Männer 2025"}]
[]
[]
[{"$nulls":6},"            Spielbericht",{"$nulls":22},{"$f":"'Aufgebot 5'!A5","v":"1/16 Final "}]
[]
["Datum:  ",null,null,null,{"$f":"'Aufgebot 5'!A15","v":"2025-05-22"},{"$nulls":4},"Zeit:",null,{"$f":"'Aufgebot 5'!G15","v":"19:30:00"},null,null,"Spielort:",null,null,null,{"$f":"'Aufgebot 5'!L15","v":"8471 Dägerlen"},{"$nulls":10}," Spiel-Nr.:",null,null,null,{"$f":"'Aufgebot 5'!Y5","v":5}]
[]
["Mannschaft A:",{"$nulls":5},{"$f":"'Aufgebot 5'!A8","v":"STV Dägerlen ( NLB O )"},{"$nulls":10},"Verw.","Mannschaft B:",{"$nulls":5},{"$f":"'Aufgebot 5'!O8","v":"FG Fricktal ( NLA  )"},{"$nulls":10},"Verw."]
["Nr.",null,"Spf.","Eins.","Jg.","Name/Vorname",{"$nulls":12},"Nr.",null,"Spf.","Eins.","Jg.","Name/Vorname"]
[{"$nulls":4},"","",{"$nulls":16},"",""]
[{"$nulls":4},"","",{"$nulls":10},"",{"$nulls":5},"","",{"$nulls":10},""]
[{"$nulls":4},"","",{"$nulls":10},"",{"$nulls":5},"","",{"$nulls":10},""]
[{"$nulls":4},"","",{"$nulls":10},"",{"$nulls":5},"","",{"$nulls":10},""]
[{"$nulls":4},"","",{"$nulls":10},"",{"$nulls":5},"","",{"$nulls":10},""]
[{"$nulls":4},"","",{"$nulls":10},"",{"$nulls":5},"","",{"$nulls":10},""]
[{"$nulls":4},"","",{"$nulls":10},"",{"$nulls":5},"","",{"$nulls":10},""]
[{"$nulls":4},"","",{"$nulls":10},"",{"$nulls":5},"","",{"$nulls":10},""]
[{"$nulls":4},"","",{"$nulls":10},"",{"$nulls":5},"","",{"$nulls":10},""]
[{"$nulls":4},"","",{"$nulls":16},"",""]
[" Trainer:",{"$nulls":5},"",{"$nulls":11},"Trainer:",{"$nulls":5},""]
[" Betreuer:",{"$nulls":5},"",{"$nulls":11}," Betreuer:"]
[]
[" Schiedsrichter:",{"$nulls":5},{"$f":"'Aufgebot 5'!A19&\" \"&'Aufgebot 5'!G19","v":"Daniel Graf +41 79 431 31 31"},{"$nulls":11},"Heimmannschaft Verantw.",{"$nulls":8},{"$f":"'Aufgebot 5'!A9","v":"Aron Werder"}]
[" Linienrichter:",{"$nulls":17}," Linienrichter:"]
[]
["Ballwahl/Anspiel:",{"$nulls":6},"1. Satz:","A",null,"B",null,null,"5. Satz:",null,null,"A",null,"B"]
[]
["Ausserordentliche Vorfälle:  ",{"$nulls":6},"","Protest/Einsprache",null,null,null,"","Ausschluss",null,null,"","Sonstiges",null,null,null,"(Ankreuzen + Bericht mit Unterschrift auf Rückseite)"]
[]
["A",null,"Timeout","1. Satz",null,"A",{"$f":"IF('Aufgebot 5'!$G$34>0,1,\"\")","v":1},{"$f":"IF('Aufgebot 5'!$G$34>0,2,\"\")","v":2},{"$f":"IF('Aufgebot 5'!$G$34=3,3,\"\")","v":""}]
["B",{"$nulls":4},"B"]
["A",null,"Timeout","2. Satz",null,"A",{"$f":"IF('Aufgebot 5'!$G$34>0,1,\"\")","v":1},{"$f":"IF('Aufgebot 5'!$G$34>0,2,\"\")","v":2},{"$f":"IF('Aufgebot 5'!$G$34=3,3,\"\")","v":""}]
["B",{"$nulls":4},"B"]
["A",null,"Timeout","3. Satz",null,"A",{"$f":"IF('Aufgebot 5'!$G$34>0,1,\"\")","v":1},{"$f":"IF('Aufgebot 5'!$G$34>0,2,\"\")","v":2},{"$f":"IF('Aufgebot 5'!$G$34=3,3,\"\")","v":""}]
["B",{"$nulls":4},"B"]
["A",null,"Timeout","4. Satz",null,"A",{"$f":"IF('Aufgebot 5'!$G$34>0,1,\"\")","v":1},{"$f":"IF('Aufgebot 5'!$G$34>0,2,\"\")","v":2},{"$f":"IF('Aufgebot 5'!$G$34=3,3,\"\")","v":""}]
["B",{"$nulls":4},"B"]
[]
["A",null,"Timeout","5. Satz",null,"A",{"$f":"IF('Aufgebot 5'!$G$34>0,1,\"\")","v":1},{"$f":"IF('Aufgebot 5'!$G$34>0,2,\"\")","v":2},{"$f":"IF('Aufgebot 5'!$G$34=3,3,\"\")","v":""}]
["B",{"$nulls":4},"B"]
["A",null,"Timeout","6. Satz",null,"A",{"$f":"IF('Aufgebot 5'!$G$34>0,1,\"\")","v":1},{"$f":"IF('Aufgebot 5'!$G$34>0,2,\"\")","v":2},{"$f":"IF('Aufgebot 5'!$G$34=3,3,\"\")","v":""}]
["B",{"$nulls":4},"B"]
["A",null,"Timeout","7. Satz",null,"A",{"$f":"IF('Aufgebot 5'!$G$34>0,1,\"\")","v":1},{"$f":"IF('Aufgebot 5'!$G$34>0,2,\"\")","v":2},{"$f":"IF('Aufgebot 5'!$G$34=3,3,\"\")","v":""}]
["B",{"$nulls":4},"B"]
["A",null,"Timeout","8. Satz",null,"A",{"$f":"IF('Aufgebot 5'!$G$34>0,1,\"\")","v":1},{"$f":"IF('Aufgebot 5'!$G$34>0,2,\"\")","v":2},{"$f":"IF('Aufgebot 5'!$G$34=3,3,\"\")","v":""}]
["B",{"$nulls":4},"B"]
[]
["A",null,"Timeout","9. Satz",null,"A",{"$f":"IF('Aufgebot 5'!$G$34>0,1,\"\")","v":1},{"$f":"IF('Aufgebot 5'!$G$34>0,2,\"\")","v":2},{"$f":"IF('Aufgebot 5'!$G$34=3,3,\"\")","v":""}]
["B",{"$nulls":4},"B"]
[]
[" Ergebnis    (A:B) ",{"$nulls":4},"1. Satz",null,null,"2. Satz",null,null,"3. Satz",null,null,"4. Satz",null,null,"5. Satz",null,null,null,"6. Satz",null,null,"7. Satz",null,null,"8. Satz",null,null,"9. Satz"]
[{"$nulls":6},":",null,null,":",null,null,":",null,null,":",null,null,":",null,null,null,":",null,null,":",null,null,":",null,null,":"]
["Sieger",{"$nulls":24},"Total Punkte",{"$nulls":4},"Endstand (Sätze)"]
[{"$nulls":25},":",{"$nulls":4},":"]
[" Für die Richtigkeit der Eintragungen"]
[" Schiedsrichter:",{"$nulls":16},"Spielführer A:"]
[" Anschreiber:",{"$nulls":16}," Spielführer B:"]
[]
["Mit sportlichen Grüssen\nSwiss Faustball CUPKO\nBruno Pabst (Präsident)",{"$nulls":23},"Thundorf,",{"$nulls":5},{"$f":"TODAY()","v":"2025-08-28"}]

{"sheet":"Aufgebot 6","index":34,"n_rows":48,"n_cols":26,"rows_kept":48,"cut":false,"hidden":true,"merged":[[41,0,41,2],[41,3,41,20],[41,21,41,23],[41,24,41,26],[50,2,50,8],[43,0,43,26],[44,0,44,8],[44,9,44,15],[44,17,44,24],[47,0,47,19],[47,20,47,22],[47,23,47,26],[36,0,36,26],[37,0,37,26],[38,0,38,26],[39,0,39,2],[39,3,39,5],[39,6,39,8],[39,9,39,11],[39,12,39,14],[39,15,39,17],[39,18,39,20],[39,21,39,23],[39,24,39,26],[35,0,35,5],[35,6,35,26],[26,35,26,38],[28,0,28,26],[30,0,30,26],[31,0,31,3],[31,4,31,16],[31,17,31,26],[31,28,31,29],[32,0,32,26],[33,6,33,7],[33,12,33,14],[33,28,33,29],[34,0,34,26],[26,6,26,8],[26,12,26,18],[26,19,26,20],[26,21,26,22],[26,24,26,26],[16,24,16,26],[19,0,19,26],[22,0,22,11],[22,12,22,14],[24,0,24,2],[18,0,18,5],[18,6,18,11],[18,12,18,16],[18,17,18,26],[16,0,16,11],[16,12,16,15],[16,16,16,18],[16,20,16,23],[13,0,13,5],[13,6,13,10],[13,11,13,18],[13,19,13,26],[14,0,14,5],[14,6,14,10],[14,11,14,18],[14,19,14,26],[10,0,10,5],[10,6,10,12],[10,14,10,19],[10,20,10,26],[11,0,11,12],[11,14,11,26],[8,0,8,12],[8,14,8,26],[9,0,9,5],[9,6,9,12],[9,14,9,19],[9,20,9,26],[6,0,6,12],[6,13,7,13],[6,14,6,26],[6,28,6,29],[6,30,6,31],[7,14,7,26],[0,4,0,21],[2,0,2,26],[2,28,2,30],[4,0,4,4],[4,5,4,11],[4,12,4,13],[4,14,4,19],[4,20,4,23]]}
[{"$nulls":4},{"$f":"Eigaben!Z3","v":"37. Schweizer Cup Männer 2025"}]
[2,null,null,{"$f":"VLOOKUP(A2,Eigaben!Y8:AC14,5,0)","v":"1/16 Final "},{"$nulls":4},2]
["Aufgebot Mannschaften"]
[1]
[{"$f":"VLOOKUP(A2,Eigaben!Y8:AC14,5,0)","v":"1/16 Final "},{"$nulls":4},{"$f":"VLOOKUP($A$2,Eigaben!$Y$8:$AC$14,2,1)","v":"2025-05-05"},{"$nulls":6},"bis",null,{"$f":"VLOOKUP($A$2,Eigaben!$Y$8:$AB$14,3,1)","v":"2025-06-13"},{"$nulls":5},"Spiel - Nr.",null,null,null,6]
[{"$f":"Eigaben!F33","v":41},{"$nulls":13},{"$f":"Eigaben!G33","v":50}]
["Heim - Mannschaft",{"$nulls":13},"Gast - Mannschaft"]
[{"$f":"(VLOOKUP($A$6,Eigaben!$Y$17:$Z$103,2,0))","v":"FBV Ettenhausen ( 2. Liga S )"},{"$nulls":13},{"$f":"(VLOOKUP($O$6,Eigaben!$Y$17:$Z$103,2,0))","v":"TSV Jona 2  ( 1. Liga O )  "}]
[{"$f":"VLOOKUP($A$6,Eigaben!$Y$17:$AH$103,3,1)&\" \"&VLOOKUP(A6,Eigaben!Y17:AH103,4,1)","v":"Simon  Kunz"},{"$nulls":13},{"$f":"VLOOKUP($O$6,Eigaben!$Y$17:$AH$103,3,1)&\" \"&VLOOKUP($O$6,Eigaben!$Y$17:$AH$103,4,1)","v":"Fabian Zahner"}]
[{"$f":"VLOOKUP($A$6,Eigaben!$Y$17:$AH$103,5,1)","v":"Matthofstr 43"},{"$nulls":5},{"$f":"VLOOKUP($A$6,Eigaben!$Y$17:$AH$103,6,1)&\" \"&VLOOKUP(A6,Eigaben!$Y$17:$AH$103,7,1)","v":"8355 Aadorf"},{"$nulls":7},{"$f":"VLOOKUP($O$6,Eigaben!$Y$17:$AH$103,5,1)","v":" "},{"$nulls":5},{"$f":"VLOOKUP($O$6,Eigaben!$Y$17:$AV$103,6,1)&\" \"&VLOOKUP($O$6,Eigaben!$Y$17:$AV$103,7,1)","v":"   "}]
[{"$f":"IF(Eigaben!AF54=0,\"\",VLOOKUP($A$6,Eigaben!$Y$17:$AH$103,8,1))","v":" "},{"$nulls":5},{"$f":"IF(Eigaben!$AG$54=0,\"\",VLOOKUP($A$6,Eigaben!$Y$17:$AH$103,9,1))","v":"079 438 17 59"},{"$nulls":7},{"$f":"IF(Eigaben!AF55=0,\"\",VLOOKUP($O$6,Eigaben!$Y$17:$AH$103,8,1))","v":" "},{"$nulls":5},{"$f":"IF(Eigaben!$P$54=0,\"\",VLOOKUP($O$6,Eigaben!$Y$17:$AH$103,9,1))","v":"076 592 09 17"}]
[{"$f":"VLOOKUP($A$6,Eigaben!$Y$17:$AH$103,10,1)","v":"simon.kunz@fbv-ettenhausen.ch"},{"$nulls":13},{"$f":"VLOOKUP($O$6,Eigaben!$Y$17:$AH$103,10,1)","v":"tkchef@fbjona.ch"}]
[null,null,{"$f":"Eigaben!C33","v":6}]
["Datum",{"$nulls":5},"Zeit",{"$nulls":4},"Ort",{"$nulls":7},"Sportplatz"]
[{"$f":"IF(Eigaben!C33=0,\"\",VLOOKUP(C13,Eigaben!$C$28:$V$109,13,0))","v":"2025-05-15"},{"$nulls":5},{"$f":"IF(Eigaben!C33=0,\"\",VLOOKUP(C13,Eigaben!$C$28:$V$110,14,0))","v":"20:00:00"},{"$nulls":4},{"$f":"IF(Eigaben!C33=0,\"\",VLOOKUP(C13,Eigaben!$C$28:$V$1110,15,0))","v":"Ettenhausen"},{"$nulls":7},{"$f":"IF(Eigaben!C33=0,\"\",VLOOKUP(C13,Eigaben!$C$28:$V$110,16,0))","v":"Schulhaus Ettenhausen"}]
[null,null,{"$f":"Eigaben!T33","v":79}]
["Aufgebot Schiedsrichter *"]
[]
[{"$f":"IF(C16=0,\"\",VLOOKUP(C16,Schiri_25!A2:L181,3,1)&\" \"&VLOOKUP(C16,Schiri_25!A2:L181,2,1))","v":"Daniel Ziereisen"},{"$nulls":5},{"$f":"IF(C16=0,\"\",VLOOKUP(C16,Schiri_25!A2:L181,9,1))","v":"+41 79 672 26 12"},{"$nulls":5},{"$f":"IF(C16=0,\"\",IF(VLOOKUP(C16,Schiri_25!A2:M122,8,1)=0,\"\",VLOOKUP(C16,Schiri_25!A2:M122,8,1)))","v":"+41 52 364 23 90"},{"$nulls":4},{"$f":"IF(C16=0,\"\",VLOOKUP(C16,Schiri_25!A2:L181,12,1))","v":"daniel.ziereisen@hcs-controls.ch"}]
[]
["* Im Verhinderungsfall sofort Verbindungsaufnahme mit Bruno Pabst: 079 243 02 08"]
[]
["Eintreffen des Schiedsrichters:",{"$nulls":11},{"$f":"IF(G15=\"\",\"\",G15-\"00:15:00\")","v":"19:45:00"}]
[]
["Tenue:",null,null,"Offizielle Schiedsrichterausrüstung blau / schwarz"]
[]
["Taggeld:",{"$nulls":4},"Fr.","**",{"$nulls":5},"Fahrspesen",{"$nulls":6},"Fr",null,1,null,null,{"$f":"Eigaben!V33","v":6}]
[]
["Die Fahrspesen (einfache Fahrt, Fr. 1,00 pro Km)  werden durch die Heim-Mannschaft bezahlt. \n**  (Das Taggeld wird direkt durch die CUPKO ausbezahlt.)"]
[{"$nulls":5},{"$f":"Eigaben!C6","v":"A"}]
["Modus"]
["Spielmodus:",null,null,null,"5 Gewinnsätze bis 11 (max. 15 : 14)",{"$nulls":12},"Pause nach  4 Sätzen max 5 Min."]
[]
["Bonus-Punkte:",{"$nulls":5},{"$f":"Eigaben!S33","v":2}]
[]
["Durchführung:\n",{"$nulls":5},"Bei einer allfälligen Verschiebung muss spätestens 5 Stunden vor Spielbeginn die Gast-Mannschaft, der Schiedsrichter und deer Chef CUPKO per Telefon und SMS informiert werden."]
[]
["Resultatmeldung"]
[]
["1. Satz",null,null,"2. Satz",null,null,"3. Satz",null,null,"4. Satz",null,null,"5. Satz",null,null,"6. Satz",null,null,"7. Satz",null,null,"8. Satz",null,null,"9. Satz"]
[null,":",null,null,":",null,null,":",null,null,":",null,null,":",null,null,":",null,null,":",null,null,":",null,null,":"]
["Sieger",{"$nulls":20},"Sätze",null,null,":"]
[]
["Resultatmeldung bis spätestens 12 Uhr des Folgetages durch den Schiedsrichter  per E-Mail, SMS oder WhatsApp an  "]
["pabst@swissfaustball.ch",{"$nulls":16},"pabst.bruno@bluewin.ch"]
[]
[]
["Mit sportlichen Grüssen\nSwiss Faustball CUPKO\nBruno Pabst (Präsident)",{"$nulls":19},"Thundorf, ",null,null,{"$f":"TODAY()","v":"2025-08-28"}]

{"sheet":"Spielbericht 6","index":35,"n_rows":58,"n_cols":36,"rows_kept":58,"cut":false,"hidden":true,"merged":[[54,0,54,35],[55,0,55,16],[55,17,55,35],[56,0,56,16],[56,17,56,35],[57,0,59,23],[57,24,59,29],[57,30,59,35],[50,30,50,32],[50,33,51,35],[52,0,53,4],[52,25,52,29],[52,30,52,35],[53,25,53,29],[53,30,53,35],[50,11,50,13],[50,14,50,16],[50,17,50,20],[50,21,50,23],[50,24,50,26],[50,27,50,29],[35,2,36,2],[35,3,36,4],[50,8,50,10],[38,2,39,2],[38,3,39,4],[40,2,41,2],[40,3,41,4],[42,2,43,2],[42,3,43,4],[44,2,45,2],[44,3,45,4],[47,2,48,2],[47,3,48,4],[50,0,51,4],[25,13,25,15],[31,2,32,2],[31,3,32,4],[33,2,34,2],[33,3,34,4],[16,5,16,16],[16,23,16,34],[17,5,17,16],[17,23,17,34],[29,2,30,2],[29,3,30,4],[18,5,18,16],[18,23,18,34],[19,18,19,22],[20,18,20,22],[22,6,22,17],[22,27,22,35],[23,6,23,17],[23,18,23,23],[23,24,23,35],[25,0,25,5],[13,5,13,16],[13,23,13,34],[14,5,14,16],[14,23,14,34],[15,5,15,16],[15,23,15,34],[10,5,10,16],[10,23,10,34],[11,5,11,16],[11,23,11,34],[12,5,12,16],[12,23,12,34],[7,35,8,35],[8,5,8,16],[8,23,8,34],[9,5,9,16],[9,23,9,34],[7,0,7,5],[7,6,7,16],[7,17,8,17],[7,18,7,23],[7,24,7,34],[0,6,1,35],[3,6,3,28],[3,29,3,35],[5,0,5,3],[5,4,5,8],[5,9,5,10],[5,11,5,13],[5,14,5,17],[5,18,5,28],[5,29,5,32],[5,33,5,35]]}
[{"$nulls":6},{"$f":"'Aufgebot A'!E1","v":"37. Schweizer Cup Männer 2025"}]
[]
[]
[{"$nulls":6},"            Spielbericht",{"$nulls":22},{"$f":"'Aufgebot 6'!A5","v":"1/16 Final "}]
[]
["Datum:  ",null,null,null,{"$f":"'Aufgebot 6'!A15","v":"2025-05-15"},{"$nulls":4},"Zeit:",null,{"$f":"'Aufgebot 6'!G15","v":"20:00:00"},null,null,"Spielort:",null,null,null,{"$f":"'Aufgebot 6'!L15","v":"Ettenhausen"},{"$nulls":10}," Spiel-Nr.:",null,null,null,{"$f":"'Aufgebot 6'!Y5","v":6}]
[]
["Mannschaft A:",{"$nulls":5},{"$f":"'Aufgebot 6'!A8","v":"FBV Ettenhausen ( 2. Liga S )"},{"$nulls":10},"Verw.","Mannschaft B:",{"$nulls":5},{"$f":"'Aufgebot 6'!O8","v":"TSV Jona 2  ( 1. Liga O )  "},{"$nulls":10},"Verw."]
["Nr.",null,"Spf.","Eins.","Jg.","Name/Vorname",{"$nulls":12},"Nr.",null,"Spf.","Eins.","Jg.","Name/Vorname"]
[{"$nulls":4},"","",{"$nulls":16},"",""]
[{"$nulls":4},"","",{"$nulls":10},"",{"$nulls":5},"","",{"$nulls":10},""]
[{"$nulls":4},"","",{"$nulls":10},"",{"$nulls":5},"","",{"$nulls":10},""]
[{"$nulls":4},"","",{"$nulls":10},"",{"$nulls":5},"","",{"$nulls":10},""]
[{"$nulls":4},"","",{"$nulls":10},"",{"$nulls":5},"","",{"$nulls":10},""]
[{"$nulls":4},"","",{"$nulls":10},"",{"$nulls":5},"","",{"$nulls":10},""]
[{"$nulls":4},"","",{"$nulls":10},"",{"$nulls":5},"","",{"$nulls":10},""]
[{"$nulls":4},"","",{"$nulls":10},"",{"$nulls":5},"","",{"$nulls":10},""]
[{"$nulls":4},"","",{"$nulls":10},"",{"$nulls":5},"","",{"$nulls":10},""]
[{"$nulls":4},"","",{"$nulls":16},"",""]
[" Trainer:",{"$nulls":5},"",{"$nulls":11},"Trainer:",{"$nulls":5},""]
[" Betreuer:",{"$nulls":5},"",{"$nulls":11}," Betreuer:"]
[]
[" Schiedsrichter:",{"$nulls":5},{"$f":"'Aufgebot 6'!A19&\" \"&'Aufgebot 6'!G19","v":"Daniel Ziereisen +41 79 672 26 12"},{"$nulls":11},"Heimmannschaft Verantw.",{"$nulls":8},{"$f":"'Aufgebot 6'!A9","v":"Simon  Kunz"}]
[" Linienrichter:",{"$nulls":17}," Linienrichter:"]
[]
["Ballwahl/Anspiel:",{"$nulls":6},"1. Satz:","A",null,"B",null,null,"5. Satz:",null,null,"A",null,"B"]
[]
["Ausserordentliche Vorfälle:  ",{"$nulls":6},"","Protest/Einsprache",null,null,null,"","Ausschluss",null,null,"","Sonstiges",null,null,null,"(Ankreuzen + Bericht mit Unterschrift auf Rückseite)"]
[]
["A",null,"Timeout","1. Satz",null,"A",{"$f":"IF('Aufgebot 6'!$G$34>0,1,\"\")","v":1},{"$f":"IF('Aufgebot 6'!$G$34>0,2,\"\")","v":2},{"$f":"IF('Aufgebot 6'!$G$34=3,3,\"\")","v":""}]
["B",{"$nulls":4},"B"]
["A",null,"Timeout","2. Satz",null,"A",{"$f":"IF('Aufgebot 6'!$G$34>0,1,\"\")","v":1},{"$f":"IF('Aufgebot 6'!$G$34>0,2,\"\")","v":2},{"$f":"IF('Aufgebot 6'!$G$34=3,3,\"\")","v":""}]
["B",{"$nulls":4},"B"]
["A",null,"Timeout","3. Satz",null,"A",{"$f":"IF('Aufgebot 6'!$G$34>0,1,\"\")","v":1},{"$f":"IF('Aufgebot 6'!$G$34>0,2,\"\")","v":2},{"$f":"IF('Aufgebot 6'!$G$34=3,3,\"\")","v":""}]
["B",{"$nulls":4},"B"]
["A",null,"Timeout","4. Satz",null,"A",{"$f":"IF('Aufgebot 6'!$G$34>0,1,\"\")","v":1},{"$f":"IF('Aufgebot 6'!$G$34>0,2,\"\")","v":2},{"$f":"IF('Aufgebot 6'!$G$34=3,3,\"\")","v":""}]
["B",{"$nulls":4},"B"]
[]
["A",null,"Timeout","5. Satz",null,"A",{"$f":"IF('Aufgebot 6'!$G$34>0,1,\"\")","v":1},{"$f":"IF('Aufgebot 6'!$G$34>0,2,\"\")","v":2},{"$f":"IF('Aufgebot 6'!$G$34=3,3,\"\")","v":""}]
["B",{"$nulls":4},"B"]
["A",null,"Timeout","6. Satz",null,"A",{"$f":"IF('Aufgebot 6'!$G$34>0,1,\"\")","v":1},{"$f":"IF('Aufgebot 6'!$G$34>0,2,\"\")","v":2},{"$f":"IF('Aufgebot 6'!$G$34=3,3,\"\")","v":""}]
["B",{"$nulls":4},"B"]
["A",null,"Timeout","7. Satz",null,"A",{"$f":"IF('Aufgebot 6'!$G$34>0,1,\"\")","v":1},{"$f":"IF('Aufgebot 6'!$G$34>0,2,\"\")","v":2},{"$f":"IF('Aufgebot 6'!$G$34=3,3,\"\")","v":""}]
["B",{"$nulls":4},"B"]
["A",null,"Timeout","8. Satz",null,"A",{"$f":"IF('Aufgebot 6'!$G$34>0,1,\"\")","v":1},{"$f":"IF('Aufgebot 6'!$G$34>0,2,\"\")","v":2},{"$f":"IF('Aufgebot 6'!$G$34=3,3,\"\")","v":""}]
["B",{"$nulls":4},"B"]
[]
["A",null,"Timeout","9. Satz",null,"A",{"$f":"IF('Aufgebot 6'!$G$34>0,1,\"\")","v":1},{"$f":"IF('Aufgebot 6'!$G$34>0,2,\"\")","v":2},{"$f":"IF('Aufgebot 6'!$G$34=3,3,\"\")","v":""}]
["B",{"$nulls":4},"B"]
[]
[" Ergebnis    (A:B) ",{"$nulls":4},"1. Satz",null,null,"2. Satz",null,null,"3. Satz",null,null,"4. Satz",null,null,"5. Satz",null,null,null,"6. Satz",null,null,"7. Satz",null,null,"8. Satz",null,null,"9. Satz"]
[{"$nulls":6},":",null,null,":",null,null,":",null,null,":",null,null,":",null,null,null,":",null,null,":",null,null,":",null,null,":"]
["Sieger",{"$nulls":24},"Total Punkte",{"$nulls":4},"Endstand (Sätze)"]
[{"$nulls":25},":",{"$nulls":4},":"]
[" Für die Richtigkeit der Eintragungen"]
[" Schiedsrichter:",{"$nulls":16},"Spielführer A:"]
[" Anschreiber:",{"$nulls":16}," Spielführer B:"]
["Mit sportlichen Grüssen\nSwiss Faustball CUPKO\nBruno Pabst (Präsident)",{"$nulls":23},"Thundorf,",{"$nulls":5},{"$f":"TODAY()","v":"2025-08-28"}]

{"sheet":"Aufgebot 7","index":36,"n_rows":48,"n_cols":26,"rows_kept":48,"cut":false,"hidden":true,"merged":[[41,0,41,2],[41,3,41,20],[41,21,41,23],[41,24,41,26],[50,2,50,8],[43,0,43,26],[44,0,44,8],[44,9,44,15],[44,17,44,24],[47,0,47,19],[47,20,47,22],[47,23,47,26],[36,0,36,26],[37,0,37,26],[38,0,38,26],[39,0,39,2],[39,3,39,5],[39,6,39,8],[39,9,39,11],[39,12,39,14],[39,15,39,17],[39,18,39,20],[39,21,39,23],[39,24,39,26],[35,0,35,5],[35,6,35,26],[26,35,26,38],[28,0,28,26],[30,0,30,26],[31,0,31,3],[31,4,31,16],[31,17,31,26],[31,28,31,29],[32,0,32,26],[33,6,33,7],[33,12,33,14],[33,28,33,29],[34,0,34,26],[26,6,26,8],[26,12,26,18],[26,19,26,20],[26,21,26,22],[26,24,26,26],[16,24,16,26],[19,0,19,26],[22,0,22,11],[22,12,22,14],[24,0,24,2],[18,0,18,5],[18,6,18,11],[18,12,18,16],[18,17,18,26],[16,0,16,11],[16,12,16,15],[16,16,16,18],[16,20,16,23],[13,0,13,5],[13,6,13,10],[13,11,13,18],[13,19,13,26],[14,0,14,5],[14,6,14,10],[14,11,14,18],[14,19,14,26],[10,0,10,5],[10,6,10,12],[10,14,10,19],[10,20,10,26],[11,0,11,12],[11,14,11,26],[8,0,8,12],[8,14,8,26],[9,0,9,5],[9,6,9,12],[9,14,9,19],[9,20,9,26],[6,0,6,12],[6,13,7,13],[6,14,6,26],[6,28,6,29],[6,30,6,31],[7,14,7,26],[0,4,0,21],[2,0,2,26],[2,28,2,30],[4,0,4,4],[4,5,4,11],[4,12,4,13],[4,14,4,19],[4,20,4,23]]}
[{"$nulls":4},{"$f":"Eigaben!Z3","v":"37. Schweizer Cup Männer 2025"}]
[2,null,null,{"$f":"VLOOKUP(A2,Eigaben!Y8:AC14,5,0)","v":"1/16 Final "},{"$nulls":4},2]
["Aufgebot Mannschaften"]
[1]
[{"$f":"VLOOKUP(A2,Eigaben!Y8:AC14,5,0)","v":"1/16 Final "},{"$nulls":4},{"$f":"VLOOKUP($A$2,Eigaben!$Y$8:$AC$14,2,1)","v":"2025-05-05"},{"$nulls":6},"bis",null,{"$f":"VLOOKUP($A$2,Eigaben!$Y$8:$AB$14,3,1)","v":"2025-06-13"},{"$nulls":5},"Spiel - Nr.",null,null,null,7]
[{"$f":"Eigaben!F34","v":46},{"$nulls":13},{"$f":"Eigaben!G34","v":64}]
["Heim - Mannschaft",{"$nulls":13},"Gast - Mannschaft"]
[{"$f":"(VLOOKUP($A$6,Eigaben!$Y$17:$Z$103,2,0))","v":"SUS Widnau   ( 2. Liga F )"},{"$nulls":13},{"$f":"(VLOOKUP($O$6,Eigaben!$Y$17:$Z$103,2,0))","v":"STV Affeltrangen  ( NLA )"}]
[{"$f":"VLOOKUP($A$6,Eigaben!$Y$17:$AH$103,3,1)&\" \"&VLOOKUP(A6,Eigaben!Y17:AH103,4,1)","v":"Marco Nüesch"},{"$nulls":13},{"$f":"VLOOKUP($O$6,Eigaben!$Y$17:$AH$103,3,1)&\" \"&VLOOKUP($O$6,Eigaben!$Y$17:$AH$103,4,1)","v":"Andreas Ribi"}]
[{"$f":"VLOOKUP($A$6,Eigaben!$Y$17:$AH$103,5,1)","v":" "},{"$nulls":5},{"$f":"VLOOKUP($A$6,Eigaben!$Y$17:$AH$103,6,1)&\" \"&VLOOKUP(A6,Eigaben!$Y$17:$AH$103,7,1)","v":"   "},{"$nulls":7},{"$f":"VLOOKUP($O$6,Eigaben!$Y$17:$AH$103,5,1)","v":"Unterdorfstr 2b"},{"$nulls":5},{"$f":"VLOOKUP($O$6,Eigaben!$Y$17:$AV$103,6,1)&\" \"&VLOOKUP($O$6,Eigaben!$Y$17:$AV$103,7,1)","v":"8507 Hörhausen"}]
[{"$f":"IF(Eigaben!AF54=0,\"\",VLOOKUP($A$6,Eigaben!$Y$17:$AH$103,8,1))","v":" "},{"$nulls":5},{"$f":"IF(Eigaben!$AG$54=0,\"\",VLOOKUP($A$6,Eigaben!$Y$17:$AH$103,9,1))","v":"079 404 47 21"},{"$nulls":7},{"$f":"IF(Eigaben!AF55=0,\"\",VLOOKUP($O$6,Eigaben!$Y$17:$AH$103,8,1))","v":" "},{"$nulls":5},{"$f":"IF(Eigaben!$P$54=0,\"\",VLOOKUP($O$6,Eigaben!$Y$17:$AH$103,9,1))","v":"079 585 70 85"}]
[{"$f":"VLOOKUP($A$6,Eigaben!$Y$17:$AH$103,10,1)","v":"marco.nueesch@faustball-widnau.ch"},{"$nulls":13},{"$f":"VLOOKUP($O$6,Eigaben!$Y$17:$AH$103,10,1)","v":"faustball@stv-affeltrangen.ch "}]
[null,null,{"$f":"Eigaben!C34","v":7}]
["Datum",{"$nulls":5},"Zeit",{"$nulls":4},"Ort",{"$nulls":7},"Sportplatz"]
[{"$f":"IF(Eigaben!C28=0,\"\",VLOOKUP(C13,Eigaben!$C$28:$V$109,13,0))","v":"2025-06-03"},{"$nulls":5},{"$f":"IF(Eigaben!C28=0,\"\",VLOOKUP(C13,Eigaben!$C$28:$V$110,14,0))","v":"20:00:00"},{"$nulls":4},{"$f":"IF(Eigaben!C28=0,\"\",VLOOKUP(C13,Eigaben!$C$28:$V$1110,15,0))","v":"Widnau"},{"$nulls":7},{"$f":"IF(Eigaben!C28=0,\"\",VLOOKUP(C13,Eigaben!$C$28:$V$110,16,0))","v":"Lugwies"}]
[null,null,{"$f":"Eigaben!T34","v":11}]
["Aufgebot Schiedsrichter *"]
[]
[{"$f":"IF(C16=0,\"\",VLOOKUP(C16,Schiri_25!A2:L181,3,1)&\" \"&VLOOKUP(C16,Schiri_25!A2:L181,2,1))","v":"Richard Meyerhans"},{"$nulls":5},{"$f":"IF(C16=0,\"\",VLOOKUP(C16,Schiri_25!A2:L181,9,1))","v":"+41 79 748 52 87"},{"$nulls":5},{"$f":"IF(C16=0,\"\",IF(VLOOKUP(C16,Schiri_25!A2:M122,8,1)=0,\"\",VLOOKUP(C16,Schiri_25!A2:M122,8,1)))","v":""},{"$nulls":4},{"$f":"IF(C16=0,\"\",VLOOKUP(C16,Schiri_25!A2:L181,12,1))","v":"richi4fistball@bluewin.ch"}]
[]
["* Im Verhinderungsfall sofort Verbindungsaufnahme mit Bruno Pabst: 079 243 02 08"]
[]
["Eintreffen des Schiedsrichters:",{"$nulls":11},{"$f":"IF(G15=\"\",\"\",G15-\"00:15:00\")","v":"19:45:00"}]
[]
["Tenue:",null,null,"Offizielle Schiedsrichterausrüstung blau / schwarz"]
[]
["Taggeld:",{"$nulls":4},"Fr.","**",{"$nulls":5},"Fahrspesen",{"$nulls":6},"Fr",null,1,null,null,{"$f":"Eigaben!V34","v":13}]
[]
["Die Fahrspesen (einfache Fahrt, Fr. 1,00 pro Km)  werden durch die Heim-Mannschaft bezahlt. \n**  (Das Taggeld wird direkt durch die CUPKO ausbezahlt.)"]
[{"$nulls":5},{"$f":"Eigaben!C6","v":"A"}]
["Modus"]
["Spielmodus:",null,null,null,"5 Gewinnsätze bis 11 (max. 15 : 14)",{"$nulls":12},"Pause nach  4 Sätzen max 5 Min."]
[]
["Bonus-Punkte:",{"$nulls":5},{"$f":"Eigaben!S34","v":3}]
[]
["Durchführung:\n",{"$nulls":5},"Bei einer allfälligen Verschiebung muss spätestens 5 Stunden vor Spielbeginn die Gast-Mannschaft, der Schiedsrichter und deer Chef CUPKO per Telefon und SMS informiert werden."]
[]
["Resultatmeldung"]
[]
["1. Satz",null,null,"2. Satz",null,null,"3. Satz",null,null,"4. Satz",null,null,"5. Satz",null,null,"6. Satz",null,null,"7. Satz",null,null,"8. Satz",null,null,"9. Satz"]
[null,":",null,null,":",null,null,":",null,null,":",null,null,":",null,null,":",null,null,":",null,null,":",null,null,":"]
["Sieger",{"$nulls":20},"Sätze",null,null,":"]
[]
["Resultatmeldung bis spätestens 12 Uhr des Folgetages durch den Schiedsrichter  per E-Mail, SMS oder WhatsApp an  "]
["pabst@swissfaustball.ch",{"$nulls":16},"pabst.bruno@bluewin.ch"]
[]
[]
["Mit sportlichen Grüssen\nSwiss Faustball CUPKO\nBruno Pabst (Präsident)",{"$nulls":19},"Thundorf, ",null,null,{"$f":"TODAY()","v":"2025-08-28"}]

{"sheet":"Spielbericht 7","index":37,"n_rows":60,"n_cols":36,"rows_kept":60,"cut":false,"hidden":true,"merged":[[55,0,55,35],[56,0,56,16],[56,17,56,35],[57,0,57,16],[57,17,57,35],[59,0,61,23],[59,24,61,29],[59,30,61,35],[50,30,50,32],[50,33,51,35],[52,0,53,4],[52,25,52,29],[52,30,52,35],[53,25,53,29],[53,30,53,35],[50,11,50,13],[50,14,50,16],[50,17,50,20],[50,21,50,23],[50,24,50,26],[50,27,50,29],[35,2,36,2],[35,3,36,4],[50,8,50,10],[38,2,39,2],[38,3,39,4],[40,2,41,2],[40,3,41,4],[42,2,43,2],[42,3,43,4],[44,2,45,2],[44,3,45,4],[47,2,48,2],[47,3,48,4],[50,0,51,4],[25,13,25,15],[31,2,32,2],[31,3,32,4],[33,2,34,2],[33,3,34,4],[16,5,16,16],[16,23,16,34],[17,5,17,16],[17,23,17,34],[29,2,30,2],[29,3,30,4],[18,5,18,16],[18,23,18,34],[19,18,19,22],[20,18,20,22],[22,6,22,17],[22,27,22,35],[23,6,23,17],[23,18,23,23],[23,24,23,35],[25,0,25,5],[13,5,13,16],[13,23,13,34],[14,5,14,16],[14,23,14,34],[15,5,15,16],[15,23,15,34],[10,5,10,16],[10,23,10,34],[11,5,11,16],[11,23,11,34],[12,5,12,16],[12,23,12,34],[7,35,8,35],[8,5,8,16],[8,23,8,34],[9,5,9,16],[9,23,9,34],[7,0,7,5],[7,6,7,16],[7,17,8,17],[7,18,7,23],[7,24,7,34],[0,6,1,35],[3,6,3,28],[3,29,3,35],[5,0,5,3],[5,4,5,8],[5,9,5,10],[5,11,5,13],[5,14,5,17],[5,18,5,28],[5,29,5,32],[5,33,5,35]]}
[{"$nulls":6},{"$f":"'Aufgebot A'!E1","v":"37. Schweizer Cup Männer 2025"}]
[]
[]
[{"$nulls":6},"            Spielbericht",{"$nulls":22},{"$f":"'Aufgebot 7'!A5","v":"1/16 Final "}]
[]
["Datum:  ",null,null,null,{"$f":"'Aufgebot 7'!A15","v":"2025-06-03"},{"$nulls":4},"Zeit:",null,{"$f":"'Aufgebot 7'!G15","v":"20:00:00"},null,null,"Spielort:",null,null,null,{"$f":"'Aufgebot 7'!L15","v":"Widnau"},{"$nulls":10}," Spiel-Nr.:",null,null,null,{"$f":"'Aufgebot 7'!Y5","v":7}]
[]
["Mannschaft A:",{"$nulls":5},{"$f":"'Aufgebot 7'!A8","v":"SUS Widnau   ( 2. Liga F )"},{"$nulls":10},"Verw.","Mannschaft B:",{"$nulls":5},{"$f":"'Aufgebot 7'!O8","v":"STV Affeltrangen  ( NLA )"},{"$nulls":10},"Verw."]
["Nr.",null,"Spf.","Eins.","Jg.","Name/Vorname",{"$nulls":12},"Nr.",null,"Spf.","Eins.","Jg.","Name/Vorname"]
[{"$nulls":4},"","",{"$nulls":16},"",""]
[{"$nulls":4},"","",{"$nulls":10},"",{"$nulls":5},"","",{"$nulls":10},""]
[{"$nulls":4},"","",{"$nulls":10},"",{"$nulls":5},"","",{"$nulls":10},""]
[{"$nulls":4},"","",{"$nulls":10},"",{"$nulls":5},"","",{"$nulls":10},""]
[{"$nulls":4},"","",{"$nulls":10},"",{"$nulls":5},"","",{"$nulls":10},""]
[{"$nulls":4},"","",{"$nulls":10},"",{"$nulls":5},"","",{"$nulls":10},""]
[{"$nulls":4},"","",{"$nulls":10},"",{"$nulls":5},"","",{"$nulls":10},""]
[{"$nulls":4},"","",{"$nulls":10},"",{"$nulls":5},"","",{"$nulls":10},""]
[{"$nulls":4},"","",{"$nulls":10},"",{"$nulls":5},"","",{"$nulls":10},""]
[{"$nulls":4},"","",{"$nulls":16},"",""]
[" Trainer:",{"$nulls":5},"",{"$nulls":11},"Trainer:",{"$nulls":5},""]
[" Betreuer:",{"$nulls":5},"",{"$nulls":11}," Betreuer:"]
[]
[" Schiedsrichter:",{"$nulls":5},{"$f":"'Aufgebot 7'!A19&\" \"&'Aufgebot 7'!G19","v":"Richard Meyerhans +41 79 748 52 87"},{"$nulls":11},"Heimmannschaft Verantw.",{"$nulls":8},{"$f":"'Aufgebot 7'!A9","v":"Marco Nüesch"}]
[" Linienrichter:",{"$nulls":17}," Linienrichter:"]
[]
["Ballwahl/Anspiel:",{"$nulls":6},"1. Satz:","A",null,"B",null,null,"5. Satz:",null,null,"A",null,"B"]
[]
["Ausserordentliche Vorfälle:  ",{"$nulls":6},"","Protest/Einsprache",null,null,null,"","Ausschluss",null,null,"","Sonstiges",null,null,null,"(Ankreuzen + Bericht mit Unterschrift auf Rückseite)"]
[]
["A",null,"Timeout","1. Satz",null,"A",{"$f":"IF('Aufgebot 7'!$G$34>0,1,\"\")","v":1},{"$f":"IF('Aufgebot 7'!$G$34>0,2,\"\")","v":2},{"$f":"IF('Aufgebot 7'!$G$34=3,3,\"\")","v":3}]
["B",{"$nulls":4},"B"]
["A",null,"Timeout","2. Satz",null,"A",{"$f":"IF('Aufgebot 7'!$G$34>0,1,\"\")","v":1},{"$f":"IF('Aufgebot 7'!$G$34>0,2,\"\")","v":2},{"$f":"IF('Aufgebot 7'!$G$34=3,3,\"\")","v":3}]
["B",{"$nulls":4},"B"]
["A",null,"Timeout","3. Satz",null,"A",{"$f":"IF('Aufgebot 7'!$G$34>0,1,\"\")","v":1},{"$f":"IF('Aufgebot 7'!$G$34>0,2,\"\")","v":2},{"$f":"IF('Aufgebot 7'!$G$34=3,3,\"\")","v":3}]
["B",{"$nulls":4},"B"]
["A",null,"Timeout","4. Satz",null,"A",{"$f":"IF('Aufgebot 7'!$G$34>0,1,\"\")","v":1},{"$f":"IF('Aufgebot 7'!$G$34>0,2,\"\")","v":2},{"$f":"IF('Aufgebot 7'!$G$34=3,3,\"\")","v":3}]
["B",{"$nulls":4},"B"]
[]
["A",null,"Timeout","5. Satz",null,"A",{"$f":"IF('Aufgebot 7'!$G$34>0,1,\"\")","v":1},{"$f":"IF('Aufgebot 7'!$G$34>0,2,\"\")","v":2},{"$f":"IF('Aufgebot 7'!$G$34=3,3,\"\")","v":3}]
["B",{"$nulls":4},"B"]
["A",null,"Timeout","6. Satz",null,"A",{"$f":"IF('Aufgebot 7'!$G$34>0,1,\"\")","v":1},{"$f":"IF('Aufgebot 7'!$G$34>0,2,\"\")","v":2},{"$f":"IF('Aufgebot 7'!$G$34=3,3,\"\")","v":3}]
["B",{"$nulls":4},"B"]
["A",null,"Timeout","7. Satz",null,"A",{"$f":"IF('Aufgebot 7'!$G$34>0,1,\"\")","v":1},{"$f":"IF('Aufgebot 7'!$G$34>0,2,\"\")","v":2},{"$f":"IF('Aufgebot 7'!$G$34=3,3,\"\")","v":3}]
["B",{"$nulls":4},"B"]
["A",null,"Timeout","8. Satz",null,"A",{"$f":"IF('Aufgebot 7'!$G$34>0,1,\"\")","v":1},{"$f":"IF('Aufgebot 7'!$G$34>0,2,\"\")","v":2},{"$f":"IF('Aufgebot 7'!$G$34=3,3,\"\")","v":3}]
["B",{"$nulls":4},"B"]
[]
["A",null,"Timeout","9. Satz",null,"A",{"$f":"IF('Aufgebot 7'!$G$34>0,1,\"\")","v":1},{"$f":"IF('Aufgebot 7'!$G$34>0,2,\"\")","v":2},{"$f":"IF('Aufgebot 7'!$G$34=3,3,\"\")","v":3}]
["B",{"$nulls":4},"B"]
[]
[" Ergebnis    (A:B) ",{"$nulls":4},"1. Satz",null,null,"2. Satz",null,null,"3. Satz",null,null,"4. Satz",null,null,"5. Satz",null,null,null,"6. Satz",null,null,"7. Satz",null,null,"8. Satz",null,null,"9. Satz"]
[{"$nulls":6},":",null,null,":",null,null,":",null,null,":",null,null,":",null,null,null,":",null,null,":",null,null,":",null,null,":"]
["Sieger",{"$nulls":24},"Total Punkte",{"$nulls":4},"Endstand (Sätze)"]
[{"$nulls":25},":",{"$nulls":4},":"]
[]
[" Für die Richtigkeit der Eintragungen"]
[" Schiedsrichter:",{"$nulls":16},"Spielführer A:"]
[" Anschreiber:",{"$nulls":16}," Spielführer B:"]
[]
["Mit sportlichen Grüssen\nSwiss Faustball CUPKO\nBruno Pabst (Präsident)",{"$nulls":23},"Thundorf,",{"$nulls":5},{"$f":"TODAY()","v":"2025-08-28"}]

{"sheet":"Aufgebot 8","index":38,"n_rows":48,"n_cols":26,"rows_kept":48,"cut":false,"hidden":true,"merged":[[41,0,41,2],[41,3,41,20],[41,21,41,23],[41,24,41,26],[50,2,50,8],[43,0,43,26],[44,0,44,8],[44,9,44,15],[44,17,44,24],[47,0,47,19],[47,20,47,22],[47,23,47,26],[36,0,36,26],[37,0,37,26],[38,0,38,26],[39,0,39,2],[39,3,39,5],[39,6,39,8],[39,9,39,11],[39,12,39,14],[39,15,39,17],[39,18,39,20],[39,21,39,23],[39,24,39,26],[35,0,35,5],[35,6,35,26],[26,35,26,38],[28,0,28,26],[30,0,30,26],[31,0,31,3],[31,4,31,16],[31,17,31,26],[31,28,31,29],[32,0,32,26],[33,6,33,7],[33,12,33,14],[33,28,33,29],[34,0,34,26],[26,6,26,8],[26,12,26,18],[26,19,26,20],[26,21,26,22],[26,24,26,26],[16,24,16,26],[19,0,19,26],[22,0,22,11],[22,12,22,14],[24,0,24,2],[18,0,18,5],[18,6,18,11],[18,12,18,16],[18,17,18,26],[16,0,16,11],[16,12,16,15],[16,16,16,18],[16,20,16,23],[13,0,13,5],[13,6,13,10],[13,11,13,18],[13,19,13,26],[14,0,14,5],[14,6,14,10],[14,11,14,18],[14,19,14,26],[10,0,10,5],[10,6,10,12],[10,14,10,19],[10,20,10,26],[11,0,11,12],[11,14,11,26],[8,0,8,12],[8,14,8,26],[9,0,9,5],[9,6,9,12],[9,14,9,19],[9,20,9,26],[6,0,6,12],[6,13,7,13],[6,14,6,26],[6,28,6,29],[6,30,6,31],[7,14,7,26],[0,4,0,21],[2,0,2,26],[2,28,2,30],[4,0,4,4],[4,5,4,11],[4,12,4,13],[4,14,4,19],[4,20,4,23]]}
[{"$nulls":4},{"$f":"Eigaben!Z3","v":"37. Schweizer Cup Männer 2025"}]
[2,null,null,{"$f":"VLOOKUP(A2,Eigaben!Y8:AC14,5,0)","v":"1/16 Final "},{"$nulls":4},2]
["Aufgebot Mannschaften"]
[1]
[{"$f":"VLOOKUP(A2,Eigaben!Y8:AC14,5,0)","v":"1/16 Final "},{"$nulls":4},{"$f":"VLOOKUP($A$2,Eigaben!$Y$8:$AC$14,2,1)","v":"2025-05-05"},{"$nulls":6},"bis",null,{"$f":"VLOOKUP($A$2,Eigaben!$Y$8:$AB$14,3,1)","v":"2025-06-13"},{"$nulls":5},"Spiel - Nr.",null,null,null,8]
[{"$f":"Eigaben!F35","v":38},{"$nulls":13},{"$f":"Eigaben!G35","v":70}]
["Heim - Mannschaft",{"$nulls":13},"Gast - Mannschaft"]
[{"$f":"(VLOOKUP($A$6,Eigaben!$Y$17:$Z$103,2,0))","v":"TSV Waldkirch ( 3. Liga F )"},{"$nulls":13},{"$f":"(VLOOKUP($O$6,Eigaben!$Y$17:$Z$103,2,0))","v":"SUS Widnau   ( NLA )"}]
[{"$f":"VLOOKUP($A$6,Eigaben!$Y$17:$AH$103,3,1)&\" \"&VLOOKUP(A6,Eigaben!Y17:AH103,4,1)","v":"Stefan  Zielger"},{"$nulls":13},{"$f":"VLOOKUP($O$6,Eigaben!$Y$17:$AH$103,3,1)&\" \"&VLOOKUP($O$6,Eigaben!$Y$17:$AH$103,4,1)","v":"Remo Pinchera"}]
[{"$f":"VLOOKUP($A$6,Eigaben!$Y$17:$AH$103,5,1)","v":"Birkenstr 6"},{"$nulls":5},{"$f":"VLOOKUP($A$6,Eigaben!$Y$17:$AH$103,6,1)&\" \"&VLOOKUP(A6,Eigaben!$Y$17:$AH$103,7,1)","v":"9205 Waldkirch"},{"$nulls":7},{"$f":"VLOOKUP($O$6,Eigaben!$Y$17:$AH$103,5,1)","v":" "},{"$nulls":5},{"$f":"VLOOKUP($O$6,Eigaben!$Y$17:$AV$103,6,1)&\" \"&VLOOKUP($O$6,Eigaben!$Y$17:$AV$103,7,1)","v":"   "}]
[{"$f":"IF(Eigaben!AF54=0,\"\",VLOOKUP($A$6,Eigaben!$Y$17:$AH$103,8,1))","v":" "},{"$nulls":5},{"$f":"IF(Eigaben!$AG$54=0,\"\",VLOOKUP($A$6,Eigaben!$Y$17:$AH$103,9,1))","v":"076 824 52 22"},{"$nulls":7},{"$f":"IF(Eigaben!AF55=0,\"\",VLOOKUP($O$6,Eigaben!$Y$17:$AH$103,8,1))","v":" "},{"$nulls":5},{"$f":"IF(Eigaben!$AG$54=0,\"\",VLOOKUP($O$6,Eigaben!$Y$17:$AH$103,9,1))","v":"079 404 47 21"}]
[{"$f":"VLOOKUP($A$6,Eigaben!$Y$17:$AH$103,10,1)","v":"ziege81@icloud.com"},{"$nulls":13},{"$f":"VLOOKUP($O$6,Eigaben!$Y$17:$AH$103,10,1)","v":"remo.pinchera@faustball-widnau.ch"}]
[null,null,{"$f":"Eigaben!C35","v":8}]
["Datum",{"$nulls":5},"Zeit",{"$nulls":4},"Ort",{"$nulls":7},"Sportplatz"]
[{"$f":"IF(Eigaben!C35=0,\"\",VLOOKUP(C13,Eigaben!$C$35:$V$109,13,0))","v":"2025-05-28"},{"$nulls":5},{"$f":"IF(Eigaben!C35=0,\"\",VLOOKUP(C13,Eigaben!$C$35:$V$110,14,0))","v":"19:30:00"},{"$nulls":4},{"$f":"IF(Eigaben!C35=0,\"\",VLOOKUP(C13,Eigaben!$C$35:$V$1110,15,0))","v":"9205 Waldkirch"},{"$nulls":7},{"$f":"IF(Eigaben!C35=0,\"\",VLOOKUP(C13,Eigaben!$C$35:$V$110,16,0))","v":"Kunstras Sportpl Breiten"}]
[null,null,{"$f":"Eigaben!T35","v":9}]
["Aufgebot Schiedsrichter *"]
[]
[{"$f":"IF(C16=0,\"\",VLOOKUP(C16,Schiri_25!A2:L181,3,1)&\" \"&VLOOKUP(C16,Schiri_25!A2:L181,2,1))","v":"Reto Mähr"},{"$nulls":5},{"$f":"IF(C16=0,\"\",VLOOKUP(C16,Schiri_25!A2:L181,9,1))","v":"+41 79 452 77 62"},{"$nulls":5},{"$f":"IF(C16=0,\"\",IF(VLOOKUP(C16,Schiri_25!A2:M122,8,1)=0,\"\",VLOOKUP(C16,Schiri_25!A2:M122,8,1)))","v":""},{"$nulls":4},{"$f":"IF(C16=0,\"\",VLOOKUP(C16,Schiri_25!A2:L181,12,1))","v":"rmaehr@bluewin.ch"}]
[]
["* Im Verhinderungsfall sofort Verbindungsaufnahme mit Bruno Pabst: 079 243 02 08"]
[]
["Eintreffen des Schiedsrichters:",{"$nulls":11},{"$f":"IF(G15=\"\",\"\",G15-\"00:15:00\")","v":"19:15:00"}]
[]
["Tenue:",null,null,"Offizielle Schiedsrichterausrüstung blau / schwarz"]
[]
["Taggeld:",{"$nulls":4},"Fr.","**",{"$nulls":5},"Fahrspesen",{"$nulls":6},"Fr",null,1,null,null,{"$f":"Eigaben!V35","v":17}]
[]
["Die Fahrspesen (einfache Fahrt, Fr. 1,00 pro Km)  werden durch die Heim-Mannschaft bezahlt. \n**  (Das Taggeld wird direkt durch die CUPKO ausbezahlt.)"]
[{"$nulls":5},{"$f":"Eigaben!C6","v":"A"}]
["Modus"]
["Spielmodus:",null,null,null,"5 Gewinnsätze bis 11 (max. 15 : 14)",{"$nulls":12},"Pause nach  4 Sätzen max 5 Min."]
[]
["Bonus-Punkte:",{"$nulls":5},{"$f":"Eigaben!S35","v":3}]
[]
["Durchführung:\n",{"$nulls":5},"Bei einer allfälligen Verschiebung muss spätestens 5 Stunden vor Spielbeginn die Gast-Mannschaft, der Schiedsrichter und deer Chef CUPKO per Telefon und SMS informiert werden."]
[]
["Resultatmeldung"]
[]
["1. Satz",null,null,"2. Satz",null,null,"3. Satz",null,null,"4. Satz",null,null,"5. Satz",null,null,"6. Satz",null,null,"7. Satz",null,null,"8. Satz",null,null,"9. Satz"]
[null,":",null,null,":",null,null,":",null,null,":",null,null,":",null,null,":",null,null,":",null,null,":",null,null,":"]
["Sieger",{"$nulls":20},"Sätze",null,null,":"]
[]
["Resultatmeldung bis spätestens 12 Uhr des Folgetages durch den Schiedsrichter  per E-Mail, SMS oder WhatsApp an  "]
["pabst@swissfaustball.ch",{"$nulls":16},"pabst.bruno@bluewin.ch"]
[]
[]
["Mit sportlichen Grüssen\nSwiss Faustball CUPKO\nBruno Pabst (Präsident)",{"$nulls":19},"Thundorf, ",null,null,{"$f":"TODAY()","v":"2025-08-28"}]

{"sheet":"Spielbericht 8","index":39,"n_rows":60,"n_cols":36,"rows_kept":60,"cut":false,"hidden":true,"merged":[[55,0,55,35],[56,0,56,16],[56,17,56,35],[57,0,57,16],[57,17,57,35],[59,0,61,23],[59,24,61,29],[59,30,61,35],[50,30,50,32],[50,33,51,35],[52,0,53,4],[52,25,52,29],[52,30,52,35],[53,25,53,29],[53,30,53,35],[50,11,50,13],[50,14,50,16],[50,17,50,20],[50,21,50,23],[50,24,50,26],[50,27,50,29],[35,2,36,2],[35,3,36,4],[50,8,50,10],[38,2,39,2],[38,3,39,4],[40,2,41,2],[40,3,41,4],[42,2,43,2],[42,3,43,4],[44,2,45,2],[44,3,45,4],[47,2,48,2],[47,3,48,4],[50,0,51,4],[25,13,25,15],[31,2,32,2],[31,3,32,4],[33,2,34,2],[33,3,34,4],[16,5,16,16],[16,23,16,34],[17,5,17,16],[17,23,17,34],[29,2,30,2],[29,3,30,4],[18,5,18,16],[18,23,18,34],[19,18,19,22],[20,18,20,22],[22,6,22,17],[22,27,22,35],[23,6,23,17],[23,18,23,23],[23,24,23,35],[25,0,25,5],[13,5,13,16],[13,23,13,34],[14,5,14,16],[14,23,14,34],[15,5,15,16],[15,23,15,34],[10,5,10,16],[10,23,10,34],[11,5,11,16],[11,23,11,34],[12,5,12,16],[12,23,12,34],[7,35,8,35],[8,5,8,16],[8,23,8,34],[9,5,9,16],[9,23,9,34],[7,0,7,5],[7,6,7,16],[7,17,8,17],[7,18,7,23],[7,24,7,34],[0,6,1,35],[3,6,3,28],[3,29,3,35],[5,0,5,3],[5,4,5,8],[5,9,5,10],[5,11,5,13],[5,14,5,17],[5,18,5,28],[5,29,5,32],[5,33,5,35]]}
[{"$nulls":6},{"$f":"'Aufgebot A'!E1","v":"37. Schweizer Cup Männer 2025"}]
[]
[]
[{"$nulls":6},"            Spielbericht",{"$nulls":22},{"$f":"'Aufgebot 8'!A5","v":"1/16 Final "}]
[]
["Datum:  ",null,null,null,{"$f":"'Aufgebot 8'!A15","v":"2025-05-28"},{"$nulls":4},"Zeit:",null,{"$f":"'Aufgebot 8'!G15","v":"19:30:00"},null,null,"Spielort:",null,null,null,{"$f":"'Aufgebot 8'!L15","v":"9205 Waldkirch"},{"$nulls":10}," Spiel-Nr.:",null,null,null,{"$f":"'Aufgebot 8'!Y5","v":8}]
[]
["Mannschaft A:",{"$nulls":5},{"$f":"'Aufgebot 8'!A8","v":"TSV Waldkirch ( 3. Liga F )"},{"$nulls":10},"Verw.","Mannschaft B:",{"$nulls":5},{"$f":"'Aufgebot 8'!O8","v":"SUS Widnau   ( NLA )"},{"$nulls":10},"Verw."]
["Nr.",null,"Spf.","Eins.","Jg.","Name/Vorname",{"$nulls":12},"Nr.",null,"Spf.","Eins.","Jg.","Name/Vorname"]
[{"$nulls":4},"","",{"$nulls":16},"",""]
[{"$nulls":4},"","",{"$nulls":10},"",{"$nulls":5},"","",{"$nulls":10},""]
[{"$nulls":4},"","",{"$nulls":10},"",{"$nulls":5},"","",{"$nulls":10},""]
[{"$nulls":4},"","",{"$nulls":10},"",{"$nulls":5},"","",{"$nulls":10},""]
[{"$nulls":4},"","",{"$nulls":10},"",{"$nulls":5},"","",{"$nulls":10},""]
[{"$nulls":4},"","",{"$nulls":10},"",{"$nulls":5},"","",{"$nulls":10},""]
[{"$nulls":4},"","",{"$nulls":10},"",{"$nulls":5},"","",{"$nulls":10},""]
[{"$nulls":4},"","",{"$nulls":10},"",{"$nulls":5},"","",{"$nulls":10},""]
[{"$nulls":4},"","",{"$nulls":10},"",{"$nulls":5},"","",{"$nulls":10},""]
[{"$nulls":4},"","",{"$nulls":16},"",""]
[" Trainer:",{"$nulls":5},"",{"$nulls":11},"Trainer:",{"$nulls":5},""]
[" Betreuer:",{"$nulls":5},"",{"$nulls":11}," Betreuer:"]
[]
[" Schiedsrichter:",{"$nulls":5},{"$f":"'Aufgebot 8'!A19&\" \"&'Aufgebot 8'!G19","v":"Reto Mähr +41 79 452 77 62"},{"$nulls":11},"Heimmannschaft Verantw.",{"$nulls":8},{"$f":"'Aufgebot 8'!A9","v":"Stefan  Zielger"}]
[" Linienrichter:",{"$nulls":17}," Linienrichter:"]
[]
["Ballwahl/Anspiel:",{"$nulls":6},"1. Satz:","A",null,"B",null,null,"5. Satz:",null,null,"A",null,"B"]
[]
["Ausserordentliche Vorfälle:  ",{"$nulls":6},"","Protest/Einsprache",null,null,null,"","Ausschluss",null,null,"","Sonstiges",null,null,null,"(Ankreuzen + Bericht mit Unterschrift auf Rückseite)"]
[]
["A",null,"Timeout","1. Satz",null,"A",{"$f":"IF('Aufgebot 8'!$G$34>0,1,\"\")","v":1},{"$f":"IF('Aufgebot 8'!$G$34>0,2,\"\")","v":2},{"$f":"IF('Aufgebot 8'!$G$34=3,3,\"\")","v":3}]
["B",{"$nulls":4},"B"]
["A",null,"Timeout","2. Satz",null,"A",{"$f":"IF('Aufgebot 8'!$G$34>0,1,\"\")","v":1},{"$f":"IF('Aufgebot 8'!$G$34>0,2,\"\")","v":2},{"$f":"IF('Aufgebot 8'!$G$34=3,3,\"\")","v":3}]
["B",{"$nulls":4},"B"]
["A",null,"Timeout","3. Satz",null,"A",{"$f":"IF('Aufgebot 8'!$G$34>0,1,\"\")","v":1},{"$f":"IF('Aufgebot 8'!$G$34>0,2,\"\")","v":2},{"$f":"IF('Aufgebot 8'!$G$34=3,3,\"\")","v":3}]
["B",{"$nulls":4},"B"]
["A",null,"Timeout","4. Satz",null,"A",{"$f":"IF('Aufgebot 8'!$G$34>0,1,\"\")","v":1},{"$f":"IF('Aufgebot 8'!$G$34>0,2,\"\")","v":2},{"$f":"IF('Aufgebot 8'!$G$34=3,3,\"\")","v":3}]
["B",{"$nulls":4},"B"]
[]
["A",null,"Timeout","5. Satz",null,"A",{"$f":"IF('Aufgebot 8'!$G$34>0,1,\"\")","v":1},{"$f":"IF('Aufgebot 8'!$G$34>0,2,\"\")","v":2},{"$f":"IF('Aufgebot 8'!$G$34=3,3,\"\")","v":3}]
["B",{"$nulls":4},"B"]
["A",null,"Timeout","6. Satz",null,"A",{"$f":"IF('Aufgebot 8'!$G$34>0,1,\"\")","v":1},{"$f":"IF('Aufgebot 8'!$G$34>0,2,\"\")","v":2},{"$f":"IF('Aufgebot 8'!$G$34=3,3,\"\")","v":3}]
["B",{"$nulls":4},"B"]
["A",null,"Timeout","7. Satz",null,"A",{"$f":"IF('Aufgebot 8'!$G$34>0,1,\"\")","v":1},{"$f":"IF('Aufgebot 8'!$G$34>0,2,\"\")","v":2},{"$f":"IF('Aufgebot 8'!$G$34=3,3,\"\")","v":3}]
["B",{"$nulls":4},"B"]
["A",null,"Timeout","8. Satz",null,"A",{"$f":"IF('Aufgebot 8'!$G$34>0,1,\"\")","v":1},{"$f":"IF('Aufgebot 8'!$G$34>0,2,\"\")","v":2},{"$f":"IF('Aufgebot 8'!$G$34=3,3,\"\")","v":3}]
["B",{"$nulls":4},"B"]
[]
["A",null,"Timeout","9. Satz",null,"A",{"$f":"IF('Aufgebot 8'!$G$34>0,1,\"\")","v":1},{"$f":"IF('Aufgebot 8'!$G$34>0,2,\"\")","v":2},{"$f":"IF('Aufgebot 8'!$G$34=3,3,\"\")","v":3}]
["B",{"$nulls":4},"B"]
[]
[" Ergebnis    (A:B) ",{"$nulls":4},"1. Satz",null,null,"2. Satz",null,null,"3. Satz",null,null,"4. Satz",null,null,"5. Satz",null,null,null,"6. Satz",null,null,"7. Satz",null,null,"8. Satz",null,null,"9. Satz"]
[{"$nulls":6},":",null,null,":",null,null,":",null,null,":",null,null,":",null,null,null,":",null,null,":",null,null,":",null,null,":"]
["Sieger",{"$nulls":24},"Total Punkte",{"$nulls":4},"Endstand (Sätze)"]
[{"$nulls":25},":",{"$nulls":4},":"]
[]
[" Für die Richtigkeit der Eintragungen"]
[" Schiedsrichter:",{"$nulls":16},"Spielführer A:"]
[" Anschreiber:",{"$nulls":16}," Spielführer B:"]
[]
["Mit sportlichen Grüssen\nSwiss Faustball CUPKO\nBruno Pabst (Präsident)",{"$nulls":23},"Thundorf,",{"$nulls":5},{"$f":"TODAY()","v":"2025-08-28"}]

{"sheet":"Aufgebot 9","index":40,"n_rows":48,"n_cols":26,"rows_kept":48,"cut":false,"hidden":true,"merged":[[41,0,41,2],[41,3,41,20],[41,21,41,23],[41,24,41,26],[50,2,50,8],[43,0,43,26],[44,0,44,8],[44,9,44,15],[44,17,44,24],[47,0,47,19],[47,20,47,22],[47,23,47,26],[36,0,36,26],[37,0,37,26],[38,0,38,26],[39,0,39,2],[39,3,39,5],[39,6,39,8],[39,9,39,11],[39,12,39,14],[39,15,39,17],[39,18,39,20],[39,21,39,23],[39,24,39,26],[35,0,35,5],[35,6,35,26],[26,35,26,38],[28,0,28,26],[30,0,30,26],[31,0,31,3],[31,4,31,16],[31,17,31,26],[31,28,31,29],[32,0,32,26],[33,6,33,7],[33,12,33,14],[33,28,33,29],[34,0,34,26],[26,6,26,8],[26,12,26,18],[26,19,26,20],[26,21,26,22],[26,24,26,26],[16,24,16,26],[19,0,19,26],[22,0,22,11],[22,12,22,14],[24,0,24,2],[18,0,18,5],[18,6,18,11],[18,12,18,16],[18,17,18,26],[16,0,16,11],[16,12,16,15],[16,16,16,18],[16,20,16,23],[13,0,13,5],[13,6,13,10],[13,11,13,18],[13,19,13,26],[14,0,14,5],[14,6,14,10],[14,11,14,18],[14,19,14,26],[10,0,10,5],[10,6,10,12],[10,14,10,19],[10,20,10,26],[11,0,11,12],[11,14,11,26],[8,0,8,12],[8,14,8,26],[9,0,9,5],[9,6,9,12],[9,14,9,19],[9,20,9,26],[6,0,6,12],[6,13,7,13],[6,14,6,26],[6,28,6,29],[6,30,6,31],[7,14,7,26],[0,4,0,21],[2,0,2,26],[2,28,2,30],[4,0,4,4],[4,5,4,11],[4,12,4,13],[4,14,4,19],[4,20,4,23]]}
[{"$nulls":4},{"$f":"Eigaben!Z3","v":"37. Schweizer Cup Männer 2025"}]
[2,null,null,{"$f":"VLOOKUP(A2,Eigaben!Y8:AC14,5,0)","v":"1/16 Final "},{"$nulls":4},2]
["Aufgebot Mannschaften"]
[1]
[{"$f":"VLOOKUP(A2,Eigaben!Y8:AC14,5,0)","v":"1/16 Final "},{"$nulls":4},{"$f":"VLOOKUP($A$2,Eigaben!$Y$8:$AC$14,2,1)","v":"2025-05-05"},{"$nulls":6},"bis",null,{"$f":"VLOOKUP($A$2,Eigaben!$Y$8:$AB$14,3,1)","v":"2025-06-13"},{"$nulls":5},"Spiel - Nr.",null,null,null,9]
[{"$f":"Eigaben!F36","v":51},{"$nulls":13},{"$f":"Eigaben!G36","v":68}]
["Heim - Mannschaft",{"$nulls":13},"Gast - Mannschaft"]
[{"$f":"(VLOOKUP($A$6,Eigaben!$Y$17:$Z$103,2,0))","v":"STV Spreitenbach 1 ( 1. Liga W )"},{"$nulls":13},{"$f":"(VLOOKUP($O$6,Eigaben!$Y$17:$Z$103,2,0))","v":"STV Oberentfelden   ( NLA )"}]
[{"$f":"VLOOKUP($A$6,Eigaben!$Y$17:$AH$103,3,1)&\" \"&VLOOKUP(A6,Eigaben!Y17:AH103,4,1)","v":"Thomas Isenschmid"},{"$nulls":13},{"$f":"VLOOKUP($O$6,Eigaben!$Y$17:$AH$103,3,1)&\" \"&VLOOKUP($O$6,Eigaben!$Y$17:$AH$103,4,1)","v":"Christian Suter"}]
[{"$f":"VLOOKUP($A$6,Eigaben!$Y$17:$AH$103,5,1)","v":" "},{"$nulls":5},{"$f":"VLOOKUP($A$6,Eigaben!$Y$17:$AH$103,6,1)&\" \"&VLOOKUP(A6,Eigaben!$Y$17:$AH$103,7,1)","v":"   "},{"$nulls":7},{"$f":"VLOOKUP($O$6,Eigaben!$Y$17:$AH$103,5,1)","v":"Aeppenhaldenstr 3b"},{"$nulls":5},{"$f":"VLOOKUP($O$6,Eigaben!$Y$17:$AV$103,6,1)&\" \"&VLOOKUP($O$6,Eigaben!$Y$17:$AV$103,7,1)","v":"4800 Zofingen"}]
[{"$f":"IF(Eigaben!AF54=0,\"\",VLOOKUP($A$6,Eigaben!$Y$17:$AH$103,8,1))","v":" "},{"$nulls":5},{"$f":"IF(Eigaben!$AG$54=0,\"\",VLOOKUP($A$6,Eigaben!$Y$17:$AH$103,9,1))","v":"079 481 86 81"},{"$nulls":7},{"$f":"IF(Eigaben!AF55=0,\"\",VLOOKUP($O$6,Eigaben!$Y$17:$AH$103,8,1))","v":" "},{"$nulls":5},{"$f":"IF(Eigaben!$AG$84=0,\"\",VLOOKUP($O$6,Eigaben!$Y$17:$AH$103,9,1))","v":"079 476 04 32"}]
[{"$f":"VLOOKUP($A$6,Eigaben!$Y$17:$AH$103,10,1)","v":"thomas@isenschmid.com"},{"$nulls":13},{"$f":"VLOOKUP($O$6,Eigaben!$Y$17:$AH$103,10,1)","v":"christian.suter@faustballcenter.ch"}]
[null,null,{"$f":"Eigaben!C36","v":9}]
["Datum",{"$nulls":5},"Zeit",{"$nulls":4},"Ort",{"$nulls":7},"Sportplatz"]
[{"$f":"IF(Eigaben!C36=0,\"\",VLOOKUP(C13,Eigaben!$C$28:$V$109,13,0))","v":"2025-05-14"},{"$nulls":5},{"$f":"IF(Eigaben!C36=0,\"\",VLOOKUP(C13,Eigaben!$C$28:$V$110,14,0))","v":"19:30:00"},{"$nulls":4},{"$f":"IF(Eigaben!C36=0,\"\",VLOOKUP(C13,Eigaben!$C$28:$V$110,15,0))","v":"Spreitenbach"},{"$nulls":7},{"$f":"IF(Eigaben!C36=0,\"\",VLOOKUP(C13,Eigaben!C28:V110,16,0))","v":"Schulanlage Seefeld"}]
[null,null,{"$f":"Eigaben!T36","v":25}]
["Aufgebot Schiedsrichter *"]
[]
[{"$f":"IF(C16=0,\"\",VLOOKUP(C16,Schiri_25!A2:L181,3,1)&\" \"&VLOOKUP(C16,Schiri_25!A2:L181,2,1))","v":"Rolf Häner"},{"$nulls":5},{"$f":"IF(C16=0,\"\",VLOOKUP(C16,Schiri_25!A2:L181,9,1))","v":"+41 76 465 99 66"},{"$nulls":5},{"$f":"IF(C16=0,\"\",IF(VLOOKUP(C16,Schiri_25!A2:M122,8,1)=0,\"\",VLOOKUP(C16,Schiri_25!A2:M122,8,1)))","v":""},{"$nulls":4},{"$f":"IF(C16=0,\"\",VLOOKUP(C16,Schiri_25!A2:L181,12,1))","v":"haener.rolf@bluewin.ch"}]
[]
["* Im Verhinderungsfall sofort Verbindungsaufnahme mit Bruno Pabst: 079 243 02 08"]
[]
["Eintreffen des Schiedsrichters:",{"$nulls":11},{"$f":"IF(G15=\"\",\"\",G15-\"00:15:00\")","v":"19:15:00"}]
[]
["Tenue:",null,null,"Offizielle Schiedsrichterausrüstung gelb / schwarz",{"$nulls":8},"blau"]
[]
["Taggeld:",{"$nulls":4},"Fr.","**",{"$nulls":5},"Fahrspesen",{"$nulls":6},"Fr",null,1,null,null,{"$f":"Eigaben!V36","v":17}]
[]
["Die Fahrspesen (einfache Fahrt, Fr. 1,00 pro Km)  werden durch die Heim-Mannschaft bezahlt. \n**  (Das Taggeld wird direkt durch die CUPKO ausbezahlt.)"]
[{"$nulls":5},{"$f":"Eigaben!C6","v":"A"}]
["Modus"]
["Spielmodus:",null,null,null,"5 Gewinnsätze bis 11 (max. 15 : 14)",{"$nulls":12},"Pause nach  4 Sätzen max 5 Min."]
[]
["Bonus-Punkte:",{"$nulls":5},{"$f":"Eigaben!S36","v":3}]
[]
["Durchführung:\n",{"$nulls":5},"Bei einer allfälligen Verschiebung muss spätestens 5 Stunden vor Spielbeginn die Gast-Mannschaft, der Schiedsrichter und deer Chef CUPKO per Telefon und SMS informiert werden."]
[]
["Resultatmeldung"]
[]
["1. Satz",null,null,"2. Satz",null,null,"3. Satz",null,null,"4. Satz",null,null,"5. Satz",null,null,"6. Satz",null,null,"7. Satz",null,null,"8. Satz",null,null,"9. Satz"]
[null,":",null,null,":",null,null,":",null,null,":",null,null,":",null,null,":",null,null,":",null,null,":",null,null,":"]
["Sieger",{"$nulls":20},"Sätze",null,null,":"]
[]
["Resultatmeldung bis spätestens 12 Uhr des Folgetages durch den Schiedsrichter  per E-Mail, SMS oder WhatsApp an  "]
["pabst@swissfaustball.ch",{"$nulls":16},"pabst.bruno@bluewin.ch"]
[]
[]
["Mit sportlichen Grüssen\nSwiss Faustball CUPKO\nBruno Pabst (Präsident)",{"$nulls":19},"Thundorf, ",null,null,{"$f":"TODAY()","v":"2025-08-28"}]

{"sheet":"Spielbericht 9","index":41,"n_rows":60,"n_cols":36,"rows_kept":60,"cut":false,"hidden":true,"merged":[[55,0,55,35],[56,0,56,16],[56,17,56,35],[57,0,57,16],[57,17,57,35],[59,0,61,23],[59,24,61,29],[59,30,61,35],[50,30,50,32],[50,33,51,35],[52,0,53,4],[52,25,52,29],[52,30,52,35],[53,25,53,29],[53,30,53,35],[50,11,50,13],[50,14,50,16],[50,17,50,20],[50,21,50,23],[50,24,50,26],[50,27,50,29],[35,2,36,2],[35,3,36,4],[50,8,50,10],[38,2,39,2],[38,3,39,4],[40,2,41,2],[40,3,41,4],[42,2,43,2],[42,3,43,4],[44,2,45,2],[44,3,45,4],[47,2,48,2],[47,3,48,4],[50,0,51,4],[25,13,25,15],[31,2,32,2],[31,3,32,4],[33,2,34,2],[33,3,34,4],[16,5,16,16],[16,23,16,34],[17,5,17,16],[17,23,17,34],[29,2,30,2],[29,3,30,4],[18,5,18,16],[18,23,18,34],[19,18,19,22],[20,18,20,22],[22,6,22,17],[22,27,22,35],[23,6,23,17],[23,18,23,23],[23,24,23,35],[25,0,25,5],[13,5,13,16],[13,23,13,34],[14,5,14,16],[14,23,14,34],[15,5,15,16],[15,23,15,34],[10,5,10,16],[10,23,10,34],[11,5,11,16],[11,23,11,34],[12,5,12,16],[12,23,12,34],[7,35,8,35],[8,5,8,16],[8,23,8,34],[9,5,9,16],[9,23,9,34],[7,0,7,5],[7,6,7,16],[7,17,8,17],[7,18,7,23],[7,24,7,34],[0,6,1,35],[3,6,3,28],[3,29,3,35],[5,0,5,3],[5,4,5,8],[5,9,5,10],[5,11,5,13],[5,14,5,17],[5,18,5,28],[5,29,5,32],[5,33,5,35]]}
[{"$nulls":6},{"$f":"'Aufgebot A'!E1","v":"37. Schweizer Cup Männer 2025"}]
[]
[]
[{"$nulls":6},"            Spielbericht",{"$nulls":22},{"$f":"'Aufgebot 9'!A5","v":"1/16 Final "}]
[]
["Datum:  ",null,null,null,{"$f":"'Aufgebot 9'!A15","v":"2025-05-14"},{"$nulls":4},"Zeit:",null,{"$f":"'Aufgebot 9'!G15","v":"19:30:00"},null,null,"Spielort:",null,null,null,{"$f":"'Aufgebot 9'!L15","v":"Spreitenbach"},{"$nulls":10}," Spiel-Nr.:",null,null,null,{"$f":"'Aufgebot 9'!Y5","v":9}]
[]
["Mannschaft A:",{"$nulls":5},{"$f":"'Aufgebot 9'!A8","v":"STV Spreitenbach 1 ( 1. Liga W )"},{"$nulls":10},"Verw.","Mannschaft B:",{"$nulls":5},{"$f":"'Aufgebot 9'!O8","v":"STV Oberentfelden   ( NLA )"},{"$nulls":10},"Verw."]
["Nr.",null,"Spf.","Eins.","Jg.","Name/Vorname",{"$nulls":12},"Nr.",null,"Spf.","Eins.","Jg.","Name/Vorname"]
[{"$nulls":4},"","",{"$nulls":16},"",""]
[{"$nulls":4},"","",{"$nulls":10},"",{"$nulls":5},"","",{"$nulls":10},""]
[{"$nulls":4},"","",{"$nulls":10},"",{"$nulls":5},"","",{"$nulls":10},""]
[{"$nulls":4},"","",{"$nulls":10},"",{"$nulls":5},"","",{"$nulls":10},""]
[{"$nulls":4},"","",{"$nulls":10},"",{"$nulls":5},"","",{"$nulls":10},""]
[{"$nulls":4},"","",{"$nulls":10},"",{"$nulls":5},"","",{"$nulls":10},""]
[{"$nulls":4},"","",{"$nulls":10},"",{"$nulls":5},"","",{"$nulls":10},""]
[{"$nulls":4},"","",{"$nulls":10},"",{"$nulls":5},"","",{"$nulls":10},""]
[{"$nulls":4},"","",{"$nulls":10},"",{"$nulls":5},"","",{"$nulls":10},""]
[{"$nulls":4},"","",{"$nulls":16},"",""]
[" Trainer:",{"$nulls":5},"",{"$nulls":11},"Trainer:",{"$nulls":5},""]
[" Betreuer:",{"$nulls":5},"",{"$nulls":11}," Betreuer:"]
[]
[" Schiedsrichter:",{"$nulls":5},{"$f":"'Aufgebot 9'!A19&\" \"&'Aufgebot 9'!G19","v":"Rolf Häner +41 76 465 99 66"},{"$nulls":11},"Heimmannschaft Verantw.",{"$nulls":8},{"$f":"'Aufgebot 9'!A9","v":"Thomas Isenschmid"}]
[" Linienrichter:",{"$nulls":17}," Linienrichter:"]
[]
["Ballwahl/Anspiel:",{"$nulls":6},"1. Satz:","A",null,"B",null,null,"5. Satz:",null,null,"A",null,"B"]
[]
["Ausserordentliche Vorfälle:  ",{"$nulls":6},"","Protest/Einsprache",null,null,null,"","Ausschluss",null,null,"","Sonstiges",null,null,null,"(Ankreuzen + Bericht mit Unterschrift auf Rückseite)"]
[]
["A",null,"Timeout","1. Satz",null,"A",{"$f":"IF('Aufgebot 9'!$G$34>0,1,\"\")","v":1},{"$f":"IF('Aufgebot 9'!$G$34>0,2,\"\")","v":2},{"$f":"IF('Aufgebot 9'!$G$34=3,3,\"\")","v":3}]
["B",{"$nulls":4},"B"]
["A",null,"Timeout","2. Satz",null,"A",{"$f":"IF('Aufgebot 9'!$G$34>0,1,\"\")","v":1},{"$f":"IF('Aufgebot 9'!$G$34>0,2,\"\")","v":2},{"$f":"IF('Aufgebot 9'!$G$34=3,3,\"\")","v":3}]
["B",{"$nulls":4},"B"]
["A",null,"Timeout","3. Satz",null,"A",{"$f":"IF('Aufgebot 9'!$G$34>0,1,\"\")","v":1},{"$f":"IF('Aufgebot 9'!$G$34>0,2,\"\")","v":2},{"$f":"IF('Aufgebot 9'!$G$34=3,3,\"\")","v":3}]
["B",{"$nulls":4},"B"]
["A",null,"Timeout","4. Satz",null,"A",{"$f":"IF('Aufgebot 9'!$G$34>0,1,\"\")","v":1},{"$f":"IF('Aufgebot 9'!$G$34>0,2,\"\")","v":2},{"$f":"IF('Aufgebot 9'!$G$34=3,3,\"\")","v":3}]
["B",{"$nulls":4},"B"]
[]
["A",null,"Timeout","5. Satz",null,"A",{"$f":"IF('Aufgebot 9'!$G$34>0,1,\"\")","v":1},{"$f":"IF('Aufgebot 9'!$G$34>0,2,\"\")","v":2},{"$f":"IF('Aufgebot 9'!$G$34=3,3,\"\")","v":3}]
["B",{"$nulls":4},"B"]
["A",null,"Timeout","6. Satz",null,"A",{"$f":"IF('Aufgebot 9'!$G$34>0,1,\"\")","v":1},{"$f":"IF('Aufgebot 9'!$G$34>0,2,\"\")","v":2},{"$f":"IF('Aufgebot 9'!$G$34=3,3,\"\")","v":3}]
["B",{"$nulls":4},"B"]
["A",null,"Timeout","7. Satz",null,"A",{"$f":"IF('Aufgebot 9'!$G$34>0,1,\"\")","v":1},{"$f":"IF('Aufgebot 9'!$G$34>0,2,\"\")","v":2},{"$f":"IF('Aufgebot 9'!$G$34=3,3,\"\")","v":3}]
["B",{"$nulls":4},"B"]
["A",null,"Timeout","8. Satz",null,"A",{"$f":"IF('Aufgebot 9'!$G$34>0,1,\"\")","v":1},{"$f":"IF('Aufgebot 9'!$G$34>0,2,\"\")","v":2},{"$f":"IF('Aufgebot 9'!$G$34=3,3,\"\")","v":3}]
["B",{"$nulls":4},"B"]
[]
["A",null,"Timeout","9. Satz",null,"A",{"$f":"IF('Aufgebot 9'!$G$34>0,1,\"\")","v":1},{"$f":"IF('Aufgebot 9'!$G$34>0,2,\"\")","v":2},{"$f":"IF('Aufgebot 9'!$G$34=3,3,\"\")","v":3}]
["B",{"$nulls":4},"B"]
[]
[" Ergebnis    (A:B) ",{"$nulls":4},"1. Satz",null,null,"2. Satz",null,null,"3. Satz",null,null,"4. Satz",null,null,"5. Satz",null,null,null,"6. Satz",null,null,"7. Satz",null,null,"8. Satz",null,null,"9. Satz"]
[{"$nulls":6},":",null,null,":",null,null,":",null,null,":",null,null,":",null,null,null,":",null,null,":",null,null,":",null,null,":"]
["Sieger",{"$nulls":24},"Total Punkte",{"$nulls":4},"Endstand (Sätze)"]
[{"$nulls":25},":",{"$nulls":4},":"]
[]
[" Für die Richtigkeit der Eintragungen"]
[" Schiedsrichter:",{"$nulls":16},"Spielführer A:"]
[" Anschreiber:",{"$nulls":16}," Spielführer B:"]
[]
["Mit sportlichen Grüssen\nSwiss Faustball CUPKO\nBruno Pabst (Präsident)",{"$nulls":23},"Thundorf,",{"$nulls":5},{"$f":"TODAY()","v":"2025-08-28"}]

{"sheet":"Aufgebot 10","index":42,"n_rows":48,"n_cols":26,"rows_kept":48,"cut":false,"hidden":true,"merged":[[41,0,41,2],[41,3,41,20],[41,21,41,23],[41,24,41,26],[50,2,50,8],[43,0,43,26],[44,0,44,8],[44,9,44,15],[44,17,44,24],[47,0,47,19],[47,20,47,22],[47,23,47,26],[36,0,36,26],[37,0,37,26],[38,0,38,26],[39,0,39,2],[39,3,39,5],[39,6,39,8],[39,9,39,11],[39,12,39,14],[39,15,39,17],[39,18,39,20],[39,21,39,23],[39,24,39,26],[35,0,35,5],[35,6,35,26],[26,35,26,38],[28,0,28,26],[30,0,30,26],[31,0,31,3],[31,4,31,16],[31,17,31,26],[31,28,31,29],[32,0,32,26],[33,6,33,7],[33,12,33,14],[33,28,33,29],[34,0,34,26],[26,6,26,8],[26,12,26,18],[26,19,26,20],[26,21,26,22],[26,24,26,26],[16,24,16,26],[19,0,19,26],[22,0,22,11],[22,12,22,14],[24,0,24,2],[18,0,18,5],[18,6,18,11],[18,12,18,16],[18,17,18,26],[16,0,16,11],[16,12,16,15],[16,16,16,18],[16,20,16,23],[13,0,13,5],[13,6,13,10],[13,11,13,18],[13,19,13,26],[14,0,14,5],[14,6,14,10],[14,11,14,18],[14,19,14,26],[10,0,10,5],[10,6,10,12],[10,14,10,19],[10,20,10,26],[11,0,11,12],[11,14,11,26],[8,0,8,12],[8,14,8,26],[9,0,9,5],[9,6,9,12],[9,14,9,19],[9,20,9,26],[6,0,6,12],[6,13,7,13],[6,14,6,26],[6,28,6,29],[6,30,6,31],[7,14,7,26],[0,4,0,21],[2,0,2,26],[2,28,2,30],[4,0,4,4],[4,5,4,11],[4,12,4,13],[4,14,4,19],[4,20,4,23]]}
[{"$nulls":4},{"$f":"Eigaben!Z3","v":"37. Schweizer Cup Männer 2025"}]
[2,null,null,{"$f":"VLOOKUP(A2,Eigaben!Y8:AC14,5,0)","v":"1/16 Final "},{"$nulls":4},2]
["Aufgebot Mannschaften"]
[1]
[{"$f":"VLOOKUP(A2,Eigaben!Y8:AC14,5,0)","v":"1/16 Final "},{"$nulls":4},{"$f":"VLOOKUP($A$2,Eigaben!$Y$8:$AC$14,2,1)","v":"2025-05-05"},{"$nulls":6},"bis",null,{"$f":"VLOOKUP($A$2,Eigaben!$Y$8:$AB$14,3,1)","v":"2025-06-13"},{"$nulls":5},"Spiel - Nr.",null,null,null,10]
[{"$f":"Eigaben!F37","v":49},{"$nulls":13},{"$f":"Eigaben!G37","v":63}]
["Heim - Mannschaft",{"$nulls":13},"Gast - Mannschaft"]
[{"$f":"(VLOOKUP($A$6,Eigaben!$Y$17:$Z$103,2,0))","v":"FB Burgdorf (1. Liga  W)"},{"$nulls":13},{"$f":"(VLOOKUP($O$6,Eigaben!$Y$17:$Z$103,2,0))","v":"STV Vordemwald 1 ( NLB W )"}]
[{"$f":"VLOOKUP($A$6,Eigaben!$Y$17:$AH$103,3,1)&\" \"&VLOOKUP(A6,Eigaben!Y17:AH103,4,1)","v":"Stefan Tschannen"},{"$nulls":13},{"$f":"VLOOKUP($O$6,Eigaben!$Y$17:$AH$103,3,1)&\" \"&VLOOKUP($O$6,Eigaben!$Y$17:$AH$103,4,1)","v":"Reto von Ballmoos"}]
[{"$f":"VLOOKUP($A$6,Eigaben!$Y$17:$AH$103,5,1)","v":"Rumiweg 9"},{"$nulls":5},{"$f":"VLOOKUP($A$6,Eigaben!$Y$17:$AH$103,6,1)&\" \"&VLOOKUP(A6,Eigaben!$Y$17:$AH$103,7,1)","v":"4900 Langenthal"},{"$nulls":7},{"$f":"VLOOKUP($O$6,Eigaben!$Y$17:$AH$103,5,1)","v":"Rotfarbstr 9"},{"$nulls":5},{"$f":"VLOOKUP($O$6,Eigaben!$Y$17:$AV$103,6,1)&\" \"&VLOOKUP($O$6,Eigaben!$Y$17:$AV$103,7,1)","v":"4800 Zofingen"}]
[{"$f":"IF(Eigaben!AF54=0,\"\",VLOOKUP($A$6,Eigaben!$Y$17:$AH$103,8,1))","v":" "},{"$nulls":5},{"$f":"IF(Eigaben!$AG$54=0,\"\",VLOOKUP($A$6,Eigaben!$Y$17:$AH$103,9,1))","v":"079 329 41 52"},{"$nulls":7},{"$f":"IF(Eigaben!AF55=0,\"\",VLOOKUP($O$6,Eigaben!$Y$17:$AH$103,8,1))","v":" "},{"$nulls":5},{"$f":"IF(Eigaben!$P$54=0,\"\",VLOOKUP($O$6,Eigaben!$Y$17:$AH$103,9,1))","v":"079 721 45 82"}]
[{"$f":"VLOOKUP($A$6,Eigaben!$Y$17:$AH$103,10,1)","v":"st.fb_burgdorf@bluewin.ch"},{"$nulls":13},{"$f":"VLOOKUP($O$6,Eigaben!$Y$17:$AH$103,10,1)","v":"reto.vonballmoos@gmail.com"}]
[null,null,{"$f":"Eigaben!C37","v":10}]
["Datum",{"$nulls":5},"Zeit",{"$nulls":4},"Ort",{"$nulls":7},"Sportplatz"]
[{"$f":"IF(Eigaben!C28=0,\"\",VLOOKUP(C13,Eigaben!$C$28:$V$109,13,0))","v":"1900-01-13"},{"$nulls":5},{"$f":"IF(Eigaben!C28=0,\"\",VLOOKUP(C13,Eigaben!$C$28:$V$110,14,0))","v":"20:00:00"},{"$nulls":4},{"$f":"IF(Eigaben!C28=0,\"\",VLOOKUP(C13,Eigaben!$C$28:$V$1110,15,0))","v":"Kirchberg"},{"$nulls":7},{"$f":"IF(Eigaben!C28=0,\"\",VLOOKUP(C13,Eigaben!$C$28:$V$110,16,0))","v":"Grossmatt"}]
[null,null,{"$f":"Eigaben!T37","v":83}]
["Aufgebot Schiedsrichter *"]
[]
[{"$f":"IF(C16=0,\"\",VLOOKUP(C16,Schiri_25!A2:L181,3,1)&\" \"&VLOOKUP(C16,Schiri_25!A2:L181,2,1))","v":"Evi Baumberger"},{"$nulls":5},{"$f":"IF(C16=0,\"\",VLOOKUP(C16,Schiri_25!A2:L181,9,1))","v":"076 722 21 11"},{"$nulls":5},{"$f":"IF(C16=0,\"\",IF(VLOOKUP(C16,Schiri_25!A2:M122,8,1)=0,\"\",VLOOKUP(C16,Schiri_25!A2:M122,8,1)))","v":"0767222111"},{"$nulls":4},{"$f":"IF(C16=0,\"\",VLOOKUP(C16,Schiri_25!A2:L181,12,1))","v":"baumberger.e@gawnet.ch"}]
[]
["* Im Verhinderungsfall sofort Verbindungsaufnahme mit Bruno Pabst: 079 243 02 08"]
[]
["Eintreffen des Schiedsrichters:",{"$nulls":11},{"$f":"IF(G15=\"\",\"\",G15-\"00:15:00\")","v":"19:45:00"}]
[]
["Tenue:",null,null,"Offizielle Schiedsrichterausrüstung gelb / schwarz"]
[]
["Taggeld:",{"$nulls":4},"Fr.","**",{"$nulls":5},"Fahrspesen",{"$nulls":6},"Fr",null,1,null,null,{"$f":"Eigaben!V37","v":16}]
[]
["Die Fahrspesen (einfache Fahrt, Fr. 1,00 pro Km)  werden durch die Heim-Mannschaft bezahlt. \n**  (Das Taggeld wird direkt durch die CUPKO ausbezahlt.)"]
[{"$nulls":5},{"$f":"Eigaben!C6","v":"A"}]
["Modus"]
["Spielmodus:",null,null,null,"5 Gewinnsätze bis 11 (max. 15 : 14)",{"$nulls":12},"Pause nach  4 Sätzen max 5 Min."]
[]
["Bonus-Punkte:",{"$nulls":5},{"$f":"Eigaben!S37","v":2}]
[]
["Durchführung:\n",{"$nulls":5},"Bei einer allfälligen Verschiebung muss spätestens 5 Stunden vor Spielbeginn die Gast-Mannschaft, der Schiedsrichter und deer Chef CUPKO per Telefon und SMS informiert werden."]
[]
["Resultatmeldung"]
[]
["1. Satz",null,null,"2. Satz",null,null,"3. Satz",null,null,"4. Satz",null,null,"5. Satz",null,null,"6. Satz",null,null,"7. Satz",null,null,"8. Satz",null,null,"9. Satz"]
[null,":",null,null,":",null,null,":",null,null,":",null,null,":",null,null,":",null,null,":",null,null,":",null,null,":"]
["Sieger",{"$nulls":20},"Sätze",null,null,":"]
[]
["Resultatmeldung bis spätestens 12 Uhr des Folgetages durch den Schiedsrichter  per E-Mail, SMS oder WhatsApp an  "]
["pabst@swissfaustball.ch",{"$nulls":16},"pabst.bruno@bluewin.ch"]
[]
[]
["Mit sportlichen Grüssen\nSwiss Faustball CUPKO\nBruno Pabst (Präsident)",{"$nulls":19},"Thundorf, ",null,null,{"$f":"TODAY()","v":"2025-08-28"}]

{"sheet":"Spielbericht 10","index":43,"n_rows":58,"n_cols":36,"rows_kept":58,"cut":false,"hidden":true,"merged":[[54,0,54,35],[55,0,55,16],[55,17,55,35],[56,0,56,16],[56,17,56,35],[57,0,59,23],[57,24,59,29],[57,30,59,35],[50,30,50,32],[50,33,51,35],[52,0,53,4],[52,25,52,29],[52,30,52,35],[53,25,53,29],[53,30,53,35],[50,11,50,13],[50,14,50,16],[50,17,50,20],[50,21,50,23],[50,24,50,26],[50,27,50,29],[35,2,36,2],[35,3,36,4],[50,8,50,10],[38,2,39,2],[38,3,39,4],[40,2,41,2],[40,3,41,4],[42,2,43,2],[42,3,43,4],[44,2,45,2],[44,3,45,4],[47,2,48,2],[47,3,48,4],[50,0,51,4],[25,13,25,15],[31,2,32,2],[31,3,32,4],[33,2,34,2],[33,3,34,4],[16,5,16,16],[16,23,16,34],[17,5,17,16],[17,23,17,34],[29,2,30,2],[29,3,30,4],[18,5,18,16],[18,23,18,34],[19,18,19,22],[20,18,20,22],[22,6,22,17],[22,27,22,35],[23,6,23,17],[23,18,23,23],[23,24,23,35],[25,0,25,5],[13,5,13,16],[13,23,13,34],[14,5,14,16],[14,23,14,34],[15,5,15,16],[15,23,15,34],[10,5,10,16],[10,23,10,34],[11,5,11,16],[11,23,11,34],[12,5,12,16],[12,23,12,34],[7,35,8,35],[8,5,8,16],[8,23,8,34],[9,5,9,16],[9,23,9,34],[7,0,7,5],[7,6,7,16],[7,17,8,17],[7,18,7,23],[7,24,7,34],[0,6,1,35],[3,6,3,28],[3,29,3,35],[5,0,5,3],[5,4,5,8],[5,9,5,10],[5,11,5,13],[5,14,5,17],[5,18,5,28],[5,29,5,32],[5,33,5,35]]}
[{"$nulls":6},{"$f":"'Aufgebot A'!E1","v":"37. Schweizer Cup Männer 2025"}]
[]
[]
[{"$nulls":6},"            Spielbericht",{"$nulls":22},{"$f":"'Aufgebot 10'!A5","v":"1/16 Final "}]
[]
["Datum:  ",null,null,null,{"$f":"'Aufgebot 10'!A15","v":"1900-01-13"},{"$nulls":4},"Zeit:",null,{"$f":"'Aufgebot 10'!G15","v":"20:00:00"},null,null,"Spielort:",null,null,null,{"$f":"'Aufgebot 10'!L15","v":"Kirchberg"},{"$nulls":10}," Spiel-Nr.:",null,null,null,{"$f":"'Aufgebot 10'!Y5","v":10}]
[]
["Mannschaft A:",{"$nulls":5},{"$f":"'Aufgebot 10'!A8","v":"FB Burgdorf (1. Liga  W)"},{"$nulls":10},"Verw.","Mannschaft B:",{"$nulls":5},{"$f":"'Aufgebot 10'!O8","v":"STV Vordemwald 1 ( NLB W )"},{"$nulls":10},"Verw."]
["Nr.",null,"Spf.","Eins.","Jg.","Name/Vorname",{"$nulls":12},"Nr.",null,"Spf.","Eins.","Jg.","Name/Vorname"]
[{"$nulls":4},"","",{"$nulls":16},"",""]
[{"$nulls":4},"","",{"$nulls":10},"",{"$nulls":5},"","",{"$nulls":10},""]
[{"$nulls":4},"","",{"$nulls":10},"",{"$nulls":5},"","",{"$nulls":10},""]
[{"$nulls":4},"","",{"$nulls":10},"",{"$nulls":5},"","",{"$nulls":10},""]
[{"$nulls":4},"","",{"$nulls":10},"",{"$nulls":5},"","",{"$nulls":10},""]
[{"$nulls":4},"","",{"$nulls":10},"",{"$nulls":5},"","",{"$nulls":10},""]
[{"$nulls":4},"","",{"$nulls":10},"",{"$nulls":5},"","",{"$nulls":10},""]
[{"$nulls":4},"","",{"$nulls":10},"",{"$nulls":5},"","",{"$nulls":10},""]
[{"$nulls":4},"","",{"$nulls":10},"",{"$nulls":5},"","",{"$nulls":10},""]
[{"$nulls":4},"","",{"$nulls":16},"",""]
[" Trainer:",{"$nulls":5},"",{"$nulls":11},"Trainer:",{"$nulls":5},""]
[" Betreuer:",{"$nulls":5},"",{"$nulls":11}," Betreuer:"]
[]
[" Schiedsrichter:",{"$nulls":5},{"$f":"'Aufgebot 10'!A19&\" \"&'Aufgebot 10'!G19","v":"Evi Baumberger 076 722 21 11"},{"$nulls":11},"Heimmannschaft Verantw.",{"$nulls":8},{"$f":"'Aufgebot 10'!A9","v":"Stefan Tschannen"}]
[" Linienrichter:",{"$nulls":17}," Linienrichter:"]
[]
["Ballwahl/Anspiel:",{"$nulls":6},"1. Satz:","A",null,"B",null,null,"5. Satz:",null,null,"A",null,"B"]
[]
["Ausserordentliche Vorfälle:  ",{"$nulls":6},"","Protest/Einsprache",null,null,null,"","Ausschluss",null,null,"","Sonstiges",null,null,null,"(Ankreuzen + Bericht mit Unterschrift auf Rückseite)"]
[]
["A",null,"Timeout","1. Satz",null,"A",{"$f":"IF('Aufgebot 10'!$G$34>0,1,\"\")","v":1},{"$f":"IF('Aufgebot 10'!$G$34>0,2,\"\")","v":2},{"$f":"IF('Aufgebot 10'!$G$34=3,3,\"\")","v":""}]
["B",{"$nulls":4},"B"]
["A",null,"Timeout","2. Satz",null,"A",{"$f":"IF('Aufgebot 10'!$G$34>0,1,\"\")","v":1},{"$f":"IF('Aufgebot 10'!$G$34>0,2,\"\")","v":2},{"$f":"IF('Aufgebot 10'!$G$34=3,3,\"\")","v":""}]
["B",{"$nulls":4},"B"]
["A",null,"Timeout","3. Satz",null,"A",{"$f":"IF('Aufgebot 10'!$G$34>0,1,\"\")","v":1},{"$f":"IF('Aufgebot 10'!$G$34>0,2,\"\")","v":2},{"$f":"IF('Aufgebot 10'!$G$34=3,3,\"\")","v":""}]
["B",{"$nulls":4},"B"]
["A",null,"Timeout","4. Satz",null,"A",{"$f":"IF('Aufgebot 10'!$G$34>0,1,\"\")","v":1},{"$f":"IF('Aufgebot 10'!$G$34>0,2,\"\")","v":2},{"$f":"IF('Aufgebot 10'!$G$34=3,3,\"\")","v":""}]
["B",{"$nulls":4},"B"]
[]
["A",null,"Timeout","5. Satz",null,"A",{"$f":"IF('Aufgebot 10'!$G$34>0,1,\"\")","v":1},{"$f":"IF('Aufgebot 10'!$G$34>0,2,\"\")","v":2},{"$f":"IF('Aufgebot 10'!$G$34=3,3,\"\")","v":""}]
["B",{"$nulls":4},"B"]
["A",null,"Timeout","6. Satz",null,"A",{"$f":"IF('Aufgebot 10'!$G$34>0,1,\"\")","v":1},{"$f":"IF('Aufgebot 10'!$G$34>0,2,\"\")","v":2},{"$f":"IF('Aufgebot 10'!$G$34=3,3,\"\")","v":""}]
["B",{"$nulls":4},"B"]
["A",null,"Timeout","7. Satz",null,"A",{"$f":"IF('Aufgebot 10'!$G$34>0,1,\"\")","v":1},{"$f":"IF('Aufgebot 10'!$G$34>0,2,\"\")","v":2},{"$f":"IF('Aufgebot 10'!$G$34=3,3,\"\")","v":""}]
["B",{"$nulls":4},"B"]
["A",null,"Timeout","8. Satz",null,"A",{"$f":"IF('Aufgebot 10'!$G$34>0,1,\"\")","v":1},{"$f":"IF('Aufgebot 10'!$G$34>0,2,\"\")","v":2},{"$f":"IF('Aufgebot 10'!$G$34=3,3,\"\")","v":""}]
["B",{"$nulls":4},"B"]
[]
["A",null,"Timeout","9. Satz",null,"A",{"$f":"IF('Aufgebot 10'!$G$34>0,1,\"\")","v":1},{"$f":"IF('Aufgebot 10'!$G$34>0,2,\"\")","v":2},{"$f":"IF('Aufgebot 10'!$G$34=3,3,\"\")","v":""}]
["B",{"$nulls":4},"B"]
[]
[" Ergebnis    (A:B) ",{"$nulls":4},"1. Satz",null,null,"2. Satz",null,null,"3. Satz",null,null,"4. Satz",null,null,"5. Satz",null,null,null,"6. Satz",null,null,"7. Satz",null,null,"8. Satz",null,null,"9. Satz"]
[{"$nulls":6},":",null,null,":",null,null,":",null,null,":",null,null,":",null,null,null,":",null,null,":",null,null,":",null,null,":"]
["Sieger",{"$nulls":24},"Total Punkte",{"$nulls":4},"Endstand (Sätze)"]
[{"$nulls":25},":",{"$nulls":4},":"]
[" Für die Richtigkeit der Eintragungen"]
[" Schiedsrichter:",{"$nulls":16},"Spielführer A:"]
[" Anschreiber:",{"$nulls":16}," Spielführer B:"]
["Mit sportlichen Grüssen\nSwiss Faustball CUPKO\nBruno Pabst (Präsident)",{"$nulls":23},"Thundorf,",{"$nulls":5},{"$f":"TODAY()","v":"2025-08-28"}]

{"sheet":"Aufgebot 11","index":44,"n_rows":47,"n_cols":26,"rows_kept":47,"cut":false,"hidden":true,"merged":[[41,0,41,2],[41,3,41,20],[41,21,41,23],[41,24,41,26],[49,2,49,8],[42,0,42,26],[43,0,43,8],[43,9,43,15],[43,17,43,24],[46,0,46,19],[46,20,46,22],[46,23,46,26],[36,0,36,26],[37,0,37,26],[38,0,38,26],[39,0,39,2],[39,3,39,5],[39,6,39,8],[39,9,39,11],[39,12,39,14],[39,15,39,17],[39,18,39,20],[39,21,39,23],[39,24,39,26],[35,0,35,5],[35,6,35,26],[26,35,26,38],[28,0,28,26],[30,0,30,26],[31,0,31,3],[31,4,31,16],[31,17,31,26],[31,28,31,29],[32,0,32,26],[33,6,33,7],[33,12,33,14],[33,28,33,29],[34,0,34,26],[26,6,26,8],[26,12,26,18],[26,19,26,20],[26,21,26,22],[26,24,26,26],[16,24,16,26],[19,0,19,26],[22,0,22,11],[22,12,22,14],[24,0,24,2],[18,0,18,5],[18,6,18,11],[18,12,18,16],[18,17,18,26],[16,0,16,11],[16,12,16,15],[16,16,16,18],[16,20,16,23],[13,0,13,5],[13,6,13,10],[13,11,13,18],[13,19,13,26],[14,0,14,5],[14,6,14,10],[14,11,14,18],[14,19,14,26],[10,0,10,5],[10,6,10,12],[10,14,10,19],[10,20,10,26],[11,0,11,12],[11,14,11,26],[8,0,8,12],[8,14,8,26],[9,0,9,5],[9,6,9,12],[9,14,9,19],[9,20,9,26],[6,0,6,12],[6,13,7,13],[6,14,6,26],[6,28,6,29],[6,30,6,31],[7,14,7,26],[0,4,0,21],[2,0,2,26],[2,28,2,30],[4,0,4,4],[4,5,4,11],[4,12,4,13],[4,14,4,19],[4,20,4,23]]}
[{"$nulls":4},{"$f":"Eigaben!Z3","v":"37. Schweizer Cup Männer 2025"}]
[2,null,null,{"$f":"VLOOKUP(A2,Eigaben!Y8:AC14,5,0)","v":"1/16 Final "},{"$nulls":4},2]
["Aufgebot Mannschaften"]
[1]
[{"$f":"VLOOKUP(A2,Eigaben!Y8:AC14,5,0)","v":"1/16 Final "},{"$nulls":4},{"$f":"VLOOKUP($A$2,Eigaben!$Y$8:$AC$14,2,1)","v":"2025-05-05"},{"$nulls":6},"bis",null,{"$f":"VLOOKUP($A$2,Eigaben!$Y$8:$AB$14,3,1)","v":"2025-06-13"},{"$nulls":5},"Spiel - Nr.",null,null,null,11]
[{"$f":"Eigaben!F38","v":60},{"$nulls":13},{"$f":"Eigaben!G38","v":62}]
["Heim - Mannschaft",{"$nulls":13},"Gast - Mannschaft"]
[{"$f":"(VLOOKUP($A$6,Eigaben!$Y$17:$Z$103,2,0))","v":"STV Schlieren ( NLB O )"},{"$nulls":13},{"$f":"(VLOOKUP($O$6,Eigaben!$Y$17:$Z$103,2,0))","v":"FB Schwellbrunn ( NLB  O)"}]
[{"$f":"VLOOKUP($A$6,Eigaben!$Y$17:$AH$103,3,1)&\" \"&VLOOKUP(A6,Eigaben!Y17:AH103,4,1)","v":"Andreas Fritschi"},{"$nulls":13},{"$f":"VLOOKUP($O$6,Eigaben!$Y$17:$AH$103,3,1)&\" \"&VLOOKUP($O$6,Eigaben!$Y$17:$AH$103,4,1)","v":"Kenneth Schoch"}]
[{"$f":"VLOOKUP($A$6,Eigaben!$Y$17:$AH$103,5,1)","v":" "},{"$nulls":5},{"$f":"VLOOKUP($A$6,Eigaben!$Y$17:$AH$103,6,1)&\" \"&VLOOKUP(A6,Eigaben!$Y$17:$AH$103,7,1)","v":"   "},{"$nulls":7},{"$f":"VLOOKUP($O$6,Eigaben!$Y$17:$AH$103,5,1)","v":"Ahornstr "},{"$nulls":5},{"$f":"VLOOKUP($O$6,Eigaben!$Y$17:$AV$103,6,1)&\" \"&VLOOKUP($O$6,Eigaben!$Y$17:$AV$103,7,1)","v":"9100 Herisau"}]
[{"$f":"IF(Eigaben!AF54=0,\"\",VLOOKUP($A$6,Eigaben!$Y$17:$AH$103,8,1))","v":" "},{"$nulls":5},{"$f":"IF(Eigaben!$AG$54=0,\"\",VLOOKUP($A$6,Eigaben!$Y$17:$AH$103,9,1))","v":"079 602 18 32"},{"$nulls":7},{"$f":"IF(Eigaben!AF55=0,\"\",VLOOKUP($O$6,Eigaben!$Y$17:$AH$103,8,1))","v":" "},{"$nulls":5},{"$f":"IF(Eigaben!$P$54=0,\"\",VLOOKUP($O$6,Eigaben!$Y$17:$AH$103,9,1))","v":"079 603 88 30"}]
[{"$f":"VLOOKUP($A$6,Eigaben!$Y$17:$AH$103,10,1)","v":"maenner@faustballschlieren.ch"},{"$nulls":13},{"$f":"VLOOKUP($O$6,Eigaben!$Y$17:$AH$103,10,1)","v":"kennethschoch@bluewin.ch"}]
[null,null,{"$f":"Eigaben!C38","v":11}]
["Datum",{"$nulls":5},"Zeit",{"$nulls":4},"Ort",{"$nulls":7},"Sportplatz"]
[{"$f":"IF(Eigaben!C38=0,\"\",VLOOKUP(C13,Eigaben!$C$28:$V$109,13,0))","v":"2025-05-21"},{"$nulls":5},{"$f":"IF(Eigaben!C38=0,\"\",VLOOKUP(C13,Eigaben!$C$28:$V$110,14,0))","v":"19:00:00"},{"$nulls":4},{"$f":"IF(Eigaben!C38=0,\"\",VLOOKUP(C13,Eigaben!$C$28:$V$1110,15,0))","v":"Schlieren"},{"$nulls":7},{"$f":"IF(Eigaben!C38=0,\"\",VLOOKUP(C13,Eigaben!$C$28:$V$110,16,0))","v":"Sportplatz Unterrohr"}]
[null,null,{"$f":"Eigaben!T38","v":51}]
["Aufgebot Schiedsrichter *"]
[]
[{"$f":"IF(C16=0,\"\",VLOOKUP(C16,Schiri_25!A2:L181,3,1)&\" \"&VLOOKUP(C16,Schiri_25!A2:L181,2,1))","v":"Patrick Burkhalter"},{"$nulls":5},{"$f":"IF(C16=0,\"\",VLOOKUP(C16,Schiri_25!A2:L181,9,1))","v":"+41 78 824 40 11"},{"$nulls":5},{"$f":"IF(C16=0,\"\",IF(VLOOKUP(C16,Schiri_25!A2:M122,8,1)=0,\"\",VLOOKUP(C16,Schiri_25!A2:M122,8,1)))","v":""},{"$nulls":4},{"$f":"IF(C16=0,\"\",VLOOKUP(C16,Schiri_25!A2:L181,12,1))","v":"burkipa@hotmail.com"}]
[]
["* Im Verhinderungsfall sofort Verbindungsaufnahme mit Bruno Pabst: 079 243 02 08"]
[]
["Eintreffen des Schiedsrichters:",{"$nulls":11},{"$f":"IF(G15=\"\",\"\",G15-\"00:15:00\")","v":"18:45:00"}]
[]
["Tenue:",null,null,"Offizielle Schiedsrichterausrüstung gelb / schwarz"]
[]
["Taggeld:",{"$nulls":4},"Fr.","**",{"$nulls":5},"Fahrspesen",{"$nulls":6},"Fr",null,1,null,null,{"$f":"Eigaben!V38","v":4}]
[]
["Die Fahrspesen (einfache Fahrt, Fr. 1,00 pro Km)  werden durch die Heim-Mannschaft bezahlt. \n**  (Das Taggeld wird direkt durch die CUPKO ausbezahlt.)"]
[{"$nulls":5},{"$f":"Eigaben!C6","v":"A"}]
["Modus"]
["Spielmodus:",null,null,null,"5 Gewinnsätze bis 11 (max. 15 : 14)",{"$nulls":12},"Pause nach  4 Sätzen max 5 Min."]
[]
["Bonus-Punkte:",{"$nulls":5},{"$f":"Eigaben!S38","v":0}]
[]
["Durchführung:\n",{"$nulls":5},"Bei einer allfälligen Verschiebung muss spätestens 5 Stunden vor Spielbeginn die Gast-Mannschaft, der Schiedsrichter und deer Chef CUPKO per Telefon und SMS informiert werden."]
[]
["Resultatmeldung"]
[]
["1. Satz",null,null,"2. Satz",null,null,"3. Satz",null,null,"4. Satz",null,null,"5. Satz",null,null,"6. Satz",null,null,"7. Satz",null,null,"8. Satz",null,null,"9. Satz"]
[null,":",null,null,":",null,null,":",null,null,":",null,null,":",null,null,":",null,null,":",null,null,":",null,null,":"]
["Sieger",{"$nulls":20},"Sätze",null,null,":"]
["Resultatmeldung bis spätestens 12 Uhr des Folgetages durch den Schiedsrichter  per E-Mail, SMS oder WhatsApp an  "]
["pabst@swissfaustball.ch",{"$nulls":16},"pabst.bruno@bluewin.ch"]
[]
[]
["Mit sportlichen Grüssen\nSwiss Faustball CUPKO\nBruno Pabst (Präsident)",{"$nulls":19},"Thundorf, ",null,null,{"$f":"TODAY()","v":"2025-08-28"}]

{"sheet":"Spielbericht 11","index":45,"n_rows":58,"n_cols":36,"rows_kept":58,"cut":false,"hidden":true,"merged":[[53,0,53,35],[54,0,54,16],[54,17,54,35],[55,0,55,16],[55,17,55,35],[57,0,59,23],[57,24,59,29],[57,30,59,35],[49,30,49,32],[49,33,50,35],[51,0,52,4],[51,25,51,29],[51,30,51,35],[52,25,52,29],[52,30,52,35],[49,11,49,13],[49,14,49,16],[49,17,49,20],[49,21,49,23],[49,24,49,26],[49,27,49,29],[35,2,36,2],[35,3,36,4],[49,8,49,10],[38,2,39,2],[38,3,39,4],[40,2,41,2],[40,3,41,4],[42,2,43,2],[42,3,43,4],[44,2,45,2],[44,3,45,4],[47,2,48,2],[47,3,48,4],[49,0,50,4],[25,13,25,15],[31,2,32,2],[31,3,32,4],[33,2,34,2],[33,3,34,4],[16,5,16,16],[16,23,16,34],[17,5,17,16],[17,23,17,34],[29,2,30,2],[29,3,30,4],[18,5,18,16],[18,23,18,34],[19,18,19,22],[20,18,20,22],[22,6,22,17],[22,27,22,35],[23,6,23,17],[23,18,23,23],[23,24,23,35],[25,0,25,5],[13,5,13,16],[13,23,13,34],[14,5,14,16],[14,23,14,34],[15,5,15,16],[15,23,15,34],[10,5,10,16],[10,23,10,34],[11,5,11,16],[11,23,11,34],[12,5,12,16],[12,23,12,34],[7,35,8,35],[8,5,8,16],[8,23,8,34],[9,5,9,16],[9,23,9,34],[7,0,7,5],[7,6,7,16],[7,17,8,17],[7,18,7,23],[7,24,7,34],[0,6,1,35],[3,6,3,28],[3,29,3,35],[5,0,5,3],[5,4,5,8],[5,9,5,10],[5,11,5,13],[5,14,5,17],[5,18,5,28],[5,29,5,32],[5,33,5,35]]}
[{"$nulls":6},{"$f":"'Aufgebot A'!E1","v":"37. Schweizer Cup Männer 2025"}]
[]
[]
[{"$nulls":6},"            Spielbericht",{"$nulls":22},{"$f":"'Aufgebot 11'!A5","v":"1/16 Final "}]
[]
["Datum:  ",null,null,null,{"$f":"'Aufgebot 11'!A15","v":"2025-05-21"},{"$nulls":4},"Zeit:",null,{"$f":"'Aufgebot 11'!G15","v":"19:00:00"},null,null,"Spielort:",null,null,null,{"$f":"'Aufgebot 11'!L15","v":"Schlieren"},{"$nulls":10}," Spiel-Nr.:",null,null,null,{"$f":"'Aufgebot 11'!Y5","v":11}]
[]
["Mannschaft A:",{"$nulls":5},{"$f":"'Aufgebot 11'!A8","v":"STV Schlieren ( NLB O )"},{"$nulls":10},"Verw.","Mannschaft B:",{"$nulls":5},{"$f":"'Aufgebot 11'!O8","v":"FB Schwellbrunn ( NLB  O)"},{"$nulls":10},"Verw."]
["Nr.",null,"Spf.","Eins.","Jg.","Name/Vorname",{"$nulls":12},"Nr.",null,"Spf.","Eins.","Jg.","Name/Vorname"]
[{"$nulls":4},"","",{"$nulls":16},"",""]
[{"$nulls":4},"","",{"$nulls":10},"",{"$nulls":5},"","",{"$nulls":10},""]
[{"$nulls":4},"","",{"$nulls":10},"",{"$nulls":5},"","",{"$nulls":10},""]
[{"$nulls":4},"","",{"$nulls":10},"",{"$nulls":5},"","",{"$nulls":10},""]
[{"$nulls":4},"","",{"$nulls":10},"",{"$nulls":5},"","",{"$nulls":10},""]
[{"$nulls":4},"","",{"$nulls":10},"",{"$nulls":5},"","",{"$nulls":10},""]
[{"$nulls":4},"","",{"$nulls":10},"",{"$nulls":5},"","",{"$nulls":10},""]
[{"$nulls":4},"","",{"$nulls":10},"",{"$nulls":5},"","",{"$nulls":10},""]
[{"$nulls":4},"","",{"$nulls":10},"",{"$nulls":5},"","",{"$nulls":10},""]
[{"$nulls":4},"","",{"$nulls":16},"",""]
[" Trainer:",{"$nulls":5},"",{"$nulls":11},"Trainer:",{"$nulls":5},""]
[" Betreuer:",{"$nulls":5},"",{"$nulls":11}," Betreuer:"]
[]
[" Schiedsrichter:",{"$nulls":5},{"$f":"'Aufgebot 11'!A19&\" \"&'Aufgebot 11'!G19","v":"Patrick Burkhalter +41 78 824 40 11"},{"$nulls":11},"Heimmannschaft Verantw.",{"$nulls":8},{"$f":"'Aufgebot 11'!A9","v":"Andreas Fritschi"}]
[" Linienrichter:",{"$nulls":17}," Linienrichter:"]
[]
["Ballwahl/Anspiel:",{"$nulls":6},"1. Satz:","A",null,"B",null,null,"5. Satz:",null,null,"A",null,"B"]
[]
["Ausserordentliche Vorfälle:  ",{"$nulls":6},"","Protest/Einsprache",null,null,null,"","Ausschluss",null,null,"","Sonstiges",null,null,null,"(Ankreuzen + Bericht mit Unterschrift auf Rückseite)"]
[]
["A",null,"Timeout","1. Satz",null,"A",{"$f":"IF('Aufgebot 11'!$G$34>0,1,\"\")","v":""},{"$f":"IF('Aufgebot 11'!$G$34>0,2,\"\")","v":""},{"$f":"IF('Aufgebot 11'!$G$34=3,3,\"\")","v":""}]
["B",{"$nulls":4},"B"]
["A",null,"Timeout","2. Satz",null,"A",{"$f":"IF('Aufgebot 11'!$G$34>0,1,\"\")","v":""},{"$f":"IF('Aufgebot 11'!$G$34>0,2,\"\")","v":""},{"$f":"IF('Aufgebot 11'!$G$34=3,3,\"\")","v":""}]
["B",{"$nulls":4},"B"]
["A",null,"Timeout","3. Satz",null,"A",{"$f":"IF('Aufgebot 11'!$G$34>0,1,\"\")","v":""},{"$f":"IF('Aufgebot 11'!$G$34>0,2,\"\")","v":""},{"$f":"IF('Aufgebot 11'!$G$34=3,3,\"\")","v":""}]
["B",{"$nulls":4},"B"]
["A",null,"Timeout","4. Satz",null,"A",{"$f":"IF('Aufgebot 11'!$G$34>0,1,\"\")","v":""},{"$f":"IF('Aufgebot 11'!$G$34>0,2,\"\")","v":""},{"$f":"IF('Aufgebot 11'!$G$34=3,3,\"\")","v":""}]
["B",{"$nulls":4},"B"]
[]
["A",null,"Timeout","5. Satz",null,"A",{"$f":"IF('Aufgebot 11'!$G$34>0,1,\"\")","v":""},{"$f":"IF('Aufgebot 11'!$G$34>0,2,\"\")","v":""},{"$f":"IF('Aufgebot 11'!$G$34=3,3,\"\")","v":""}]
["B",{"$nulls":4},"B"]
["A",null,"Timeout","6. Satz",null,"A",{"$f":"IF('Aufgebot 11'!$G$34>0,1,\"\")","v":""},{"$f":"IF('Aufgebot 11'!$G$34>0,2,\"\")","v":""},{"$f":"IF('Aufgebot 11'!$G$34=3,3,\"\")","v":""}]
["B",{"$nulls":4},"B"]
["A",null,"Timeout","7. Satz",null,"A",{"$f":"IF('Aufgebot 11'!$G$34>0,1,\"\")","v":""},{"$f":"IF('Aufgebot 11'!$G$34>0,2,\"\")","v":""},{"$f":"IF('Aufgebot 11'!$G$34=3,3,\"\")","v":""}]
["B",{"$nulls":4},"B"]
["A",null,"Timeout","8. Satz",null,"A",{"$f":"IF('Aufgebot 11'!$G$34>0,1,\"\")","v":""},{"$f":"IF('Aufgebot 11'!$G$34>0,2,\"\")","v":""},{"$f":"IF('Aufgebot 11'!$G$34=3,3,\"\")","v":""}]
["B",{"$nulls":4},"B"]
[]
["A",null,"Timeout","9. Satz",null,"A",{"$f":"IF('Aufgebot 11'!$G$34>0,1,\"\")","v":""},{"$f":"IF('Aufgebot 11'!$G$34>0,2,\"\")","v":""},{"$f":"IF('Aufgebot 11'!$G$34=3,3,\"\")","v":""}]
["B",{"$nulls":4},"B"]
[" Ergebnis    (A:B) ",{"$nulls":4},"1. Satz",null,null,"2. Satz",null,null,"3. Satz",null,null,"4. Satz",null,null,"5. Satz",null,null,null,"6. Satz",null,null,"7. Satz",null,null,"8. Satz",null,null,"9. Satz"]
[{"$nulls":6},":",null,null,":",null,null,":",null,null,":",null,null,":",null,null,null,":",null,null,":",null,null,":",null,null,":"]
["Sieger",{"$nulls":24},"Total Punkte",{"$nulls":4},"Endstand (Sätze)"]
[{"$nulls":25},":",{"$nulls":4},":"]
[" Für die Richtigkeit der Eintragungen"]
[" Schiedsrichter:",{"$nulls":16},"Spielführer A:"]
[" Anschreiber:",{"$nulls":16}," Spielführer B:"]
[]
["Mit sportlichen Grüssen\nSwiss Faustball CUPKO\nBruno Pabst (Präsident)",{"$nulls":23},"Thundorf,",{"$nulls":5},{"$f":"TODAY()","v":"2025-08-28"}]

{"sheet":"Aufgebot 12","index":46,"n_rows":48,"n_cols":26,"rows_kept":48,"cut":false,"hidden":true,"merged":[[41,0,41,2],[41,3,41,20],[41,21,41,23],[41,24,41,26],[50,2,50,8],[43,0,43,26],[44,0,44,8],[44,9,44,15],[44,17,44,24],[47,0,47,19],[47,20,47,22],[47,23,47,26],[36,0,36,26],[37,0,37,26],[38,0,38,26],[39,0,39,2],[39,3,39,5],[39,6,39,8],[39,9,39,11],[39,12,39,14],[39,15,39,17],[39,18,39,20],[39,21,39,23],[39,24,39,26],[35,0,35,5],[35,6,35,26],[26,35,26,38],[28,0,28,26],[30,0,30,26],[31,0,31,3],[31,4,31,16],[31,17,31,26],[31,28,31,29],[32,0,32,26],[33,6,33,7],[33,12,33,14],[33,28,33,29],[34,0,34,26],[26,6,26,8],[26,12,26,18],[26,19,26,20],[26,21,26,22],[26,24,26,26],[16,24,16,26],[19,0,19,26],[22,0,22,11],[22,12,22,14],[24,0,24,2],[18,0,18,5],[18,6,18,11],[18,12,18,16],[18,17,18,26],[16,0,16,11],[16,12,16,15],[16,16,16,18],[16,20,16,23],[13,0,13,5],[13,6,13,10],[13,11,13,18],[13,19,13,26],[14,0,14,5],[14,6,14,10],[14,11,14,18],[14,19,14,26],[10,0,10,5],[10,6,10,12],[10,14,10,19],[10,20,10,26],[11,0,11,12],[11,14,11,26],[8,0,8,12],[8,14,8,26],[9,0,9,5],[9,6,9,12],[9,14,9,19],[9,20,9,26],[6,0,6,12],[6,13,7,13],[6,14,6,26],[6,28,6,29],[6,30,6,31],[7,14,7,26],[0,4,0,21],[2,0,2,26],[2,28,2,30],[4,0,4,4],[4,5,4,11],[4,12,4,13],[4,14,4,19],[4,20,4,23]]}
[{"$nulls":4},{"$f":"Eigaben!Z3","v":"37. Schweizer Cup Männer 2025"}]
[2,null,null,{"$f":"VLOOKUP(A2,Eigaben!Y8:AC14,5,0)","v":"1/16 Final "},{"$nulls":4},2]
["Aufgebot Mannschaften"]
[1]
[{"$f":"VLOOKUP(A2,Eigaben!Y8:AC14,5,0)","v":"1/16 Final "},{"$nulls":4},{"$f":"VLOOKUP($A$2,Eigaben!$Y$8:$AC$14,2,1)","v":"2025-05-05"},{"$nulls":6},"bis",null,{"$f":"VLOOKUP($A$2,Eigaben!$Y$8:$AB$14,3,1)","v":"2025-06-13"},{"$nulls":5},"Spiel - Nr.",null,null,null,12]
[{"$f":"Eigaben!F39","v":44},{"$nulls":13},{"$f":"Eigaben!G39","v":57}]
["Heim - Mannschaft",{"$nulls":13},"Gast - Mannschaft"]
[{"$f":"(VLOOKUP($A$6,Eigaben!$Y$17:$Z$103,2,0))","v":"STV Oberentfelden   ( 2. Liga )"},{"$nulls":13},{"$f":"(VLOOKUP($O$6,Eigaben!$Y$17:$Z$103,2,0))","v":"STV Kirchberg  ( NLB W )"}]
[{"$f":"VLOOKUP($A$6,Eigaben!$Y$17:$AH$103,3,1)&\" \"&VLOOKUP(A6,Eigaben!Y17:AH103,4,1)","v":"Christian Suter"},{"$nulls":13},{"$f":"VLOOKUP($O$6,Eigaben!$Y$17:$AH$103,3,1)&\" \"&VLOOKUP($O$6,Eigaben!$Y$17:$AH$103,4,1)","v":"Rudolf Nyffenegger"}]
[{"$f":"VLOOKUP($A$6,Eigaben!$Y$17:$AH$103,5,1)","v":"Aeppenhaldenstr 3b"},{"$nulls":5},{"$f":"VLOOKUP($A$6,Eigaben!$Y$17:$AH$103,6,1)&\" \"&VLOOKUP(A6,Eigaben!$Y$17:$AH$103,7,1)","v":"4800 Zofingen"},{"$nulls":7},{"$f":"VLOOKUP($O$6,Eigaben!$Y$17:$AH$103,5,1)","v":"Solothurnerstr 31"},{"$nulls":5},{"$f":"VLOOKUP($O$6,Eigaben!$Y$17:$AV$103,6,1)&\" \"&VLOOKUP($O$6,Eigaben!$Y$17:$AV$103,7,1)","v":"3422 Kirchberg"}]
[{"$f":"IF(Eigaben!AF54=0,\"\",VLOOKUP($A$6,Eigaben!$Y$17:$AH$103,8,1))","v":" "},{"$nulls":5},{"$f":"IF(Eigaben!$AG$54=0,\"\",VLOOKUP($A$6,Eigaben!$Y$17:$AH$103,9,1))","v":"079 476 04 32"},{"$nulls":7},{"$f":"IF(Eigaben!AF55=0,\"\",VLOOKUP($O$6,Eigaben!$Y$17:$AH$103,8,1))","v":" "},{"$nulls":5},{"$f":"IF(Eigaben!$P$54=0,\"\",VLOOKUP($O$6,Eigaben!$Y$17:$AH$103,9,1))","v":"079 376 96 25"}]
[{"$f":"VLOOKUP($A$6,Eigaben!$Y$17:$AH$103,10,1)","v":"christian.suter@faustballcenter.ch"},{"$nulls":13},{"$f":"VLOOKUP($O$6,Eigaben!$Y$17:$AH$103,10,1)","v":"faustball@tvkirchberg.ch"}]
[null,null,{"$f":"Eigaben!C39","v":12}]
["Datum",{"$nulls":5},"Zeit",{"$nulls":4},"Ort",{"$nulls":7},"Sportplatz"]
[{"$f":"IF(Eigaben!C28=0,\"\",VLOOKUP(C13,Eigaben!$C$28:$V$109,13,0))","v":"2025-05-28"},{"$nulls":5},{"$f":"IF(Eigaben!C28=0,\"\",VLOOKUP(C13,Eigaben!$C$28:$V$110,14,0))","v":"19:30:00"},{"$nulls":4},{"$f":"IF(Eigaben!C28=0,\"\",VLOOKUP(C13,Eigaben!$C$28:$V$1110,15,0))","v":"Oberentfelden"},{"$nulls":7},{"$f":"IF(Eigaben!C28=0,\"\",VLOOKUP(C13,Eigaben!$C$28:$V$110,16,0))","v":"Erlenweg"}]
[null,null,{"$f":"Eigaben!T39","v":61}]
["Aufgebot Schiedsrichter *"]
[]
[{"$f":"IF(C16=0,\"\",VLOOKUP(C16,Schiri_25!A2:L181,3,1)&\" \"&VLOOKUP(C16,Schiri_25!A2:L181,2,1))","v":"Heinz Krautter"},{"$nulls":5},{"$f":"IF(C16=0,\"\",VLOOKUP(C16,Schiri_25!A2:L181,9,1))","v":"+41 79 203 54 53"},{"$nulls":5},{"$f":"IF(C16=0,\"\",IF(VLOOKUP(C16,Schiri_25!A2:M122,8,1)=0,\"\",VLOOKUP(C16,Schiri_25!A2:M122,8,1)))","v":""},{"$nulls":4},{"$f":"IF(C16=0,\"\",VLOOKUP(C16,Schiri_25!A2:L181,12,1))","v":"heinz@krautter.ch"}]
[]
["* Im Verhinderungsfall sofort Verbindungsaufnahme mit Bruno Pabst: 079 243 02 08"]
[]
["Eintreffen des Schiedsrichters:",{"$nulls":11},{"$f":"IF(G15=\"\",\"\",G15-\"00:15:00\")","v":"19:15:00"}]
[]
["Tenue:",null,null,"Offizielle Schiedsrichterausrüstung blau / schwarz"]
[]
["Taggeld:",{"$nulls":4},"Fr.","**",{"$nulls":5},"Fahrspesen",{"$nulls":6},"Fr",null,1,null,null,{"$f":"Eigaben!V39","v":17}]
[]
["Die Fahrspesen (einfache Fahrt, Fr. 1,00 pro Km)  werden durch die Heim-Mannschaft bezahlt. \n**  (Das Taggeld wird direkt durch die CUPKO ausbezahlt.)"]
[{"$nulls":5},{"$f":"Eigaben!C6","v":"A"}]
["Modus"]
["Spielmodus:",null,null,null,"5 Gewinnsätze bis 11 (max. 15 : 14)",{"$nulls":12},"Pause nach  4 Sätzen max 5 Min."]
[]
["Bonus-Punkte:",{"$nulls":5},{"$f":"Eigaben!S39","v":3}]
[]
["Durchführung:\n",{"$nulls":5},"Bei einer allfälligen Verschiebung muss spätestens 5 Stunden vor Spielbeginn die Gast-Mannschaft, der Schiedsrichter und deer Chef CUPKO per Telefon und SMS informiert werden."]
[]
["Resultatmeldung"]
[]
["1. Satz",null,null,"2. Satz",null,null,"3. Satz",null,null,"4. Satz",null,null,"5. Satz",null,null,"6. Satz",null,null,"7. Satz",null,null,"8. Satz",null,null,"9. Satz"]
[null,":",null,null,":",null,null,":",null,null,":",null,null,":",null,null,":",null,null,":",null,null,":",null,null,":"]
["Sieger",{"$nulls":20},"Sätze",null,null,":"]
[]
["Resultatmeldung bis spätestens 12 Uhr des Folgetages durch den Schiedsrichter  per E-Mail, SMS oder WhatsApp an  "]
["pabst@swissfaustball.ch",{"$nulls":16},"pabst.bruno@bluewin.ch"]
[]
[]
["Mit sportlichen Grüssen\nSwiss Faustball CUPKO\nBruno Pabst (Präsident)",{"$nulls":19},"Thundorf, ",null,null,{"$f":"TODAY()","v":"2025-08-28"}]

{"sheet":"Spielbericht 12","index":47,"n_rows":57,"n_cols":36,"rows_kept":57,"cut":false,"hidden":true,"merged":[[53,0,53,35],[54,0,54,16],[54,17,54,35],[55,0,55,16],[55,17,55,35],[56,0,58,23],[56,24,58,29],[56,30,58,35],[49,30,49,32],[49,33,50,35],[51,0,52,4],[51,25,51,29],[51,30,51,35],[52,25,52,29],[52,30,52,35],[49,11,49,13],[49,14,49,16],[49,17,49,20],[49,21,49,23],[49,24,49,26],[49,27,49,29],[35,2,36,2],[35,3,36,4],[49,8,49,10],[38,2,39,2],[38,3,39,4],[40,2,41,2],[40,3,41,4],[42,2,43,2],[42,3,43,4],[44,2,45,2],[44,3,45,4],[47,2,48,2],[47,3,48,4],[49,0,50,4],[25,13,25,15],[31,2,32,2],[31,3,32,4],[33,2,34,2],[33,3,34,4],[16,5,16,16],[16,23,16,34],[17,5,17,16],[17,23,17,34],[29,2,30,2],[29,3,30,4],[18,5,18,16],[18,23,18,34],[19,18,19,22],[20,18,20,22],[22,6,22,17],[22,27,22,35],[23,6,23,17],[23,18,23,23],[23,24,23,35],[25,0,25,5],[13,5,13,16],[13,23,13,34],[14,5,14,16],[14,23,14,34],[15,5,15,16],[15,23,15,34],[10,5,10,16],[10,23,10,34],[11,5,11,16],[11,23,11,34],[12,5,12,16],[12,23,12,34],[7,35,8,35],[8,5,8,16],[8,23,8,34],[9,5,9,16],[9,23,9,34],[7,0,7,5],[7,6,7,16],[7,17,8,17],[7,18,7,23],[7,24,7,34],[0,6,1,35],[3,6,3,28],[3,29,3,35],[5,0,5,3],[5,4,5,8],[5,9,5,10],[5,11,5,13],[5,14,5,17],[5,18,5,28],[5,29,5,32],[5,33,5,35]]}
[{"$nulls":6},{"$f":"'Aufgebot A'!E1","v":"37. Schweizer Cup Männer 2025"}]
[]
[]
[{"$nulls":6},"            Spielbericht",{"$nulls":22},{"$f":"'Aufgebot 12'!A5","v":"1/16 Final "}]
[]
["Datum:  ",null,null,null,{"$f":"'Aufgebot 12'!A15","v":"2025-05-28"},{"$nulls":4},"Zeit:",null,{"$f":"'Aufgebot 12'!G15","v":"19:30:00"},null,null,"Spielort:",null,null,null,{"$f":"'Aufgebot 12'!L15","v":"Oberentfelden"},{"$nulls":10}," Spiel-Nr.:",null,null,null,{"$f":"'Aufgebot 12'!Y5","v":12}]
[]
["Mannschaft A:",{"$nulls":5},{"$f":"'Aufgebot 12'!A8","v":"STV Oberentfelden   ( 2. Liga )"},{"$nulls":10},"Verw.","Mannschaft B:",{"$nulls":5},{"$f":"'Aufgebot 12'!O8","v":"STV Kirchberg  ( NLB W )"},{"$nulls":10},"Verw."]
["Nr.",null,"Spf.","Eins.","Jg.","Name/Vorname",{"$nulls":12},"Nr.",null,"Spf.","Eins.","Jg.","Name/Vorname"]
[{"$nulls":4},"","",{"$nulls":16},"",""]
[{"$nulls":4},"","",{"$nulls":10},"",{"$nulls":5},"","",{"$nulls":10},""]
[{"$nulls":4},"","",{"$nulls":10},"",{"$nulls":5},"","",{"$nulls":10},""]
[{"$nulls":4},"","",{"$nulls":10},"",{"$nulls":5},"","",{"$nulls":10},""]
[{"$nulls":4},"","",{"$nulls":10},"",{"$nulls":5},"","",{"$nulls":10},""]
[{"$nulls":4},"","",{"$nulls":10},"",{"$nulls":5},"","",{"$nulls":10},""]
[{"$nulls":4},"","",{"$nulls":10},"",{"$nulls":5},"","",{"$nulls":10},""]
[{"$nulls":4},"","",{"$nulls":10},"",{"$nulls":5},"","",{"$nulls":10},""]
[{"$nulls":4},"","",{"$nulls":10},"",{"$nulls":5},"","",{"$nulls":10},""]
[{"$nulls":4},"","",{"$nulls":16},"",""]
[" Trainer:",{"$nulls":5},"",{"$nulls":11},"Trainer:",{"$nulls":5},""]
[" Betreuer:",{"$nulls":5},"",{"$nulls":11}," Betreuer:"]
[]
[" Schiedsrichter:",{"$nulls":5},{"$f":"'Aufgebot 12'!A19&\" \"&'Aufgebot 12'!G19","v":"Heinz Krautter +41 79 203 54 53"},{"$nulls":11},"Heimmannschaft Verantw.",{"$nulls":8},{"$f":"'Aufgebot 12'!A9","v":"Christian Suter"}]
[" Linienrichter:",{"$nulls":17}," Linienrichter:"]
[]
["Ballwahl/Anspiel:",{"$nulls":6},"1. Satz:","A",null,"B",null,null,"5. Satz:",null,null,"A",null,"B"]
[]
["Ausserordentliche Vorfälle:  ",{"$nulls":6},"","Protest/Einsprache",null,null,null,"","Ausschluss",null,null,"","Sonstiges",null,null,null,"(Ankreuzen + Bericht mit Unterschrift auf Rückseite)"]
[]
["A",null,"Timeout","1. Satz",null,"A",{"$f":"IF('Aufgebot 12'!$G$34>0,1,\"\")","v":1},{"$f":"IF('Aufgebot 12'!$G$34>0,2,\"\")","v":2},{"$f":"IF('Aufgebot 12'!$G$34=3,3,\"\")","v":3}]
["B",{"$nulls":4},"B"]
["A",null,"Timeout","2. Satz",null,"A",{"$f":"IF('Aufgebot 12'!$G$34>0,1,\"\")","v":1},{"$f":"IF('Aufgebot 12'!$G$34>0,2,\"\")","v":2},{"$f":"IF('Aufgebot 12'!$G$34=3,3,\"\")","v":3}]
["B",{"$nulls":4},"B"]
["A",null,"Timeout","3. Satz",null,"A",{"$f":"IF('Aufgebot 12'!$G$34>0,1,\"\")","v":1},{"$f":"IF('Aufgebot 12'!$G$34>0,2,\"\")","v":2},{"$f":"IF('Aufgebot 12'!$G$34=3,3,\"\")","v":3}]
["B",{"$nulls":4},"B"]
["A",null,"Timeout","4. Satz",null,"A",{"$f":"IF('Aufgebot 12'!$G$34>0,1,\"\")","v":1},{"$f":"IF('Aufgebot 12'!$G$34>0,2,\"\")","v":2},{"$f":"IF('Aufgebot 12'!$G$34=3,3,\"\")","v":3}]
["B",{"$nulls":4},"B"]
[]
["A",null,"Timeout","5. Satz",null,"A",{"$f":"IF('Aufgebot 12'!$G$34>0,1,\"\")","v":1},{"$f":"IF('Aufgebot 12'!$G$34>0,2,\"\")","v":2},{"$f":"IF('Aufgebot 12'!$G$34=3,3,\"\")","v":3}]
["B",{"$nulls":4},"B"]
["A",null,"Timeout","6. Satz",null,"A",{"$f":"IF('Aufgebot 12'!$G$34>0,1,\"\")","v":1},{"$f":"IF('Aufgebot 12'!$G$34>0,2,\"\")","v":2},{"$f":"IF('Aufgebot 12'!$G$34=3,3,\"\")","v":3}]
["B",{"$nulls":4},"B"]
["A",null,"Timeout","7. Satz",null,"A",{"$f":"IF('Aufgebot 12'!$G$34>0,1,\"\")","v":1},{"$f":"IF('Aufgebot 12'!$G$34>0,2,\"\")","v":2},{"$f":"IF('Aufgebot 12'!$G$34=3,3,\"\")","v":3}]
["B",{"$nulls":4},"B"]
["A",null,"Timeout","8. Satz",null,"A",{"$f":"IF('Aufgebot 12'!$G$34>0,1,\"\")","v":1},{"$f":"IF('Aufgebot 12'!$G$34>0,2,\"\")","v":2},{"$f":"IF('Aufgebot 12'!$G$34=3,3,\"\")","v":3}]
["B",{"$nulls":4},"B"]
[]
["A",null,"Timeout","9. Satz",null,"A",{"$f":"IF('Aufgebot 12'!$G$34>0,1,\"\")","v":1},{"$f":"IF('Aufgebot 12'!$G$34>0,2,\"\")","v":2},{"$f":"IF('Aufgebot 12'!$G$34=3,3,\"\")","v":3}]
["B",{"$nulls":4},"B"]
[" Ergebnis    (A:B) ",{"$nulls":4},"1. Satz",null,null,"2. Satz",null,null,"3. Satz",null,null,"4. Satz",null,null,"5. Satz",null,null,null,"6. Satz",null,null,"7. Satz",null,null,"8. Satz",null,null,"9. Satz"]
[{"$nulls":6},":",null,null,":",null,null,":",null,null,":",null,null,":",null,null,null,":",null,null,":",null,null,":",null,null,":"]
["Sieger",{"$nulls":24},"Total Punkte",{"$nulls":4},"Endstand (Sätze)"]
[{"$nulls":25},":",{"$nulls":4},":"]
[" Für die Richtigkeit der Eintragungen"]
[" Schiedsrichter:",{"$nulls":16},"Spielführer A:"]
[" Anschreiber:",{"$nulls":16}," Spielführer B:"]
["Mit sportlichen Grüssen\nSwiss Faustball CUPKO\nBruno Pabst (Präsident)",{"$nulls":23},"Thundorf,",{"$nulls":5},{"$f":"TODAY()","v":"2025-08-28"}]

{"sheet":"Aufgebot 13","index":48,"n_rows":48,"n_cols":26,"rows_kept":48,"cut":false,"hidden":true,"merged":[[41,0,41,2],[41,3,41,20],[41,21,41,23],[41,24,41,26],[50,2,50,8],[43,0,43,26],[44,0,44,8],[44,9,44,15],[44,17,44,24],[47,0,47,19],[47,20,47,22],[47,23,47,26],[36,0,36,26],[37,0,37,26],[38,0,38,26],[39,0,39,2],[39,3,39,5],[39,6,39,8],[39,9,39,11],[39,12,39,14],[39,15,39,17],[39,18,39,20],[39,21,39,23],[39,24,39,26],[35,0,35,5],[35,6,35,26],[26,35,26,38],[28,0,28,26],[30,0,30,26],[31,0,31,3],[31,4,31,16],[31,17,31,26],[31,28,31,29],[32,0,32,26],[33,6,33,7],[33,12,33,14],[33,28,33,29],[34,0,34,26],[26,6,26,8],[26,12,26,18],[26,19,26,20],[26,21,26,22],[26,24,26,26],[16,24,16,26],[19,0,19,26],[22,0,22,11],[22,12,22,14],[24,0,24,2],[18,0,18,5],[18,6,18,11],[18,12,18,16],[18,17,18,26],[16,0,16,11],[16,12,16,15],[16,16,16,18],[16,20,16,23],[13,0,13,5],[13,6,13,10],[13,11,13,18],[13,19,13,26],[14,0,14,5],[14,6,14,10],[14,11,14,18],[14,19,14,26],[10,0,10,5],[10,6,10,12],[10,14,10,19],[10,20,10,26],[11,0,11,12],[11,14,11,26],[8,0,8,12],[8,14,8,26],[9,0,9,5],[9,6,9,12],[9,14,9,19],[9,20,9,26],[6,0,6,12],[6,13,7,13],[6,14,6,26],[6,28,6,29],[6,30,6,31],[7,14,7,26],[0,4,0,21],[2,0,2,26],[2,28,2,30],[4,0,4,4],[4,5,4,11],[4,12,4,13],[4,14,4,19],[4,20,4,23]]}
[{"$nulls":4},{"$f":"Eigaben!Z3","v":"37. Schweizer Cup Männer 2025"}]
[2,null,null,{"$f":"VLOOKUP(A2,Eigaben!Y8:AC14,5,0)","v":"1/16 Final "},{"$nulls":4},2]
["Aufgebot Mannschaften"]
[1]
[{"$f":"VLOOKUP(A2,Eigaben!Y8:AC14,5,0)","v":"1/16 Final "},{"$nulls":4},{"$f":"VLOOKUP($A$2,Eigaben!$Y$8:$AC$14,2,1)","v":"2025-05-05"},{"$nulls":6},"bis",null,{"$f":"VLOOKUP($A$2,Eigaben!$Y$8:$AB$14,3,1)","v":"2025-06-13"},{"$nulls":5},"Spiel - Nr.",null,null,null,13]
[{"$f":"Eigaben!F40","v":48},{"$nulls":13},{"$f":"Eigaben!G40","v":61}]
["Heim - Mannschaft",{"$nulls":13},"Gast - Mannschaft"]
[{"$f":"(VLOOKUP($A$6,Eigaben!$Y$17:$Z$103,2,0))","v":"STV Alpnach  ( 1. Liga ) W"},{"$nulls":13},{"$f":"(VLOOKUP($O$6,Eigaben!$Y$17:$Z$103,2,0))","v":"STV Schlossrued ( NLB W )"}]
[{"$f":"VLOOKUP($A$6,Eigaben!$Y$17:$AH$103,3,1)&\" \"&VLOOKUP(A6,Eigaben!Y17:AH103,4,1)","v":"Kasper Tobias"},{"$nulls":13},{"$f":"VLOOKUP($O$6,Eigaben!$Y$17:$AH$103,3,1)&\" \"&VLOOKUP($O$6,Eigaben!$Y$17:$AH$103,4,1)","v":"Michael Hochuli"}]
[{"$f":"VLOOKUP($A$6,Eigaben!$Y$17:$AH$103,5,1)","v":"Schneggenhubel 5"},{"$nulls":5},{"$f":"VLOOKUP($A$6,Eigaben!$Y$17:$AH$103,6,1)&\" \"&VLOOKUP(A6,Eigaben!$Y$17:$AH$103,7,1)","v":"6064 Kerns"},{"$nulls":7},{"$f":"VLOOKUP($O$6,Eigaben!$Y$17:$AH$103,5,1)","v":"Gartenstr 4a"},{"$nulls":5},{"$f":"VLOOKUP($O$6,Eigaben!$Y$17:$AV$103,6,1)&\" \"&VLOOKUP($O$6,Eigaben!$Y$17:$AV$103,7,1)","v":"5043 Holzikon"}]
[{"$f":"IF(Eigaben!AF54=0,\"\",VLOOKUP($A$6,Eigaben!$Y$17:$AH$103,8,1))","v":" "},{"$nulls":5},{"$f":"IF(Eigaben!$AG$54=0,\"\",VLOOKUP($A$6,Eigaben!$Y$17:$AH$103,9,1))","v":"079 713 39 48"},{"$nulls":7},{"$f":"IF(Eigaben!AF55=0,\"\",VLOOKUP($O$6,Eigaben!$Y$17:$AH$103,8,1))","v":" "},{"$nulls":5},{"$f":"IF(Eigaben!$P$54=0,\"\",VLOOKUP($O$6,Eigaben!$Y$17:$AH$103,9,1))","v":"079 607 23 24"}]
[{"$f":"VLOOKUP($A$6,Eigaben!$Y$17:$AH$103,10,1)","v":"m.bucher@hs-team.ch"},{"$nulls":13},{"$f":"VLOOKUP($O$6,Eigaben!$Y$17:$AH$103,10,1)","v":"michi_ho1997@hotmail.com"}]
[null,null,{"$f":"Eigaben!C40","v":13}]
["Datum",{"$nulls":5},"Zeit",{"$nulls":4},"Ort",{"$nulls":7},"Sportplatz"]
[{"$f":"IF(Eigaben!C28=0,\"\",VLOOKUP(C13,Eigaben!$C$28:$V$109,13,0))","v":"2025-06-05"},{"$nulls":5},{"$f":"IF(Eigaben!C28=0,\"\",VLOOKUP(C13,Eigaben!$C$28:$V$110,14,0))","v":"19:30:00"},{"$nulls":4},{"$f":"IF(Eigaben!C28=0,\"\",VLOOKUP(C13,Eigaben!$C$28:$V$1110,15,0))","v":"Aalpnach"},{"$nulls":7},{"$f":"IF(Eigaben!C28=0,\"\",VLOOKUP(C13,Eigaben!$C$28:$V$110,16,0))","v":"Sportplatz Giswil"}]
[null,null,{"$f":"Eigaben!T40","v":73}]
["Aufgebot Schiedsrichter *"]
[]
[{"$f":"IF(C16=0,\"\",VLOOKUP(C16,Schiri_25!A2:L181,3,1)&\" \"&VLOOKUP(C16,Schiri_25!A2:L181,2,1))","v":"Valon Shabanaj"},{"$nulls":5},{"$f":"IF(C16=0,\"\",VLOOKUP(C16,Schiri_25!A2:L181,9,1))","v":"+41 79 460 34 25"},{"$nulls":5},{"$f":"IF(C16=0,\"\",IF(VLOOKUP(C16,Schiri_25!A2:M122,8,1)=0,\"\",VLOOKUP(C16,Schiri_25!A2:M122,8,1)))","v":""},{"$nulls":4},{"$f":"IF(C16=0,\"\",VLOOKUP(C16,Schiri_25!A2:L181,12,1))","v":"valon.shabanaj@outlook.com"}]
[]
["* Im Verhinderungsfall sofort Verbindungsaufnahme mit Bruno Pabst: 079 243 02 08"]
[]
["Eintreffen des Schiedsrichters:",{"$nulls":11},{"$f":"IF(G15=\"\",\"\",G15-\"00:15:00\")","v":"19:15:00"}]
[]
["Tenue:",null,null,"Offizielle Schiedsrichterausrüstung blau / schwarz"]
[]
["Taggeld:",{"$nulls":4},"Fr.","**",{"$nulls":5},"Fahrspesen",{"$nulls":6},"Fr",null,1,null,null,{"$f":"Eigaben!V40","v":30}]
[]
["Die Fahrspesen (einfache Fahrt, Fr. 1,00 pro Km)  werden durch die Heim-Mannschaft bezahlt. \n**  (Das Taggeld wird direkt durch die CUPKO ausbezahlt.)"]
[{"$nulls":5},{"$f":"Eigaben!C6","v":"A"}]
["Modus"]
["Spielmodus:",null,null,null,"5 Gewinnsätze bis 11 (max. 15 : 14)",{"$nulls":12},"Pause nach  4 Sätzen max 5 Min."]
[]
["Bonus-Punkte:",{"$nulls":5},{"$f":"Eigaben!S40","v":2}]
[]
["Durchführung:\n",{"$nulls":5},"Bei einer allfälligen Verschiebung muss spätestens 5 Stunden vor Spielbeginn die Gast-Mannschaft, der Schiedsrichter und deer Chef CUPKO per Telefon und SMS informiert werden."]
[]
["Resultatmeldung"]
[]
["1. Satz",null,null,"2. Satz",null,null,"3. Satz",null,null,"4. Satz",null,null,"5. Satz",null,null,"6. Satz",null,null,"7. Satz",null,null,"8. Satz",null,null,"9. Satz"]
[null,":",null,null,":",null,null,":",null,null,":",null,null,":",null,null,":",null,null,":",null,null,":",null,null,":"]
["Sieger",{"$nulls":20},"Sätze",null,null,":"]
[]
["Resultatmeldung bis spätestens 12 Uhr des Folgetages durch den Schiedsrichter  per E-Mail, SMS oder WhatsApp an  "]
["pabst@swissfaustball.ch",{"$nulls":16},"pabst.bruno@bluewin.ch"]
[]
[]
["Mit sportlichen Grüssen\nSwiss Faustball CUPKO\nBruno Pabst (Präsident)",{"$nulls":19},"Thundorf, ",null,null,{"$f":"TODAY()","v":"2025-08-28"}]

{"sheet":"Spielbericht 13","index":49,"n_rows":58,"n_cols":36,"rows_kept":58,"cut":false,"hidden":true,"merged":[[54,0,54,35],[55,0,55,16],[55,17,55,35],[56,0,56,16],[56,17,56,35],[57,0,59,23],[57,24,59,29],[57,30,59,35],[50,30,50,32],[50,33,51,35],[52,0,53,4],[52,25,52,29],[52,30,52,35],[53,25,53,29],[53,30,53,35],[50,11,50,13],[50,14,50,16],[50,17,50,20],[50,21,50,23],[50,24,50,26],[50,27,50,29],[35,2,36,2],[35,3,36,4],[50,8,50,10],[38,2,39,2],[38,3,39,4],[40,2,41,2],[40,3,41,4],[42,2,43,2],[42,3,43,4],[44,2,45,2],[44,3,45,4],[47,2,48,2],[47,3,48,4],[50,0,51,4],[25,13,25,15],[31,2,32,2],[31,3,32,4],[33,2,34,2],[33,3,34,4],[16,5,16,16],[16,23,16,34],[17,5,17,16],[17,23,17,34],[29,2,30,2],[29,3,30,4],[18,5,18,16],[18,23,18,34],[19,18,19,22],[20,18,20,22],[22,6,22,17],[22,27,22,35],[23,6,23,17],[23,18,23,23],[23,24,23,35],[25,0,25,5],[13,5,13,16],[13,23,13,34],[14,5,14,16],[14,23,14,34],[15,5,15,16],[15,23,15,34],[10,5,10,16],[10,23,10,34],[11,5,11,16],[11,23,11,34],[12,5,12,16],[12,23,12,34],[7,35,8,35],[8,5,8,16],[8,23,8,34],[9,5,9,16],[9,23,9,34],[7,0,7,5],[7,6,7,16],[7,17,8,17],[7,18,7,23],[7,24,7,34],[0,6,1,35],[3,6,3,28],[3,29,3,35],[5,0,5,3],[5,4,5,8],[5,9,5,10],[5,11,5,13],[5,14,5,17],[5,18,5,28],[5,29,5,32],[5,33,5,35]]}
[{"$nulls":6},{"$f":"'Aufgebot A'!E1","v":"37. Schweizer Cup Männer 2025"}]
[]
[]
[{"$nulls":6},"            Spielbericht",{"$nulls":22},{"$f":"'Aufgebot 13'!A5","v":"1/16 Final "}]
[]
["Datum:  ",null,null,null,{"$f":"'Aufgebot 13'!A15","v":"2025-06-05"},{"$nulls":4},"Zeit:",null,{"$f":"'Aufgebot 13'!G15","v":"19:30:00"},null,null,"Spielort:",null,null,null,{"$f":"'Aufgebot 13'!L15","v":"Aalpnach"},{"$nulls":10}," Spiel-Nr.:",null,null,null,{"$f":"'Aufgebot 13'!Y5","v":13}]
[]
["Mannschaft A:",{"$nulls":5},{"$f":"'Aufgebot 13'!A8","v":"STV Alpnach  ( 1. Liga ) W"},{"$nulls":10},"Verw.","Mannschaft B:",{"$nulls":5},{"$f":"'Aufgebot 13'!O8","v":"STV Schlossrued ( NLB W )"},{"$nulls":10},"Verw."]
["Nr.",null,"Spf.","Eins.","Jg.","Name/Vorname",{"$nulls":12},"Nr.",null,"Spf.","Eins.","Jg.","Name/Vorname"]
[{"$nulls":4},"","",{"$nulls":16},"",""]
[{"$nulls":4},"","",{"$nulls":10},"",{"$nulls":5},"","",{"$nulls":10},""]
[{"$nulls":4},"","",{"$nulls":10},"",{"$nulls":5},"","",{"$nulls":10},""]
[{"$nulls":4},"","",{"$nulls":10},"",{"$nulls":5},"","",{"$nulls":10},""]
[{"$nulls":4},"","",{"$nulls":10},"",{"$nulls":5},"","",{"$nulls":10},""]
[{"$nulls":4},"","",{"$nulls":10},"",{"$nulls":5},"","",{"$nulls":10},""]
[{"$nulls":4},"","",{"$nulls":10},"",{"$nulls":5},"","",{"$nulls":10},""]
[{"$nulls":4},"","",{"$nulls":10},"",{"$nulls":5},"","",{"$nulls":10},""]
[{"$nulls":4},"","",{"$nulls":10},"",{"$nulls":5},"","",{"$nulls":10},""]
[{"$nulls":4},"","",{"$nulls":16},"",""]
[" Trainer:",{"$nulls":5},"",{"$nulls":11},"Trainer:",{"$nulls":5},""]
[" Betreuer:",{"$nulls":5},"",{"$nulls":11}," Betreuer:"]
[]
[" Schiedsrichter:",{"$nulls":5},{"$f":"'Aufgebot 13'!A19&\" \"&'Aufgebot 13'!G19","v":"Valon Shabanaj +41 79 460 34 25"},{"$nulls":11},"Heimmannschaft Verantw.",{"$nulls":8},{"$f":"'Aufgebot 13'!A9","v":"Kasper Tobias"}]
[" Linienrichter:",{"$nulls":17}," Linienrichter:"]
[]
["Ballwahl/Anspiel:",{"$nulls":6},"1. Satz:","A",null,"B",null,null,"5. Satz:",null,null,"A",null,"B"]
[]
["Ausserordentliche Vorfälle:  ",{"$nulls":6},"","Protest/Einsprache",null,null,null,"","Ausschluss",null,null,"","Sonstiges",null,null,null,"(Ankreuzen + Bericht mit Unterschrift auf Rückseite)"]
[]
["A",null,"Timeout","1. Satz",null,"A",{"$f":"IF('Aufgebot 13'!$G$34>0,1,\"\")","v":1},{"$f":"IF('Aufgebot 13'!$G$34>0,2,\"\")","v":2},{"$f":"IF('Aufgebot 13'!$G$34=3,3,\"\")","v":""}]
["B",{"$nulls":4},"B"]
["A",null,"Timeout","2. Satz",null,"A",{"$f":"IF('Aufgebot 13'!$G$34>0,1,\"\")","v":1},{"$f":"IF('Aufgebot 13'!$G$34>0,2,\"\")","v":2},{"$f":"IF('Aufgebot 13'!$G$34=3,3,\"\")","v":""}]
["B",{"$nulls":4},"B"]
["A",null,"Timeout","3. Satz",null,"A",{"$f":"IF('Aufgebot 13'!$G$34>0,1,\"\")","v":1},{"$f":"IF('Aufgebot 13'!$G$34>0,2,\"\")","v":2},{"$f":"IF('Aufgebot 13'!$G$34=3,3,\"\")","v":""}]
["B",{"$nulls":4},"B"]
["A",null,"Timeout","4. Satz",null,"A",{"$f":"IF('Aufgebot 13'!$G$34>0,1,\"\")","v":1},{"$f":"IF('Aufgebot 13'!$G$34>0,2,\"\")","v":2},{"$f":"IF('Aufgebot 13'!$G$34=3,3,\"\")","v":""}]
["B",{"$nulls":4},"B"]
[]
["A",null,"Timeout","5. Satz",null,"A",{"$f":"IF('Aufgebot 13'!$G$34>0,1,\"\")","v":1},{"$f":"IF('Aufgebot 13'!$G$34>0,2,\"\")","v":2},{"$f":"IF('Aufgebot 13'!$G$34=3,3,\"\")","v":""}]
["B",{"$nulls":4},"B"]
["A",null,"Timeout","6. Satz",null,"A",{"$f":"IF('Aufgebot 13'!$G$34>0,1,\"\")","v":1},{"$f":"IF('Aufgebot 13'!$G$34>0,2,\"\")","v":2},{"$f":"IF('Aufgebot 13'!$G$34=3,3,\"\")","v":""}]
["B",{"$nulls":4},"B"]
["A",null,"Timeout","7. Satz",null,"A",{"$f":"IF('Aufgebot 13'!$G$34>0,1,\"\")","v":1},{"$f":"IF('Aufgebot 13'!$G$34>0,2,\"\")","v":2},{"$f":"IF('Aufgebot 13'!$G$34=3,3,\"\")","v":""}]
["B",{"$nulls":4},"B"]
["A",null,"Timeout","8. Satz",null,"A",{"$f":"IF('Aufgebot 13'!$G$34>0,1,\"\")","v":1},{"$f":"IF('Aufgebot 13'!$G$34>0,2,\"\")","v":2},{"$f":"IF('Aufgebot 13'!$G$34=3,3,\"\")","v":""}]
["B",{"$nulls":4},"B"]
[]
["A",null,"Timeout","9. Satz",null,"A",{"$f":"IF('Aufgebot 13'!$G$34>0,1,\"\")","v":1},{"$f":"IF('Aufgebot 13'!$G$34>0,2,\"\")","v":2},{"$f":"IF('Aufgebot 13'!$G$34=3,3,\"\")","v":""}]
["B",{"$nulls":4},"B"]
[]
[" Ergebnis    (A:B) ",{"$nulls":4},"1. Satz",null,null,"2. Satz",null,null,"3. Satz",null,null,"4. Satz",null,null,"5. Satz",null,null,null,"6. Satz",null,null,"7. Satz",null,null,"8. Satz",null,null,"9. Satz"]
[{"$nulls":6},":",null,null,":",null,null,":",null,null,":",null,null,":",null,null,null,":",null,null,":",null,null,":",null,null,":"]
["Sieger",{"$nulls":24},"Total Punkte",{"$nulls":4},"Endstand (Sätze)"]
[{"$nulls":25},":",{"$nulls":4},":"]
[" Für die Richtigkeit der Eintragungen"]
[" Schiedsrichter:",{"$nulls":16},"Spielführer A:"]
[" Anschreiber:",{"$nulls":16}," Spielführer B:"]
["Mit sportlichen Grüssen\nSwiss Faustball CUPKO\nBruno Pabst (Präsident)",{"$nulls":23},"Thundorf,",{"$nulls":5},{"$f":"TODAY()","v":"2025-08-28"}]

{"sheet":"Aufgebot 14","index":50,"n_rows":48,"n_cols":26,"rows_kept":48,"cut":false,"hidden":true,"merged":[[41,0,41,2],[41,3,41,20],[41,21,41,23],[41,24,41,26],[50,2,50,8],[43,0,43,26],[44,0,44,8],[44,9,44,15],[44,17,44,24],[47,0,47,19],[47,20,47,22],[47,23,47,26],[36,0,36,26],[37,0,37,26],[38,0,38,26],[39,0,39,2],[39,3,39,5],[39,6,39,8],[39,9,39,11],[39,12,39,14],[39,15,39,17],[39,18,39,20],[39,21,39,23],[39,24,39,26],[35,0,35,5],[35,6,35,26],[26,35,26,38],[28,0,28,26],[30,0,30,26],[31,0,31,3],[31,4,31,16],[31,17,31,26],[31,28,31,29],[32,0,32,26],[33,6,33,7],[33,12,33,14],[33,28,33,29],[34,0,34,26],[26,6,26,8],[26,12,26,18],[26,19,26,20],[26,21,26,22],[26,24,26,26],[16,24,16,26],[19,0,19,26],[22,0,22,11],[22,12,22,14],[24,0,24,2],[18,0,18,5],[18,6,18,11],[18,12,18,16],[18,17,18,26],[16,0,16,11],[16,12,16,15],[16,16,16,18],[16,20,16,23],[13,0,13,5],[13,6,13,10],[13,11,13,18],[13,19,13,26],[14,0,14,5],[14,6,14,10],[14,11,14,18],[14,19,14,26],[10,0,10,5],[10,6,10,12],[10,14,10,19],[10,20,10,26],[11,0,11,12],[11,14,11,26],[8,0,8,12],[8,14,8,26],[9,0,9,5],[9,6,9,12],[9,14,9,19],[9,20,9,26],[6,0,6,12],[6,13,7,13],[6,14,6,26],[6,28,6,29],[6,30,6,31],[7,14,7,26],[0,4,0,21],[2,0,2,26],[2,28,2,30],[4,0,4,4],[4,5,4,11],[4,12,4,13],[4,14,4,19],[4,20,4,23]]}
[{"$nulls":4},{"$f":"Eigaben!Z3","v":"37. Schweizer Cup Männer 2025"}]
[2,null,null,{"$f":"VLOOKUP(A2,Eigaben!Y8:AC14,5,0)","v":"1/16 Final "},{"$nulls":4},2]
["Aufgebot Mannschaften"]
[1]
[{"$f":"VLOOKUP(A2,Eigaben!Y8:AC14,5,0)","v":"1/16 Final "},{"$nulls":4},{"$f":"VLOOKUP($A$2,Eigaben!$Y$8:$AC$14,2,1)","v":"2025-05-05"},{"$nulls":6},"bis",null,{"$f":"VLOOKUP($A$2,Eigaben!$Y$8:$AB$14,3,1)","v":"2025-06-13"},{"$nulls":5},"Spiel - Nr.",null,null,null,14]
[{"$f":"Eigaben!F41","v":39},{"$nulls":13},{"$f":"Eigaben!G41","v":69}]
["Heim - Mannschaft",{"$nulls":13},"Gast - Mannschaft"]
[{"$f":"(VLOOKUP($A$6,Eigaben!$Y$17:$Z$103,2,0))","v":"MR Beringen ( 2. Liga )"},{"$nulls":13},{"$f":"(VLOOKUP($O$6,Eigaben!$Y$17:$Z$103,2,0))","v":"FG Rickenbach-Wilen ( NLA )"}]
[{"$f":"VLOOKUP($A$6,Eigaben!$Y$17:$AH$103,3,1)&\" \"&VLOOKUP(A6,Eigaben!Y17:AH103,4,1)","v":"Stefan Kunz"},{"$nulls":13},{"$f":"VLOOKUP($O$6,Eigaben!$Y$17:$AH$103,3,1)&\" \"&VLOOKUP($O$6,Eigaben!$Y$17:$AH$103,4,1)","v":"Jonas Hess"}]
[{"$f":"VLOOKUP($A$6,Eigaben!$Y$17:$AH$103,5,1)","v":"Mühleweg 15"},{"$nulls":5},{"$f":"VLOOKUP($A$6,Eigaben!$Y$17:$AH$103,6,1)&\" \"&VLOOKUP(A6,Eigaben!$Y$17:$AH$103,7,1)","v":"8222 Beringen"},{"$nulls":7},{"$f":"VLOOKUP($O$6,Eigaben!$Y$17:$AH$103,5,1)","v":" "},{"$nulls":5},{"$f":"VLOOKUP($O$6,Eigaben!$Y$17:$AV$103,6,1)&\" \"&VLOOKUP($O$6,Eigaben!$Y$17:$AV$103,7,1)","v":"   "}]
[{"$f":"IF(Eigaben!AF54=0,\"\",VLOOKUP($A$6,Eigaben!$Y$17:$AH$103,8,1))","v":"052 685 20 53"},{"$nulls":5},{"$f":"IF(Eigaben!$AG$54=0,\"\",VLOOKUP($A$6,Eigaben!$Y$17:$AH$103,9,1))","v":"052 685 01 01"},{"$nulls":7},{"$f":"IF(Eigaben!AF55=0,\"\",VLOOKUP($O$6,Eigaben!$Y$17:$AH$103,8,1))","v":" "},{"$nulls":5},{"$f":"IF(Eigaben!$P$54=0,\"\",VLOOKUP($O$6,Eigaben!$Y$17:$AH$103,9,1))","v":"079 900 69 17"}]
[{"$f":"VLOOKUP($A$6,Eigaben!$Y$17:$AH$103,10,1)","v":"faustball@mrberingen.ch"},{"$nulls":13},{"$f":"VLOOKUP($O$6,Eigaben!$Y$17:$AH$103,10,1)","v":"spiko@fgriwi.ch"}]
[null,null,{"$f":"Eigaben!C41","v":14}]
["Datum",{"$nulls":5},"Zeit",{"$nulls":4},"Ort",{"$nulls":7},"Sportplatz"]
[{"$f":"IF(Eigaben!C41=0,\"\",VLOOKUP(C13,Eigaben!$C$28:$V$109,13,0))","v":"2025-05-15"},{"$nulls":5},{"$f":"IF(Eigaben!C41=0,\"\",VLOOKUP(C13,Eigaben!$C$28:$V$110,14,0))","v":"19:00:00"},{"$nulls":4},{"$f":"IF(Eigaben!C41=0,\"\",VLOOKUP(C13,Eigaben!$C$28:$V$1110,15,0))","v":"Beringen"},{"$nulls":7},{"$f":"IF(Eigaben!C41=0,\"\",VLOOKUP(C13,Eigaben!$C$28:$V$110,16,0))","v":"Schulhaus Zimmerberg"}]
[null,null,{"$f":"Eigaben!T41","v":5}]
["Aufgebot Schiedsrichter *"]
[]
[{"$f":"IF(C16=0,\"\",VLOOKUP(C16,Schiri_25!A2:L181,3,1)&\" \"&VLOOKUP(C16,Schiri_25!A2:L181,2,1))","v":"Cornelia Chollet"},{"$nulls":5},{"$f":"IF(C16=0,\"\",VLOOKUP(C16,Schiri_25!A2:L181,9,1))","v":"+41 78 859 60 54"},{"$nulls":5},{"$f":"IF(C16=0,\"\",IF(VLOOKUP(C16,Schiri_25!A2:M122,8,1)=0,\"\",VLOOKUP(C16,Schiri_25!A2:M122,8,1)))","v":"+41 52 233 93 58"},{"$nulls":4},{"$f":"IF(C16=0,\"\",VLOOKUP(C16,Schiri_25!A2:L181,12,1))","v":"cocho76@hispeed.ch"}]
[]
["* Im Verhinderungsfall sofort Verbindungsaufnahme mit Bruno Pabst: 079 243 02 08"]
[]
["Eintreffen des Schiedsrichters:",{"$nulls":11},{"$f":"IF(G15=\"\",\"\",G15-\"00:15:00\")","v":"18:45:00"}]
[]
["Tenue:",null,null,"Offizielle Schiedsrichterausrüstung gelb / schwarz"]
[]
["Taggeld:",{"$nulls":4},"Fr.","**",{"$nulls":5},"Fahrspesen",{"$nulls":6},"Fr",null,1,null,null,{"$f":"Eigaben!V41","v":26}]
[]
["Die Fahrspesen (einfache Fahrt, Fr. 1,00 pro Km)  werden durch die Heim-Mannschaft bezahlt. \n**  (Das Taggeld wird direkt durch die CUPKO ausbezahlt.)"]
[{"$nulls":5},{"$f":"Eigaben!C6","v":"A"}]
["Modus"]
["Spielmodus:",null,null,null,"5 Gewinnsätze bis 11 (max. 15 : 14)",{"$nulls":12},"Pause nach  4 Sätzen max 5 Min."]
[]
["Bonus-Punkte:",{"$nulls":5},{"$f":"Eigaben!S41","v":3}]
[]
["Durchführung:\n",{"$nulls":5},"Bei einer allfälligen Verschiebung muss spätestens 5 Stunden vor Spielbeginn die Gast-Mannschaft, der Schiedsrichter und deer Chef CUPKO per Telefon und SMS informiert werden."]
[]
["Resultatmeldung"]
[]
["1. Satz",null,null,"2. Satz",null,null,"3. Satz",null,null,"4. Satz",null,null,"5. Satz",null,null,"6. Satz",null,null,"7. Satz",null,null,"8. Satz",null,null,"9. Satz"]
[null,":",null,null,":",null,null,":",null,null,":",null,null,":",null,null,":",null,null,":",null,null,":",null,null,":"]
["Sieger",{"$nulls":20},"Sätze",null,null,":"]
[]
["Resultatmeldung bis spätestens 12 Uhr des Folgetages durch den Schiedsrichter  per E-Mail, SMS oder WhatsApp an  "]
["pabst@swissfaustball.ch",{"$nulls":16},"pabst.bruno@bluewin.ch"]
[]
[]
["Mit sportlichen Grüssen\nSwiss Faustball CUPKO\nBruno Pabst (Präsident)",{"$nulls":19},"Thundorf, ",null,null,{"$f":"TODAY()","v":"2025-08-28"}]

{"sheet":"Spielbericht 14","index":51,"n_rows":58,"n_cols":36,"rows_kept":58,"cut":false,"hidden":true,"merged":[[54,0,54,35],[55,0,55,16],[55,17,55,35],[56,0,56,16],[56,17,56,35],[57,0,59,23],[57,24,59,29],[57,30,59,35],[50,30,50,32],[50,33,51,35],[52,0,53,4],[52,25,52,29],[52,30,52,35],[53,25,53,29],[53,30,53,35],[50,11,50,13],[50,14,50,16],[50,17,50,20],[50,21,50,23],[50,24,50,26],[50,27,50,29],[35,2,36,2],[35,3,36,4],[50,8,50,10],[38,2,39,2],[38,3,39,4],[40,2,41,2],[40,3,41,4],[42,2,43,2],[42,3,43,4],[44,2,45,2],[44,3,45,4],[47,2,48,2],[47,3,48,4],[50,0,51,4],[25,13,25,15],[31,2,32,2],[31,3,32,4],[33,2,34,2],[33,3,34,4],[16,5,16,16],[16,23,16,34],[17,5,17,16],[17,23,17,34],[29,2,30,2],[29,3,30,4],[18,5,18,16],[18,23,18,34],[19,18,19,22],[20,18,20,22],[22,6,22,17],[22,27,22,35],[23,6,23,17],[23,18,23,23],[23,24,23,35],[25,0,25,5],[13,5,13,16],[13,23,13,34],[14,5,14,16],[14,23,14,34],[15,5,15,16],[15,23,15,34],[10,5,10,16],[10,23,10,34],[11,5,11,16],[11,23,11,34],[12,5,12,16],[12,23,12,34],[7,35,8,35],[8,5,8,16],[8,23,8,34],[9,5,9,16],[9,23,9,34],[7,0,7,5],[7,6,7,16],[7,17,8,17],[7,18,7,23],[7,24,7,34],[0,6,1,35],[3,6,3,28],[3,29,3,35],[5,0,5,3],[5,4,5,8],[5,9,5,10],[5,11,5,13],[5,14,5,17],[5,18,5,28],[5,29,5,32],[5,33,5,35]]}
[{"$nulls":6},{"$f":"'Aufgebot A'!E1","v":"37. Schweizer Cup Männer 2025"}]
[]
[]
[{"$nulls":6},"            Spielbericht",{"$nulls":22},{"$f":"'Aufgebot 14'!A5","v":"1/16 Final "}]
[]
["Datum:  ",null,null,null,{"$f":"'Aufgebot 14'!A15","v":"2025-05-15"},{"$nulls":4},"Zeit:",null,{"$f":"'Aufgebot 14'!G15","v":"19:00:00"},null,null,"Spielort:",null,null,null,{"$f":"'Aufgebot 14'!L15","v":"Beringen"},{"$nulls":10}," Spiel-Nr.:",null,null,null,{"$f":"'Aufgebot 14'!Y5","v":14}]
[]
["Mannschaft A:",{"$nulls":5},{"$f":"'Aufgebot 14'!A8","v":"MR Beringen ( 2. Liga )"},{"$nulls":10},"Verw.","Mannschaft B:",{"$nulls":5},{"$f":"'Aufgebot 14'!O8","v":"FG Rickenbach-Wilen ( NLA )"},{"$nulls":10},"Verw."]
["Nr.",null,"Spf.","Eins.","Jg.","Name/Vorname",{"$nulls":12},"Nr.",null,"Spf.","Eins.","Jg.","Name/Vorname"]
[{"$nulls":4},"","",{"$nulls":16},"",""]
[{"$nulls":4},"","",{"$nulls":10},"",{"$nulls":5},"","",{"$nulls":10},""]
[{"$nulls":4},"","",{"$nulls":10},"",{"$nulls":5},"","",{"$nulls":10},""]
[{"$nulls":4},"","",{"$nulls":10},"",{"$nulls":5},"","",{"$nulls":10},""]
[{"$nulls":4},"","",{"$nulls":10},"",{"$nulls":5},"","",{"$nulls":10},""]
[{"$nulls":4},"","",{"$nulls":10},"",{"$nulls":5},"","",{"$nulls":10},""]
[{"$nulls":4},"","",{"$nulls":10},"",{"$nulls":5},"","",{"$nulls":10},""]
[{"$nulls":4},"","",{"$nulls":10},"",{"$nulls":5},"","",{"$nulls":10},""]
[{"$nulls":4},"","",{"$nulls":10},"",{"$nulls":5},"","",{"$nulls":10},""]
[{"$nulls":4},"","",{"$nulls":16},"",""]
[" Trainer:",{"$nulls":5},"",{"$nulls":11},"Trainer:",{"$nulls":5},""]
[" Betreuer:",{"$nulls":5},"",{"$nulls":11}," Betreuer:"]
[]
[" Schiedsrichter:",{"$nulls":5},{"$f":"'Aufgebot 14'!A19&\" \"&'Aufgebot 14'!G19","v":"Cornelia Chollet +41 78 859 60 54"},{"$nulls":11},"Heimmannschaft Verantw.",{"$nulls":8},{"$f":"'Aufgebot 14'!A9","v":"Stefan Kunz"}]
[" Linienrichter:",{"$nulls":17}," Linienrichter:"]
[]
["Ballwahl/Anspiel:",{"$nulls":6},"1. Satz:","A",null,"B",null,null,"5. Satz:",null,null,"A",null,"B"]
[]
["Ausserordentliche Vorfälle:  ",{"$nulls":6},"","Protest/Einsprache",null,null,null,"","Ausschluss",null,null,"","Sonstiges",null,null,null,"(Ankreuzen + Bericht mit Unterschrift auf Rückseite)"]
[]
["A",null,"Timeout","1. Satz",null,"A",{"$f":"IF('Aufgebot 14'!$G$34>0,1,\"\")","v":1},{"$f":"IF('Aufgebot 14'!$G$34>0,2,\"\")","v":2},{"$f":"IF('Aufgebot 14'!$G$34=3,3,\"\")","v":3}]
["B",{"$nulls":4},"B"]
["A",null,"Timeout","2. Satz",null,"A",{"$f":"IF('Aufgebot 14'!$G$34>0,1,\"\")","v":1},{"$f":"IF('Aufgebot 14'!$G$34>0,2,\"\")","v":2},{"$f":"IF('Aufgebot 14'!$G$34=3,3,\"\")","v":3}]
["B",{"$nulls":4},"B"]
["A",null,"Timeout","3. Satz",null,"A",{"$f":"IF('Aufgebot 14'!$G$34>0,1,\"\")","v":1},{"$f":"IF('Aufgebot 14'!$G$34>0,2,\"\")","v":2},{"$f":"IF('Aufgebot 14'!$G$34=3,3,\"\")","v":3}]
["B",{"$nulls":4},"B"]
["A",null,"Timeout","4. Satz",null,"A",{"$f":"IF('Aufgebot 14'!$G$34>0,1,\"\")","v":1},{"$f":"IF('Aufgebot 14'!$G$34>0,2,\"\")","v":2},{"$f":"IF('Aufgebot 14'!$G$34=3,3,\"\")","v":3}]
["B",{"$nulls":4},"B"]
[]
["A",null,"Timeout","5. Satz",null,"A",{"$f":"IF('Aufgebot 14'!$G$34>0,1,\"\")","v":1},{"$f":"IF('Aufgebot 14'!$G$34>0,2,\"\")","v":2},{"$f":"IF('Aufgebot 14'!$G$34=3,3,\"\")","v":3}]
["B",{"$nulls":4},"B"]
["A",null,"Timeout","6. Satz",null,"A",{"$f":"IF('Aufgebot 14'!$G$34>0,1,\"\")","v":1},{"$f":"IF('Aufgebot 14'!$G$34>0,2,\"\")","v":2},{"$f":"IF('Aufgebot 14'!$G$34=3,3,\"\")","v":3}]
["B",{"$nulls":4},"B"]
["A",null,"Timeout","7. Satz",null,"A",{"$f":"IF('Aufgebot 14'!$G$34>0,1,\"\")","v":1},{"$f":"IF('Aufgebot 14'!$G$34>0,2,\"\")","v":2},{"$f":"IF('Aufgebot 14'!$G$34=3,3,\"\")","v":3}]
["B",{"$nulls":4},"B"]
["A",null,"Timeout","8. Satz",null,"A",{"$f":"IF('Aufgebot 14'!$G$34>0,1,\"\")","v":1},{"$f":"IF('Aufgebot 14'!$G$34>0,2,\"\")","v":2},{"$f":"IF('Aufgebot 14'!$G$34=3,3,\"\")","v":3}]
["B",{"$nulls":4},"B"]
[]
["A",null,"Timeout","9. Satz",null,"A",{"$f":"IF('Aufgebot 14'!$G$34>0,1,\"\")","v":1},{"$f":"IF('Aufgebot 14'!$G$34>0,2,\"\")","v":2},{"$f":"IF('Aufgebot 14'!$G$34=3,3,\"\")","v":3}]
["B",{"$nulls":4},"B"]
[]
[" Ergebnis    (A:B) ",{"$nulls":4},"1. Satz",null,null,"2. Satz",null,null,"3. Satz",null,null,"4. Satz",null,null,"5. Satz",null,null,null,"6. Satz",null,null,"7. Satz",null,null,"8. Satz",null,null,"9. Satz"]
[{"$nulls":6},":",null,null,":",null,null,":",null,null,":",null,null,":",null,null,null,":",null,null,":",null,null,":",null,null,":"]
["Sieger",{"$nulls":24},"Total Punkte",{"$nulls":4},"Endstand (Sätze)"]
[{"$nulls":25},":",{"$nulls":4},":"]
[" Für die Richtigkeit der Eintragungen"]
[" Schiedsrichter:",{"$nulls":16},"Spielführer A:"]
[" Anschreiber:",{"$nulls":16}," Spielführer B:"]
["Mit sportlichen Grüssen\nSwiss Faustball CUPKO\nBruno Pabst (Präsident)",{"$nulls":23},"Thundorf,",{"$nulls":5},{"$f":"TODAY()","v":"2025-08-28"}]

{"sheet":"Aufgebot 15","index":52,"n_rows":48,"n_cols":26,"rows_kept":48,"cut":false,"hidden":true,"merged":[[41,0,41,2],[41,3,41,20],[41,21,41,23],[41,24,41,26],[50,2,50,8],[43,0,43,26],[44,0,44,8],[44,9,44,15],[44,17,44,24],[47,0,47,19],[47,20,47,22],[47,23,47,26],[36,0,36,26],[37,0,37,26],[38,0,38,26],[39,0,39,2],[39,3,39,5],[39,6,39,8],[39,9,39,11],[39,12,39,14],[39,15,39,17],[39,18,39,20],[39,21,39,23],[39,24,39,26],[35,0,35,5],[35,6,35,26],[26,35,26,38],[28,0,28,26],[30,0,30,26],[31,0,31,3],[31,4,31,16],[31,17,31,26],[31,28,31,29],[32,0,32,26],[33,6,33,7],[33,12,33,14],[33,28,33,29],[34,0,34,26],[26,6,26,8],[26,12,26,18],[26,19,26,20],[26,21,26,22],[26,24,26,26],[16,24,16,26],[19,0,19,26],[22,0,22,11],[22,12,22,14],[24,0,24,2],[18,0,18,5],[18,6,18,11],[18,12,18,16],[18,17,18,26],[16,0,16,11],[16,12,16,15],[16,16,16,18],[16,20,16,23],[13,0,13,5],[13,6,13,10],[13,11,13,18],[13,19,13,26],[14,0,14,5],[14,6,14,10],[14,11,14,18],[14,19,14,26],[10,0,10,5],[10,6,10,12],[10,14,10,19],[10,20,10,26],[11,0,11,12],[11,14,11,26],[8,0,8,12],[8,14,8,26],[9,0,9,5],[9,6,9,12],[9,14,9,19],[9,20,9,26],[6,0,6,12],[6,13,7,13],[6,14,6,26],[6,28,6,29],[6,30,6,31],[7,14,7,26],[0,4,0,21],[2,0,2,26],[2,28,2,30],[4,0,4,4],[4,5,4,11],[4,12,4,13],[4,14,4,19],[4,20,4,23]]}
[{"$nulls":4},{"$f":"Eigaben!Z3","v":"37. Schweizer Cup Männer 2025"}]
[2,null,null,{"$f":"VLOOKUP(A2,Eigaben!Y8:AC14,5,0)","v":"1/16 Final "},{"$nulls":4},2]
["Aufgebot Mannschaften"]
[1]
[{"$f":"VLOOKUP(A2,Eigaben!Y8:AC14,5,0)","v":"1/16 Final "},{"$nulls":4},{"$f":"VLOOKUP($A$2,Eigaben!$Y$8:$AC$14,2,1)","v":"2025-05-05"},{"$nulls":6},"bis",null,{"$f":"VLOOKUP($A$2,Eigaben!$Y$8:$AB$14,3,1)","v":"2025-06-13"},{"$nulls":5},"Spiel - Nr.",null,null,null,15]
[{"$f":"Eigaben!F42","v":40},{"$nulls":13},{"$f":"Eigaben!G42","v":47}]
["Heim - Mannschaft",{"$nulls":13},"Gast - Mannschaft"]
[{"$f":"(VLOOKUP($A$6,Eigaben!$Y$17:$Z$103,2,0))","v":"STV Elgg ( 2. Liga )"},{"$nulls":13},{"$f":"(VLOOKUP($O$6,Eigaben!$Y$17:$Z$103,2,0))","v":"TV Widnau ( 2. Liga F ) "}]
[{"$f":"VLOOKUP($A$6,Eigaben!$Y$17:$AH$103,3,1)&\" \"&VLOOKUP(A6,Eigaben!Y17:AH103,4,1)","v":"Oliver Lang"},{"$nulls":13},{"$f":"VLOOKUP($O$6,Eigaben!$Y$17:$AH$103,3,1)&\" \"&VLOOKUP($O$6,Eigaben!$Y$17:$AH$103,4,1)","v":"Jerome Sepin"}]
[{"$f":"VLOOKUP($A$6,Eigaben!$Y$17:$AH$103,5,1)","v":" "},{"$nulls":5},{"$f":"VLOOKUP($A$6,Eigaben!$Y$17:$AH$103,6,1)&\" \"&VLOOKUP(A6,Eigaben!$Y$17:$AH$103,7,1)","v":"   "},{"$nulls":7},{"$f":"VLOOKUP($O$6,Eigaben!$Y$17:$AH$103,5,1)","v":" "},{"$nulls":5},{"$f":"VLOOKUP($O$6,Eigaben!$Y$17:$AV$103,6,1)&\" \"&VLOOKUP($O$6,Eigaben!$Y$17:$AV$103,7,1)","v":"   "}]
[{"$f":"IF(Eigaben!AF54=0,\"\",VLOOKUP($A$6,Eigaben!$Y$17:$AH$103,8,1))","v":" "},{"$nulls":5},{"$f":"IF(Eigaben!$AG$54=0,\"\",VLOOKUP($A$6,Eigaben!$Y$17:$AH$103,9,1))","v":"079 672 93 60"},{"$nulls":7},{"$f":"IF(Eigaben!AF55=0,\"\",VLOOKUP($O$6,Eigaben!$Y$17:$AH$103,8,1))","v":" "},{"$nulls":5},{"$f":"IF(Eigaben!$AG$54=0,\"\",VLOOKUP($O$6,Eigaben!$Y$17:$AH$103,9,1))","v":"079 929 89 85"}]
[{"$f":"VLOOKUP($A$6,Eigaben!$Y$17:$AH$103,10,1)","v":"lang@swissfaustball.ch"},{"$nulls":13},{"$f":"VLOOKUP($O$6,Eigaben!$Y$17:$AH$103,10,1)","v":"jerome.sepin@gmail.com"}]
[null,null,{"$f":"Eigaben!C42","v":15}]
["Datum",{"$nulls":5},"Zeit",{"$nulls":4},"Ort",{"$nulls":7},"Sportplatz"]
[{"$f":"IF(Eigaben!C28=0,\"\",VLOOKUP(C13,Eigaben!$C$28:$V$109,13,0))","v":"2025-06-05"},{"$nulls":5},{"$f":"IF(Eigaben!C28=0,\"\",VLOOKUP(C13,Eigaben!$C$28:$V$110,14,0))","v":"19:30:00"},{"$nulls":4},{"$f":"IF(Eigaben!C28=0,\"\",VLOOKUP(C13,Eigaben!$C$28:$V$1110,15,0))","v":"Elgg"},{"$nulls":7},{"$f":"IF(Eigaben!C28=0,\"\",VLOOKUP(C13,Eigaben!$C$28:$V$110,16,0))","v":"Im See"}]
[null,null,{"$f":"Eigaben!T42","v":34}]
["Aufgebot Schiedsrichter *"]
[]
[{"$f":"IF(C16=0,\"\",VLOOKUP(C16,Schiri_25!A2:L181,3,1)&\" \"&VLOOKUP(C16,Schiri_25!A2:L181,2,1))","v":"René Meili"},{"$nulls":5},{"$f":"IF(C16=0,\"\",VLOOKUP(C16,Schiri_25!A2:L181,9,1))","v":"+41 76 488 80 08"},{"$nulls":5},{"$f":"IF(C16=0,\"\",IF(VLOOKUP(C16,Schiri_25!A2:M122,8,1)=0,\"\",VLOOKUP(C16,Schiri_25!A2:M122,8,1)))","v":""},{"$nulls":4},{"$f":"IF(C16=0,\"\",VLOOKUP(C16,Schiri_25!A2:L181,12,1))","v":"rene-meili@bluewin.ch"}]
[]
["* Im Verhinderungsfall sofort Verbindungsaufnahme mit Bruno Pabst: 079 243 02 08"]
[]
["Eintreffen des Schiedsrichters:",{"$nulls":11},{"$f":"IF(G15=\"\",\"\",G15-\"00:15:00\")","v":"19:15:00"}]
[]
["Tenue:",null,null,"Offizielle Schiedsrichterausrüstung gelb / schwarz"]
[]
["Taggeld:",{"$nulls":4},"Fr.","**",{"$nulls":5},"Fahrspesen",{"$nulls":6},"Fr",null,1,null,null,{"$f":"Eigaben!V42","v":12}]
[]
["Die Fahrspesen (einfache Fahrt, Fr. 1,00 pro Km)  werden durch die Heim-Mannschaft bezahlt. \n**  (Das Taggeld wird direkt durch die CUPKO ausbezahlt.)"]
[]
["Modus"]
["Spielmodus:",null,null,null,"5 Gewinnsätze bis 11 (max. 15 : 14)",{"$nulls":12},"Pause nach  4 Sätzen max 5 Min."]
[]
["Bonus-Punkte:",{"$nulls":5},{"$f":"Eigaben!S42","v":0}]
[]
["Durchführung:\n",{"$nulls":5},"Bei einer allfälligen Verschiebung muss spätestens 5 Stunden vor Spielbeginn die Gast-Mannschaft, der Schiedsrichter und deer Chef CUPKO per Telefon und SMS informiert werden."]
[]
["Resultatmeldung"]
[]
["1. Satz",null,null,"2. Satz",null,null,"3. Satz",null,null,"4. Satz",null,null,"5. Satz",null,null,"6. Satz",null,null,"7. Satz",null,null,"8. Satz",null,null,"9. Satz"]
[null,":",null,null,":",null,null,":",null,null,":",null,null,":",null,null,":",null,null,":",null,null,":",null,null,":"]
["Sieger",{"$nulls":20},"Sätze",null,null,":"]
[]
["Resultatmeldung bis spätestens 12 Uhr des Folgetages durch den Schiedsrichter  per E-Mail, SMS oder WhatsApp an  "]
["pabst@swissfaustball.ch",{"$nulls":16},"pabst.bruno@bluewin.ch"]
[]
[]
["Mit sportlichen Grüssen\nSwiss Faustball CUPKO\nBruno Pabst (Präsident)",{"$nulls":19},"Thundorf, ",null,null,{"$f":"TODAY()","v":"2025-08-28"}]

{"sheet":"Spielbericht 15","index":53,"n_rows":60,"n_cols":36,"rows_kept":60,"cut":false,"hidden":true,"merged":[[55,0,55,35],[56,0,56,16],[56,17,56,35],[57,0,57,16],[57,17,57,35],[59,0,61,23],[59,24,61,29],[59,30,61,35],[50,30,50,32],[50,33,51,35],[52,0,53,4],[52,25,52,29],[52,30,52,35],[53,25,53,29],[53,30,53,35],[50,11,50,13],[50,14,50,16],[50,17,50,20],[50,21,50,23],[50,24,50,26],[50,27,50,29],[35,2,36,2],[35,3,36,4],[50,8,50,10],[38,2,39,2],[38,3,39,4],[40,2,41,2],[40,3,41,4],[42,2,43,2],[42,3,43,4],[44,2,45,2],[44,3,45,4],[47,2,48,2],[47,3,48,4],[50,0,51,4],[25,13,25,15],[31,2,32,2],[31,3,32,4],[33,2,34,2],[33,3,34,4],[16,5,16,16],[16,23,16,34],[17,5,17,16],[17,23,17,34],[29,2,30,2],[29,3,30,4],[18,5,18,16],[18,23,18,34],[19,18,19,22],[20,18,20,22],[22,6,22,17],[22,27,22,35],[23,6,23,17],[23,18,23,23],[23,24,23,35],[25,0,25,5],[13,5,13,16],[13,23,13,34],[14,5,14,16],[14,23,14,34],[15,5,15,16],[15,23,15,34],[10,5,10,16],[10,23,10,34],[11,5,11,16],[11,23,11,34],[12,5,12,16],[12,23,12,34],[7,35,8,35],[8,5,8,16],[8,23,8,34],[9,5,9,16],[9,23,9,34],[7,0,7,5],[7,6,7,16],[7,17,8,17],[7,18,7,23],[7,24,7,34],[0,6,1,35],[3,6,3,28],[3,29,3,35],[5,0,5,3],[5,4,5,8],[5,9,5,10],[5,11,5,13],[5,14,5,17],[5,18,5,28],[5,29,5,32],[5,33,5,35]]}
[{"$nulls":6},{"$f":"'Aufgebot A'!E1","v":"37. Schweizer Cup Männer 2025"}]
[]
[]
[{"$nulls":6},"            Spielbericht",{"$nulls":22},{"$f":"'Aufgebot 15'!A5","v":"1/16 Final "}]
[]
["Datum:  ",null,null,null,{"$f":"'Aufgebot 15'!A15","v":"2025-06-05"},{"$nulls":4},"Zeit:",null,{"$f":"'Aufgebot 15'!G15","v":"19:30:00"},null,null,"Spielort:",null,null,null,{"$f":"'Aufgebot 15'!L15","v":"Elgg"},{"$nulls":10}," Spiel-Nr.:",null,null,null,{"$f":"'Aufgebot 15'!Y5","v":15}]
[]
["Mannschaft A:",{"$nulls":5},{"$f":"'Aufgebot 15'!A8","v":"STV Elgg ( 2. Liga )"},{"$nulls":10},"Verw.","Mannschaft B:",{"$nulls":5},{"$f":"'Aufgebot 15'!O8","v":"TV Widnau ( 2. Liga F ) "},{"$nulls":10},"Verw."]
["Nr.",null,"Spf.","Eins.","Jg.","Name/Vorname",{"$nulls":12},"Nr.",null,"Spf.","Eins.","Jg.","Name/Vorname"]
[{"$nulls":4},"","",{"$nulls":16},"",""]
[{"$nulls":4},"","",{"$nulls":10},"",{"$nulls":5},"","",{"$nulls":10},""]
[{"$nulls":4},"","",{"$nulls":10},"",{"$nulls":5},"","",{"$nulls":10},""]
[{"$nulls":4},"","",{"$nulls":10},"",{"$nulls":5},"","",{"$nulls":10},""]
[{"$nulls":4},"","",{"$nulls":10},"",{"$nulls":5},"","",{"$nulls":10},""]
[{"$nulls":4},"","",{"$nulls":10},"",{"$nulls":5},"","",{"$nulls":10},""]
[{"$nulls":4},"","",{"$nulls":10},"",{"$nulls":5},"","",{"$nulls":10},""]
[{"$nulls":4},"","",{"$nulls":10},"",{"$nulls":5},"","",{"$nulls":10},""]
[{"$nulls":4},"","",{"$nulls":10},"",{"$nulls":5},"","",{"$nulls":10},""]
[{"$nulls":4},"","",{"$nulls":11},{"$f":"Schiri_25!#REF!","v":{"$error":"#REF!"}},{"$nulls":4},"",""]
[" Trainer:",{"$nulls":5},"",{"$nulls":11},"Trainer:",{"$nulls":5},""]
[" Betreuer:",{"$nulls":5},"",{"$nulls":11}," Betreuer:"]
[]
[" Schiedsrichter:",{"$nulls":5},{"$f":"'Aufgebot 15'!A19&\" \"&'Aufgebot 15'!G19","v":"René Meili +41 76 488 80 08"},{"$nulls":11},"Heimmannschaft Verantw.",{"$nulls":8},{"$f":"'Aufgebot 15'!A9","v":"Oliver Lang"}]
[" Linienrichter:",{"$nulls":17}," Linienrichter:"]
[]
["Ballwahl/Anspiel:",{"$nulls":6},"1. Satz:","A",null,"B",null,null,"5. Satz:",null,null,"A",null,"B"]
[]
["Ausserordentliche Vorfälle:  ",{"$nulls":6},"","Protest/Einsprache",null,null,null,"","Ausschluss",null,null,"","Sonstiges",null,null,null,"(Ankreuzen + Bericht mit Unterschrift auf Rückseite)"]
[]
["A",null,"Timeout","1. Satz",null,"A",{"$f":"IF('Aufgebot 15'!$G$34>0,1,\"\")","v":""},{"$f":"IF('Aufgebot 15'!$G$34>0,2,\"\")","v":""},{"$f":"IF('Aufgebot 15'!$G$34=3,3,\"\")","v":""}]
["B",{"$nulls":4},"B"]
["A",null,"Timeout","2. Satz",null,"A",{"$f":"IF('Aufgebot 15'!$G$34>0,1,\"\")","v":""},{"$f":"IF('Aufgebot 15'!$G$34>0,2,\"\")","v":""},{"$f":"IF('Aufgebot 15'!$G$34=3,3,\"\")","v":""}]
["B",{"$nulls":4},"B"]
["A",null,"Timeout","3. Satz",null,"A",{"$f":"IF('Aufgebot 15'!$G$34>0,1,\"\")","v":""},{"$f":"IF('Aufgebot 15'!$G$34>0,2,\"\")","v":""},{"$f":"IF('Aufgebot 15'!$G$34=3,3,\"\")","v":""}]
["B",{"$nulls":4},"B"]
["A",null,"Timeout","4. Satz",null,"A",{"$f":"IF('Aufgebot 15'!$G$34>0,1,\"\")","v":""},{"$f":"IF('Aufgebot 15'!$G$34>0,2,\"\")","v":""},{"$f":"IF('Aufgebot 15'!$G$34=3,3,\"\")","v":""}]
["B",{"$nulls":4},"B"]
[]
["A",null,"Timeout","5. Satz",null,"A",{"$f":"IF('Aufgebot 15'!$G$34>0,1,\"\")","v":""},{"$f":"IF('Aufgebot 15'!$G$34>0,2,\"\")","v":""},{"$f":"IF('Aufgebot 15'!$G$34=3,3,\"\")","v":""}]
["B",{"$nulls":4},"B"]
["A",null,"Timeout","6. Satz",null,"A",{"$f":"IF('Aufgebot 15'!$G$34>0,1,\"\")","v":""},{"$f":"IF('Aufgebot 15'!$G$34>0,2,\"\")","v":""},{"$f":"IF('Aufgebot 15'!$G$34=3,3,\"\")","v":""}]
["B",{"$nulls":4},"B"]
["A",null,"Timeout","7. Satz",null,"A",{"$f":"IF('Aufgebot 15'!$G$34>0,1,\"\")","v":""},{"$f":"IF('Aufgebot 15'!$G$34>0,2,\"\")","v":""},{"$f":"IF('Aufgebot 15'!$G$34=3,3,\"\")","v":""}]
["B",{"$nulls":4},"B"]
["A",null,"Timeout","8. Satz",null,"A",{"$f":"IF('Aufgebot 15'!$G$34>0,1,\"\")","v":""},{"$f":"IF('Aufgebot 15'!$G$34>0,2,\"\")","v":""},{"$f":"IF('Aufgebot 15'!$G$34=3,3,\"\")","v":""}]
["B",{"$nulls":4},"B"]
[]
["A",null,"Timeout","9. Satz",null,"A",{"$f":"IF('Aufgebot 15'!$G$34>0,1,\"\")","v":""},{"$f":"IF('Aufgebot 15'!$G$34>0,2,\"\")","v":""},{"$f":"IF('Aufgebot 15'!$G$34=3,3,\"\")","v":""}]
["B",{"$nulls":4},"B"]
[]
[" Ergebnis    (A:B) ",{"$nulls":4},"1. Satz",null,null,"2. Satz",null,null,"3. Satz",null,null,"4. Satz",null,null,"5. Satz",null,null,null,"6. Satz",null,null,"7. Satz",null,null,"8. Satz",null,null,"9. Satz"]
[{"$nulls":6},":",null,null,":",null,null,":",null,null,":",null,null,":",null,null,null,":",null,null,":",null,null,":",null,null,":"]
["Sieger",{"$nulls":24},"Total Punkte",{"$nulls":4},"Endstand (Sätze)"]
[{"$nulls":25},":",{"$nulls":4},":"]
[]
[" Für die Richtigkeit der Eintragungen"]
[" Schiedsrichter:",{"$nulls":16},"Spielführer A:"]
[" Anschreiber:",{"$nulls":16}," Spielführer B:"]
[]
["Mit sportlichen Grüssen\nSwiss Faustball CUPKO\nBruno Pabst (Präsident)",{"$nulls":23},"Thundorf,",{"$nulls":5},{"$f":"TODAY()","v":"2025-08-28"}]

{"sheet":"Aufgebot 16","index":54,"n_rows":48,"n_cols":26,"rows_kept":48,"cut":false,"hidden":true,"merged":[[41,0,41,2],[41,3,41,20],[41,21,41,23],[41,24,41,26],[50,2,50,8],[43,0,43,26],[44,0,44,8],[44,9,44,15],[44,17,44,24],[47,0,47,19],[47,20,47,22],[47,23,47,26],[36,0,36,26],[37,0,37,26],[38,0,38,26],[39,0,39,2],[39,3,39,5],[39,6,39,8],[39,9,39,11],[39,12,39,14],[39,15,39,17],[39,18,39,20],[39,21,39,23],[39,24,39,26],[35,0,35,5],[35,6,35,26],[26,35,26,38],[28,0,28,26],[30,0,30,26],[31,0,31,3],[31,4,31,16],[31,17,31,26],[31,28,31,29],[32,0,32,26],[33,6,33,7],[33,12,33,14],[33,28,33,29],[34,0,34,26],[26,6,26,8],[26,12,26,18],[26,19,26,20],[26,21,26,22],[26,24,26,26],[16,24,16,26],[19,0,19,26],[22,0,22,11],[22,12,22,14],[24,0,24,2],[18,0,18,5],[18,6,18,11],[18,12,18,16],[18,17,18,26],[16,0,16,11],[16,12,16,15],[16,16,16,18],[16,20,16,23],[13,0,13,5],[13,6,13,10],[13,11,13,18],[13,19,13,26],[14,0,14,5],[14,6,14,10],[14,11,14,18],[14,19,14,26],[10,0,10,5],[10,6,10,12],[10,14,10,19],[10,20,10,26],[11,0,11,12],[11,14,11,26],[8,0,8,12],[8,14,8,26],[9,0,9,5],[9,6,9,12],[9,14,9,19],[9,20,9,26],[6,0,6,12],[6,13,7,13],[6,14,6,26],[6,28,6,29],[6,30,6,31],[7,14,7,26],[0,4,0,21],[2,0,2,26],[2,28,2,30],[4,0,4,4],[4,5,4,11],[4,12,4,13],[4,14,4,19],[4,20,4,23]]}
[{"$nulls":4},{"$f":"Eigaben!Z3","v":"37. Schweizer Cup Männer 2025"}]
[2,null,null,{"$f":"VLOOKUP(A2,Eigaben!Y8:AC14,5,0)","v":"1/16 Final "},{"$nulls":4},2]
["Aufgebot Mannschaften"]
[1]
[{"$f":"VLOOKUP(A2,Eigaben!Y8:AC14,5,0)","v":"1/16 Final "},{"$nulls":4},{"$f":"VLOOKUP($A$2,Eigaben!$Y$8:$AC$14,2,1)","v":"2025-05-05"},{"$nulls":6},"bis",null,{"$f":"VLOOKUP($A$2,Eigaben!$Y$8:$AB$14,3,1)","v":"2025-06-13"},{"$nulls":5},"Spiel - Nr.",null,null,null,16]
[{"$f":"Eigaben!F43","v":52},{"$nulls":13},{"$f":"Eigaben!G43","v":66}]
["Heim - Mannschaft",{"$nulls":13},"Gast - Mannschaft"]
[{"$f":"(VLOOKUP($A$6,Eigaben!$Y$17:$Z$103,2,0))","v":"STV Vordemwald 2  ( 1. Liga W)"},{"$nulls":13},{"$f":"(VLOOKUP($O$6,Eigaben!$Y$17:$Z$103,2,0))","v":"FG Elgg-Ettenhausen 1 ( NLA )"}]
[{"$f":"VLOOKUP($A$6,Eigaben!$Y$17:$AH$103,3,1)&\" \"&VLOOKUP(A6,Eigaben!Y17:AH103,4,1)","v":"Reto Von Ballmoos"},{"$nulls":13},{"$f":"VLOOKUP($O$6,Eigaben!$Y$17:$AH$103,3,1)&\" \"&VLOOKUP($O$6,Eigaben!$Y$17:$AH$103,4,1)","v":"Markus Fehr"}]
[{"$f":"VLOOKUP($A$6,Eigaben!$Y$17:$AH$103,5,1)","v":"Rotfarbstr 9"},{"$nulls":5},{"$f":"VLOOKUP($A$6,Eigaben!$Y$17:$AH$103,6,1)&\" \"&VLOOKUP(A6,Eigaben!$Y$17:$AH$103,7,1)","v":"4800 Zofingen"},{"$nulls":7},{"$f":"VLOOKUP($O$6,Eigaben!$Y$17:$AH$103,5,1)","v":"Hintergasse 3a"},{"$nulls":5},{"$f":"VLOOKUP($O$6,Eigaben!$Y$17:$AV$103,6,1)&\" \"&VLOOKUP($O$6,Eigaben!$Y$17:$AV$103,7,1)","v":"8353 Elgg"}]
[{"$f":"IF(Eigaben!AF54=0,\"\",VLOOKUP($A$6,Eigaben!$Y$17:$AH$103,8,1))","v":" "},{"$nulls":5},{"$f":"IF(Eigaben!$AG$54=0,\"\",VLOOKUP($A$6,Eigaben!$Y$17:$AH$103,9,1))","v":"079 721 45 82"},{"$nulls":7},{"$f":"IF(Eigaben!AF55=0,\"\",VLOOKUP($O$6,Eigaben!$Y$17:$AH$103,8,1))","v":" "},{"$nulls":5},{"$f":"IF(Eigaben!$P$54=0,\"\",VLOOKUP($O$6,Eigaben!$Y$17:$AH$103,9,1))","v":"078 613 39 28"}]
[{"$f":"VLOOKUP($A$6,Eigaben!$Y$17:$AH$103,10,1)","v":"reto.vonballmoos@gmail.com"},{"$nulls":13},{"$f":"VLOOKUP($O$6,Eigaben!$Y$17:$AH$103,10,1)","v":"fehr.markus@bluewin.ch"}]
[null,null,{"$f":"Eigaben!B43","v":16}]
["Datum",{"$nulls":5},"Zeit",{"$nulls":4},"Ort",{"$nulls":7},"Sportplatz"]
[{"$f":"IF(Eigaben!C43=0,\"\",VLOOKUP(C13,Eigaben!$C$28:$V$109,13,0))","v":"2025-05-14"},{"$nulls":5},{"$f":"IF(Eigaben!C43=0,\"\",VLOOKUP(C13,Eigaben!$C$28:$V$110,14,0))","v":"19:30:00"},{"$nulls":4},{"$f":"IF(Eigaben!C43=0,\"\",VLOOKUP(C13,Eigaben!$C$28:$V$1110,15,0))","v":"Vordemwald"},{"$nulls":7},{"$f":"IF(Eigaben!C43=0,\"\",VLOOKUP(C13,Eigaben!$C$28:$V$110,16,0))","v":"Sportplatz Schulhaus"}]
[null,null,{"$f":"Eigaben!T43","v":44}]
["Aufgebot Schiedsrichter *"]
[]
[{"$f":"IF(C16=0,\"\",VLOOKUP(C16,Schiri_25!A2:L181,3,1)&\" \"&VLOOKUP(C16,Schiri_25!A2:L181,2,1))","v":"Stephan Wagner"},{"$nulls":5},{"$f":"IF(C16=0,\"\",VLOOKUP(C16,Schiri_25!A2:L181,9,1))","v":"+41 79 651 82 59"},{"$nulls":5},{"$f":"IF(C16=0,\"\",IF(VLOOKUP(C16,Schiri_25!A2:M122,8,1)=0,\"\",VLOOKUP(C16,Schiri_25!A2:M122,8,1)))","v":"+41 62 393 19 07"},{"$nulls":4},{"$f":"IF(C16=0,\"\",VLOOKUP(C16,Schiri_25!A2:L181,12,1))","v":"t.s.wagner@bluewin.ch"}]
[]
["* Im Verhinderungsfall sofort Verbindungsaufnahme mit Bruno Pabst: 079 243 02 08"]
[]
["Eintreffen des Schiedsrichters:",{"$nulls":11},{"$f":"IF(G15=\"\",\"\",G15-\"00:15:00\")","v":"19:15:00"}]
[]
["Tenue:",null,null,"Offizielle Schiedsrichterausrüstung gelb / schwarz"]
[]
["Taggeld:",{"$nulls":4},"Fr.","**",{"$nulls":5},"Fahrspesen",{"$nulls":6},"Fr",null,1,null,null,{"$f":"Eigaben!V43","v":18}]
[]
["Die Fahrspesen (einfache Fahrt, Fr. 1,00 pro Km)  werden durch die Heim-Mannschaft bezahlt. \n**  (Das Taggeld wird direkt durch die CUPKO ausbezahlt.)"]
[]
["Modus"]
["Spielmodus:",null,null,null,"5 Gewinnsätze bis 11 (max. 15 : 14)",{"$nulls":12},"Pause nach  4 Sätzen max 5 Min."]
[]
["Bonus-Punkte:",{"$nulls":5},{"$f":"Eigaben!S43","v":3}]
[]
["Durchführung:\n",{"$nulls":5},"Bei einer allfälligen Verschiebung muss spätestens 5 Stunden vor Spielbeginn die Gast-Mannschaft, der Schiedsrichter und deer Chef CUPKO per Telefon und SMS informiert werden."]
[]
["Resultatmeldung"]
[]
["1. Satz",null,null,"2. Satz",null,null,"3. Satz",null,null,"4. Satz",null,null,"5. Satz",null,null,"6. Satz",null,null,"7. Satz",null,null,"8. Satz",null,null,"9. Satz"]
[null,":",null,null,":",null,null,":",null,null,":",null,null,":",null,null,":",null,null,":",null,null,":",null,null,":"]
["Sieger",{"$nulls":20},"Sätze",null,null,":"]
[]
["Resultatmeldung bis spätestens 12 Uhr des Folgetages durch den Schiedsrichter  per E-Mail, SMS oder WhatsApp an  "]
["pabst@swissfaustball.ch",{"$nulls":16},"pabst.bruno@bluewin.ch"]
[]
[]
["Mit sportlichen Grüssen\nSwiss Faustball CUPKO\nBruno Pabst (Präsident)",{"$nulls":19},"Thundorf, ",null,null,{"$f":"TODAY()","v":"2025-08-28"}]

{"sheet":"Spielbericht 16","index":55,"n_rows":57,"n_cols":36,"rows_kept":57,"cut":false,"hidden":true,"merged":[[53,0,53,35],[54,0,54,16],[54,17,54,35],[55,0,55,16],[55,17,55,35],[56,0,58,23],[56,24,58,29],[56,30,58,35],[49,30,49,32],[49,33,50,35],[51,0,52,4],[51,25,51,29],[51,30,51,35],[52,25,52,29],[52,30,52,35],[49,11,49,13],[49,14,49,16],[49,17,49,20],[49,21,49,23],[49,24,49,26],[49,27,49,29],[35,2,36,2],[35,3,36,4],[49,8,49,10],[38,2,39,2],[38,3,39,4],[40,2,41,2],[40,3,41,4],[42,2,43,2],[42,3,43,4],[44,2,45,2],[44,3,45,4],[47,2,48,2],[47,3,48,4],[49,0,50,4],[25,13,25,15],[31,2,32,2],[31,3,32,4],[33,2,34,2],[33,3,34,4],[16,5,16,16],[16,23,16,34],[17,5,17,16],[17,23,17,34],[29,2,30,2],[29,3,30,4],[18,5,18,16],[18,23,18,34],[19,18,19,22],[20,18,20,22],[22,6,22,17],[22,27,22,35],[23,6,23,17],[23,18,23,23],[23,24,23,35],[25,0,25,5],[13,5,13,16],[13,23,13,34],[14,5,14,16],[14,23,14,34],[15,5,15,16],[15,23,15,34],[10,5,10,16],[10,23,10,34],[11,5,11,16],[11,23,11,34],[12,5,12,16],[12,23,12,34],[7,35,8,35],[8,5,8,16],[8,23,8,34],[9,5,9,16],[9,23,9,34],[7,0,7,5],[7,6,7,16],[7,17,8,17],[7,18,7,23],[7,24,7,34],[0,6,1,35],[3,6,3,28],[3,29,3,35],[5,0,5,3],[5,4,5,8],[5,9,5,10],[5,11,5,13],[5,14,5,17],[5,18,5,28],[5,29,5,32],[5,33,5,35]]}
[{"$nulls":6},{"$f":"'Aufgebot A'!E1","v":"37. Schweizer Cup Männer 2025"}]
[]
[]
[{"$nulls":6},"            Spielbericht",{"$nulls":22},{"$f":"'Aufgebot 16'!A5","v":"1/16 Final "}]
[]
["Datum:  ",null,null,null,{"$f":"'Aufgebot 16'!A15","v":"2025-05-14"},{"$nulls":4},"Zeit:",null,{"$f":"'Aufgebot 16'!G15","v":"19:30:00"},null,null,"Spielort:",null,null,null,{"$f":"'Aufgebot 16'!L15","v":"Vordemwald"},{"$nulls":10}," Spiel-Nr.:",null,null,null,{"$f":"'Aufgebot 16'!Y5","v":16}]
[]
["Mannschaft A:",{"$nulls":5},{"$f":"'Aufgebot 16'!A8","v":"STV Vordemwald 2  ( 1. Liga W)"},{"$nulls":10},"Verw.","Mannschaft B:",{"$nulls":5},{"$f":"'Aufgebot 16'!O8","v":"FG Elgg-Ettenhausen 1 ( NLA )"},{"$nulls":10},"Verw."]
["Nr.",null,"Spf.","Eins.","Jg.","Name/Vorname",{"$nulls":12},"Nr.",null,"Spf.","Eins.","Jg.","Name/Vorname"]
[{"$nulls":4},"","",{"$nulls":16},"",""]
[{"$nulls":4},"","",{"$nulls":10},"",{"$nulls":5},"","",{"$nulls":10},""]
[{"$nulls":4},"","",{"$nulls":10},"",{"$nulls":5},"","",{"$nulls":10},""]
[{"$nulls":4},"","",{"$nulls":10},"",{"$nulls":5},"","",{"$nulls":10},""]
[{"$nulls":4},"","",{"$nulls":10},"",{"$nulls":5},"","",{"$nulls":10},""]
[{"$nulls":4},"","",{"$nulls":10},"",{"$nulls":5},"","",{"$nulls":10},""]
[{"$nulls":4},"","",{"$nulls":10},"",{"$nulls":5},"","",{"$nulls":10},""]
[{"$nulls":4},"","",{"$nulls":10},"",{"$nulls":5},"","",{"$nulls":10},""]
[{"$nulls":4},"","",{"$nulls":10},"",{"$nulls":5},"","",{"$nulls":10},""]
[{"$nulls":4},"","",{"$nulls":16},"",""]
[" Trainer:",{"$nulls":5},"",{"$nulls":11},"Trainer:",{"$nulls":5},""]
[" Betreuer:",{"$nulls":5},"",{"$nulls":11}," Betreuer:"]
[]
[" Schiedsrichter:",{"$nulls":5},{"$f":"'Aufgebot 16'!A19&\" \"&'Aufgebot 16'!G19","v":"Stephan Wagner +41 79 651 82 59"},{"$nulls":11},"Heimmannschaft Verantw.",{"$nulls":8},{"$f":"'Aufgebot 16'!A9","v":"Reto Von Ballmoos"}]
[" Linienrichter:",{"$nulls":17}," Linienrichter:"]
[]
["Ballwahl/Anspiel:",{"$nulls":6},"1. Satz:","A",null,"B",null,null,"5. Satz:",null,null,"A",null,"B"]
[]
["Ausserordentliche Vorfälle:  ",{"$nulls":6},"","Protest/Einsprache",null,null,null,"","Ausschluss",null,null,"","Sonstiges",null,null,null,"(Ankreuzen + Bericht mit Unterschrift auf Rückseite)"]
[]
["A",null,"Timeout","1. Satz",null,"A",{"$f":"IF('Aufgebot 16'!$G$34>0,1,\"\")","v":1},{"$f":"IF('Aufgebot 16'!$G$34>0,2,\"\")","v":2},{"$f":"IF('Aufgebot 16'!$G$34=3,3,\"\")","v":3}]
["B",{"$nulls":4},"B"]
["A",null,"Timeout","2. Satz",null,"A",{"$f":"IF('Aufgebot 16'!$G$34>0,1,\"\")","v":1},{"$f":"IF('Aufgebot 16'!$G$34>0,2,\"\")","v":2},{"$f":"IF('Aufgebot 16'!$G$34=3,3,\"\")","v":3}]
["B",{"$nulls":4},"B"]
["A",null,"Timeout","3. Satz",null,"A",{"$f":"IF('Aufgebot 16'!$G$34>0,1,\"\")","v":1},{"$f":"IF('Aufgebot 16'!$G$34>0,2,\"\")","v":2},{"$f":"IF('Aufgebot 16'!$G$34=3,3,\"\")","v":3}]
["B",{"$nulls":4},"B"]
["A",null,"Timeout","4. Satz",null,"A",{"$f":"IF('Aufgebot 16'!$G$34>0,1,\"\")","v":1},{"$f":"IF('Aufgebot 16'!$G$34>0,2,\"\")","v":2},{"$f":"IF('Aufgebot 16'!$G$34=3,3,\"\")","v":3}]
["B",{"$nulls":4},"B"]
[]
["A",null,"Timeout","5. Satz",null,"A",{"$f":"IF('Aufgebot 16'!$G$34>0,1,\"\")","v":1},{"$f":"IF('Aufgebot 16'!$G$34>0,2,\"\")","v":2},{"$f":"IF('Aufgebot 16'!$G$34=3,3,\"\")","v":3}]
["B",{"$nulls":4},"B"]
["A",null,"Timeout","6. Satz",null,"A",{"$f":"IF('Aufgebot 16'!$G$34>0,1,\"\")","v":1},{"$f":"IF('Aufgebot 16'!$G$34>0,2,\"\")","v":2},{"$f":"IF('Aufgebot 16'!$G$34=3,3,\"\")","v":3}]
["B",{"$nulls":4},"B"]
["A",null,"Timeout","7. Satz",null,"A",{"$f":"IF('Aufgebot 16'!$G$34>0,1,\"\")","v":1},{"$f":"IF('Aufgebot 16'!$G$34>0,2,\"\")","v":2},{"$f":"IF('Aufgebot 16'!$G$34=3,3,\"\")","v":3}]
["B",{"$nulls":4},"B"]
["A",null,"Timeout","8. Satz",null,"A",{"$f":"IF('Aufgebot 16'!$G$34>0,1,\"\")","v":1},{"$f":"IF('Aufgebot 16'!$G$34>0,2,\"\")","v":2},{"$f":"IF('Aufgebot 16'!$G$34=3,3,\"\")","v":3}]
["B",{"$nulls":4},"B"]
[]
["A",null,"Timeout","9. Satz",null,"A",{"$f":"IF('Aufgebot 16'!$G$34>0,1,\"\")","v":1},{"$f":"IF('Aufgebot 16'!$G$34>0,2,\"\")","v":2},{"$f":"IF('Aufgebot 16'!$G$34=3,3,\"\")","v":3}]
["B",{"$nulls":4},"B"]
[" Ergebnis    (A:B) ",{"$nulls":4},"1. Satz",null,null,"2. Satz",null,null,"3. Satz",null,null,"4. Satz",null,null,"5. Satz",null,null,null,"6. Satz",null,null,"7. Satz",null,null,"8. Satz",null,null,"9. Satz"]
[{"$nulls":6},":",null,null,":",null,null,":",null,null,":",null,null,":",null,null,null,":",null,null,":",null,null,":",null,null,":"]
["Sieger",{"$nulls":24},"Total Punkte",{"$nulls":4},"Endstand (Sätze)"]
[{"$nulls":25},":",{"$nulls":4},":"]
[" Für die Richtigkeit der Eintragungen"]
[" Schiedsrichter:",{"$nulls":16},"Spielführer A:"]
[" Anschreiber:",{"$nulls":16}," Spielführer B:"]
["Mit sportlichen Grüssen\nSwiss Faustball CUPKO\nBruno Pabst (Präsident)",{"$nulls":23},"Thundorf,",{"$nulls":5},{"$f":"TODAY()","v":"2025-08-28"}]

{"sheet":"Aufgebot 17","index":56,"n_rows":48,"n_cols":26,"rows_kept":48,"cut":false,"hidden":true,"merged":[[31,4,31,14],[31,15,31,26],[41,0,41,2],[41,3,41,20],[41,21,41,23],[41,24,41,26],[36,0,36,26],[37,0,37,26],[38,0,38,26],[39,0,39,2],[39,3,39,5],[39,6,39,8],[39,9,39,11],[39,12,39,14],[39,15,39,17],[39,18,39,20],[50,2,50,8],[43,0,43,26],[44,0,44,8],[44,9,44,15],[44,17,44,24],[47,0,47,19],[47,20,47,22],[47,23,47,26],[39,21,39,23],[39,24,39,26],[35,0,35,5],[35,6,35,26],[26,35,26,38],[28,0,28,26],[30,0,30,26],[31,0,31,3],[31,28,31,29],[32,0,32,26],[33,6,33,7],[33,12,33,14],[33,28,33,29],[34,0,34,26],[26,6,26,8],[26,12,26,18],[26,19,26,20],[26,21,26,22],[26,24,26,26],[16,24,16,26],[19,0,19,26],[22,0,22,11],[22,12,22,14],[24,0,24,2],[18,0,18,5],[18,6,18,11],[18,12,18,16],[18,17,18,26],[16,0,16,11],[16,12,16,15],[16,16,16,18],[16,20,16,23],[13,0,13,5],[13,6,13,10],[13,11,13,18],[13,19,13,26],[14,0,14,5],[14,6,14,10],[14,11,14,18],[14,19,14,26],[10,0,10,5],[10,6,10,12],[10,14,10,19],[10,20,10,26],[11,0,11,12],[11,14,11,26],[8,0,8,12],[8,14,8,26],[9,0,9,5],[9,6,9,12],[9,14,9,19],[9,20,9,26],[6,0,6,12],[6,13,7,13],[6,14,6,26],[6,28,6,29],[6,30,6,31],[7,14,7,26],[0,4,0,21],[2,0,2,26],[2,28,2,30],[4,0,4,4],[4,5,4,11],[4,12,4,13],[4,14,4,19],[4,20,4,23]]}
[{"$nulls":4},{"$f":"Eigaben!Z3","v":"37. Schweizer Cup Männer 2025"}]
[3,null,null,{"$f":"VLOOKUP(A2,Eigaben!Y8:AC14,5,0)","v":"1/8 Final"},{"$nulls":4},2]
["Aufgebot Mannschaften"]
[1]
[{"$f":"VLOOKUP(A2,Eigaben!Y8:AC14,5,0)","v":"1/8 Final"},{"$nulls":4},{"$f":"VLOOKUP($A$2,Eigaben!$Y$8:$AC$14,2,1)","v":"2025-06-23"},{"$nulls":6},"bis",null,{"$f":"VLOOKUP($A$2,Eigaben!$Y$8:$AB$14,3,1)","v":"2025-07-18"},{"$nulls":5},"Spiel - Nr.",null,null,null,{"$f":"'Aufgebot 16'!Y5+1","v":17}]
[{"$f":"Eigaben!F50","v":56},{"$nulls":13},{"$f":"Eigaben!G50","v":54}]
["Heim - Mannschaft",{"$nulls":13},"Gast - Mannschaft"]
[{"$f":"(VLOOKUP($A$6,Eigaben!$Y$17:$Z$103,2,0))","v":"TSV Jona 1( NLB O )"},{"$nulls":13},{"$f":"(VLOOKUP($O$6,Eigaben!$Y$17:$Z$103,2,0))","v":"STV Dozwil ( NLB O )"}]
[{"$f":"VLOOKUP($A$6,Eigaben!$Y$17:$AH$103,3,1)&\" \"&VLOOKUP(A6,Eigaben!Y17:AH103,4,1)","v":"Fabian Zahner"},{"$nulls":13},{"$f":"VLOOKUP($O$6,Eigaben!$Y$17:$AH$103,3,1)&\" \"&VLOOKUP($O$6,Eigaben!$Y$17:$AH$103,4,1)","v":"Josua Schlattinger"}]
[{"$f":"VLOOKUP($A$6,Eigaben!$Y$17:$AH$103,5,1)","v":" "},{"$nulls":5},{"$f":"VLOOKUP($A$6,Eigaben!$Y$17:$AH$103,6,1)&\" \"&VLOOKUP(A6,Eigaben!$Y$17:$AH$103,7,1)","v":"   "},{"$nulls":7},{"$f":"VLOOKUP($O$6,Eigaben!$Y$17:$AH$103,5,1)","v":" "},{"$nulls":5},{"$f":"VLOOKUP($O$6,Eigaben!$Y$17:$AV$103,6,1)&\" \"&VLOOKUP($O$6,Eigaben!$Y$17:$AV$103,7,1)","v":"   "}]
[{"$f":"IF(Eigaben!AF54=0,\"\",VLOOKUP($A$6,Eigaben!$Y$17:$AH$103,8,1))","v":" "},{"$nulls":5},{"$f":"IF(Eigaben!$AG$54=0,\"\",VLOOKUP($A$6,Eigaben!$Y$17:$AH$103,9,1))","v":"076 592 09 17"},{"$nulls":7},{"$f":"IF(Eigaben!AF55=0,\"\",VLOOKUP($O$6,Eigaben!$Y$17:$AH$103,8,1))","v":" "},{"$nulls":5},{"$f":"IF(Eigaben!$P$54=0,\"\",VLOOKUP($O$6,Eigaben!$Y$17:$AH$103,9,1))","v":"076 320 30 46"}]
[{"$f":"VLOOKUP($A$6,Eigaben!$Y$17:$AH$103,10,1)","v":"tkchef@fbjona.ch"},{"$nulls":13},{"$f":"VLOOKUP($O$6,Eigaben!$Y$17:$AH$103,10,1)","v":"j.schlattinger@gmx.ch"}]
[null,null,{"$f":"Eigaben!C50","v":17}]
["Datum",{"$nulls":5},"Zeit",{"$nulls":4},"Ort",{"$nulls":7},"Sportplatz"]
[{"$f":"IF(Eigaben!C50=0,\"\",VLOOKUP(C13,Eigaben!$C$28:$V$109,13,0))","v":"2025-07-03"},{"$nulls":5},{"$f":"IF(Eigaben!C50=0,\"\",VLOOKUP(C13,Eigaben!$C$28:$V$110,14,0))","v":"19:00:00"},{"$nulls":4},{"$f":"IF(Eigaben!C50=0,\"\",VLOOKUP(C13,Eigaben!$C$28:$V$1110,15,0))","v":"Jona"},{"$nulls":7},{"$f":"IF(Eigaben!C50=0,\"\",VLOOKUP(C13,Eigaben!$C$28:$V$110,16,0))","v":"Sportplatz Grünfeld"}]
[null,null,{"$f":"Eigaben!T50","v":67}]
["Aufgebot Schiedsrichter *"]
[]
[{"$f":"IF(C16=0,\"\",VLOOKUP(C16,Schiri_25!A2:L181,3,1)&\" \"&VLOOKUP(C16,Schiri_25!A2:L181,2,1))","v":"Robert Meierhofer"},{"$nulls":5},{"$f":"IF(C16=0,\"\",VLOOKUP(C16,Schiri_25!A2:L181,9,1))","v":"+41 79 936 39 42"},{"$nulls":5},{"$f":"IF(C16=0,\"\",IF(VLOOKUP(C16,Schiri_25!A2:M122,8,1)=0,\"\",VLOOKUP(C16,Schiri_25!A2:M122,8,1)))","v":""},{"$nulls":4},{"$f":"IF(C16=0,\"\",VLOOKUP(C16,Schiri_25!A2:L181,12,1))","v":"robert_meierhofer@hotmail.com"}]
[]
["* Im Verhinderungsfall sofort Verbindungsaufnahme mit Bruno Pabst: 079 243 02 08"]
[]
["Eintreffen des Schiedsrichters:",{"$nulls":11},{"$f":"IF(G15=\"\",\"\",G15-\"00:15:00\")","v":"18:45:00"}]
[]
["Tenue:",null,null,"Offizielle Schiedsrichterausrüstung gelb / schwarz"]
[]
["Taggeld:",{"$nulls":4},"Fr.","**",{"$nulls":5},"Fahrspesen",{"$nulls":6},"Fr",null,1,null,null,{"$f":"Eigaben!V50","v":5}]
[]
["Die Fahrspesen (einfache Fahrt, Fr. 1,00 pro Km)  werden durch die Heim-Mannschaft bezahlt. \n**  (Das Taggeld wird direkt durch die CUPKO ausbezahlt.)"]
[]
["Modus"]
["Spielmodus:",null,null,null,"5 Gewinnsätze bis 11 (max. 15 : 14)",{"$nulls":10},"Pause zwischen den Sätze 90 s"]
[]
["Bonus-Punkte:",{"$nulls":5},{"$f":"Eigaben!S50","v":0}]
[]
["Durchführung:\n",{"$nulls":5},"Bei einer allfälligen Verschiebung muss spätestens 5 Stunden vor Spielbeginn die Gast-Mannschaft, der Schiedsrichter und deer Chef CUPKO per Telefon und SMS informiert werden."]
[]
["Resultatmeldung"]
[]
["1. Satz",null,null,"2. Satz",null,null,"3. Satz",null,null,"4. Satz",null,null,"5. Satz",null,null,"6. Satz",null,null,"7. Satz",null,null,"8. Satz",null,null,"9. Satz"]
[null,":",null,null,":",null,null,":",null,null,":",null,null,":",null,null,":",null,null,":",null,null,":",null,null,":"]
["Sieger",{"$nulls":20},"Sätze",null,null,":"]
[]
["Resultatmeldung bis spätestens 12 Uhr des Folgetages durch den Schiedsrichter  per E-Mail, SMS oder WhatsApp an  "]
["pabst@swissfaustball.ch",{"$nulls":16},"pabst.bruno@bluewin.ch"]
[]
[]
["Mit sportlichen Grüssen\nSwiss Faustball CUPKO\nBruno Pabst (Präsident)",{"$nulls":19},"Thundorf, ",null,null,{"$f":"TODAY()","v":"2025-08-28"}]

{"sheet":"Spielbericht 17","index":57,"n_rows":58,"n_cols":36,"rows_kept":58,"cut":false,"hidden":true,"merged":[[54,0,54,35],[55,0,55,16],[55,17,55,35],[56,0,56,16],[56,17,56,35],[57,0,59,23],[57,24,59,29],[57,30,59,35],[50,30,50,32],[50,33,51,35],[52,0,53,4],[52,25,52,29],[52,30,52,35],[53,25,53,29],[53,30,53,35],[50,11,50,13],[50,14,50,16],[50,17,50,20],[50,21,50,23],[50,24,50,26],[50,27,50,29],[35,2,36,2],[35,3,36,4],[50,8,50,10],[38,2,39,2],[38,3,39,4],[40,2,41,2],[40,3,41,4],[42,2,43,2],[42,3,43,4],[44,2,45,2],[44,3,45,4],[47,2,48,2],[47,3,48,4],[50,0,51,4],[25,13,25,15],[31,2,32,2],[31,3,32,4],[33,2,34,2],[33,3,34,4],[16,5,16,16],[16,23,16,34],[17,5,17,16],[17,23,17,34],[29,2,30,2],[29,3,30,4],[18,5,18,16],[18,23,18,34],[19,18,19,22],[20,18,20,22],[22,6,22,17],[22,27,22,35],[23,6,23,17],[23,18,23,23],[23,24,23,35],[25,0,25,5],[13,5,13,16],[13,23,13,34],[14,5,14,16],[14,23,14,34],[15,5,15,16],[15,23,15,34],[10,5,10,16],[10,23,10,34],[11,5,11,16],[11,23,11,34],[12,5,12,16],[12,23,12,34],[7,35,8,35],[8,5,8,16],[8,23,8,34],[9,5,9,16],[9,23,9,34],[7,0,7,5],[7,6,7,16],[7,17,8,17],[7,18,7,23],[7,24,7,34],[0,6,1,35],[3,6,3,28],[3,29,3,35],[5,0,5,3],[5,4,5,8],[5,9,5,10],[5,11,5,13],[5,14,5,17],[5,18,5,28],[5,29,5,32],[5,33,5,35]]}
[{"$nulls":6},{"$f":"'Aufgebot A'!E1","v":"37. Schweizer Cup Männer 2025"}]
[]
[]
[{"$nulls":6},"            Spielbericht",{"$nulls":22},{"$f":"'Aufgebot 17'!A5","v":"1/8 Final"}]
[]
["Datum:  ",null,null,null,{"$f":"'Aufgebot 17'!A15","v":"2025-07-03"},{"$nulls":4},"Zeit:",null,{"$f":"'Aufgebot 17'!G15","v":"19:00:00"},null,null,"Spielort:",null,null,null,{"$f":"'Aufgebot 17'!L15","v":"Jona"},{"$nulls":10}," Spiel-Nr.:",null,null,null,{"$f":"'Aufgebot 17'!Y5","v":17}]
[]
["Mannschaft A:",{"$nulls":5},{"$f":"'Aufgebot 17'!A8","v":"TSV Jona 1( NLB O )"},{"$nulls":10},"Verw.","Mannschaft B:",{"$nulls":5},{"$f":"'Aufgebot 17'!O8","v":"STV Dozwil ( NLB O )"},{"$nulls":10},"Verw."]
["Nr.",null,"Spf.","Eins.","Jg.","Name/Vorname",{"$nulls":12},"Nr.",null,"Spf.","Eins.","Jg.","Name/Vorname"]
[{"$nulls":4},"","",{"$nulls":16},"",""]
[{"$nulls":4},"","",{"$nulls":10},"",{"$nulls":5},"","",{"$nulls":10},""]
[{"$f":"VLOOKUP($A$6,Eigaben!$Y$17:$AH$103,10,1)","v":0},null,null,null,"","",{"$nulls":10},"",{"$nulls":5},"","",{"$nulls":10},""]
[{"$nulls":4},"","",{"$nulls":10},"",{"$nulls":5},"","",{"$nulls":10},""]
[{"$nulls":4},"","",{"$nulls":10},"",{"$nulls":5},"","",{"$nulls":10},""]
[{"$nulls":4},"","",{"$nulls":10},"",{"$nulls":5},"","",{"$nulls":10},""]
[{"$nulls":4},"","",{"$nulls":10},"",{"$nulls":5},"","",{"$nulls":10},""]
[{"$nulls":4},"","",{"$nulls":10},"",{"$nulls":5},"","",{"$nulls":10},""]
[{"$nulls":4},"","",{"$nulls":10},"",{"$nulls":5},"","",{"$nulls":10},""]
[{"$nulls":4},"","",{"$nulls":16},"",""]
[" Trainer:",{"$nulls":5},"",{"$nulls":11},"Trainer:",{"$nulls":5},""]
[" Betreuer:",{"$nulls":5},"",{"$nulls":11}," Betreuer:"]
[]
[" Schiedsrichter:",{"$nulls":5},{"$f":"'Aufgebot 17'!A19&\" \"&'Aufgebot 17'!G19","v":"Robert Meierhofer +41 79 936 39 42"},{"$nulls":11},"Heimmannschaft Verantw.",{"$nulls":8},{"$f":"'Aufgebot 17'!A9","v":"Fabian Zahner"}]
[" Linienrichter:",{"$nulls":17}," Linienrichter:"]
[]
["Ballwahl/Anspiel:",{"$nulls":6},"1. Satz:","A",null,"B",null,null,"5. Satz:",null,null,"A",null,"B"]
[]
["Ausserordentliche Vorfälle:  ",{"$nulls":6},"","Protest/Einsprache",null,null,null,"","Ausschluss",null,null,"","Sonstiges",null,null,null,"(Ankreuzen + Bericht mit Unterschrift auf Rückseite)"]
[]
["A",null,"Timeout","1. Satz",null,"A",{"$f":"IF('Aufgebot 17'!$G$34>0,1,\"\")","v":""},{"$f":"IF('Aufgebot 17'!$G$34>0,2,\"\")","v":""},{"$f":"IF('Aufgebot 17'!$G$34=3,3,\"\")","v":""}]
["B",{"$nulls":4},"B"]
["A",null,"Timeout","2. Satz",null,"A",{"$f":"IF('Aufgebot 17'!$G$34>0,1,\"\")","v":""},{"$f":"IF('Aufgebot 17'!$G$34>0,2,\"\")","v":""},{"$f":"IF('Aufgebot 17'!$G$34=3,3,\"\")","v":""}]
["B",{"$nulls":4},"B"]
["A",null,"Timeout","3. Satz",null,"A",{"$f":"IF('Aufgebot 17'!$G$34>0,1,\"\")","v":""},{"$f":"IF('Aufgebot 17'!$G$34>0,2,\"\")","v":""},{"$f":"IF('Aufgebot 17'!$G$34=3,3,\"\")","v":""}]
["B",{"$nulls":4},"B"]
["A",null,"Timeout","4. Satz",null,"A",{"$f":"IF('Aufgebot 17'!$G$34>0,1,\"\")","v":""},{"$f":"IF('Aufgebot 17'!$G$34>0,2,\"\")","v":""},{"$f":"IF('Aufgebot 17'!$G$34=3,3,\"\")","v":""}]
["B",{"$nulls":4},"B"]
[]
["A",null,"Timeout","5. Satz",null,"A",{"$f":"IF('Aufgebot 17'!$G$34>0,1,\"\")","v":""},{"$f":"IF('Aufgebot 17'!$G$34>0,2,\"\")","v":""},{"$f":"IF('Aufgebot 17'!$G$34=3,3,\"\")","v":""}]
["B",{"$nulls":4},"B"]
["A",null,"Timeout","6. Satz",null,"A",{"$f":"IF('Aufgebot 17'!$G$34>0,1,\"\")","v":""},{"$f":"IF('Aufgebot 17'!$G$34>0,2,\"\")","v":""},{"$f":"IF('Aufgebot 17'!$G$34=3,3,\"\")","v":""}]
["B",{"$nulls":4},"B"]
["A",null,"Timeout","7. Satz",null,"A",{"$f":"IF('Aufgebot 17'!$G$34>0,1,\"\")","v":""},{"$f":"IF('Aufgebot 17'!$G$34>0,2,\"\")","v":""},{"$f":"IF('Aufgebot 17'!$G$34=3,3,\"\")","v":""}]
["B",{"$nulls":4},"B"]
["A",null,"Timeout","8. Satz",null,"A",{"$f":"IF('Aufgebot 17'!$G$34>0,1,\"\")","v":""},{"$f":"IF('Aufgebot 17'!$G$34>0,2,\"\")","v":""},{"$f":"IF('Aufgebot 17'!$G$34=3,3,\"\")","v":""}]
["B",{"$nulls":4},"B"]
[]
["A",null,"Timeout","9. Satz",null,"A",{"$f":"IF('Aufgebot 17'!$G$34>0,1,\"\")","v":""},{"$f":"IF('Aufgebot 17'!$G$34>0,2,\"\")","v":""},{"$f":"IF('Aufgebot 17'!$G$34=3,3,\"\")","v":""}]
["B",{"$nulls":4},"B"]
[]
[" Ergebnis    (A:B) ",{"$nulls":4},"1. Satz",null,null,"2. Satz",null,null,"3. Satz",null,null,"4. Satz",null,null,"5. Satz",null,null,null,"6. Satz",null,null,"7. Satz",null,null,"8. Satz",null,null,"9. Satz"]
[{"$nulls":6},":",null,null,":",null,null,":",null,null,":",null,null,":",null,null,null,":",null,null,":",null,null,":",null,null,":"]
["Sieger",{"$nulls":24},"Total Punkte",{"$nulls":4},"Endstand (Sätze)"]
[{"$nulls":25},":",{"$nulls":4},":"]
[" Für die Richtigkeit der Eintragungen"]
[" Schiedsrichter:",{"$nulls":16},"Spielführer A:"]
[" Anschreiber:",{"$nulls":16}," Spielführer B:"]
["Mit sportlichen Grüssen\nSwiss Faustball CUPKO\nBruno Pabst (Präsident)",{"$nulls":23},"Thundorf,",{"$nulls":5},{"$f":"TODAY()","v":"2025-08-28"}]

{"sheet":"Aufgebot 18","index":58,"n_rows":48,"n_cols":26,"rows_kept":48,"cut":false,"hidden":true,"merged":[[31,4,31,14],[31,15,31,26],[41,0,41,2],[41,3,41,20],[41,21,41,23],[41,24,41,26],[36,0,36,26],[37,0,37,26],[38,0,38,26],[39,0,39,2],[39,3,39,5],[39,6,39,8],[39,9,39,11],[39,12,39,14],[39,15,39,17],[39,18,39,20],[50,2,50,8],[43,0,43,26],[44,0,44,8],[44,9,44,15],[44,17,44,24],[47,0,47,19],[47,20,47,22],[47,23,47,26],[39,21,39,23],[39,24,39,26],[35,0,35,5],[35,6,35,26],[26,35,26,38],[28,0,28,26],[30,0,30,26],[31,0,31,3],[31,28,31,29],[32,0,32,26],[33,6,33,7],[33,12,33,14],[33,28,33,29],[34,0,34,26],[26,6,26,8],[26,12,26,18],[26,19,26,20],[26,21,26,22],[26,24,26,26],[16,24,16,26],[19,0,19,26],[22,0,22,11],[22,12,22,14],[24,0,24,2],[18,0,18,5],[18,6,18,11],[18,12,18,16],[18,17,18,26],[16,0,16,11],[16,12,16,15],[16,16,16,18],[16,20,16,23],[13,0,13,5],[13,6,13,10],[13,11,13,18],[13,19,13,26],[14,0,14,5],[14,6,14,10],[14,11,14,18],[14,19,14,26],[10,0,10,5],[10,6,10,12],[10,14,10,19],[10,20,10,26],[11,0,11,12],[11,14,11,26],[8,0,8,12],[8,14,8,26],[9,0,9,5],[9,6,9,12],[9,14,9,19],[9,20,9,26],[6,0,6,12],[6,13,7,13],[6,14,6,26],[6,28,6,29],[6,30,6,31],[7,14,7,26],[0,4,0,21],[2,0,2,26],[2,28,2,30],[4,0,4,4],[4,5,4,11],[4,12,4,13],[4,14,4,19],[4,20,4,23]]}
[{"$nulls":4},{"$f":"Eigaben!Z3","v":"37. Schweizer Cup Männer 2025"}]
[{"$f":"'Aufgebot 17'!A2","v":3},null,null,{"$f":"VLOOKUP(A2,Eigaben!Y8:AC14,5,0)","v":"1/8 Final"},{"$nulls":4},2]
["Aufgebot Mannschaften"]
[1]
[{"$f":"VLOOKUP(A2,Eigaben!Y8:AC14,5,0)","v":"1/8 Final"},{"$nulls":4},{"$f":"VLOOKUP($A$2,Eigaben!$Y$8:$AC$14,2,1)","v":"2025-06-23"},{"$nulls":6},"bis",null,{"$f":"VLOOKUP($A$2,Eigaben!$Y$8:$AB$14,3,1)","v":"2025-07-18"},{"$nulls":5},"Spiel - Nr.",null,null,null,{"$f":"'Aufgebot 17'!Y5+1","v":18}]
[{"$f":"Eigaben!F51","v":59},{"$nulls":13},{"$f":"Eigaben!G51","v":65}]
["Heim - Mannschaft",{"$nulls":13},"Gast - Mannschaft"]
[{"$f":"(VLOOKUP($A$6,Eigaben!$Y$17:$Z$103,2,0))","v":"STV Rickenbach-Wilen 2 ( NLB )"},{"$nulls":13},{"$f":"(VLOOKUP($O$6,Eigaben!$Y$17:$Z$103,2,0))","v":"SVD Diepoldsau-Schmitter (NLA)"}]
[{"$f":"VLOOKUP($A$6,Eigaben!$Y$17:$AH$103,3,1)&\" \"&VLOOKUP(A6,Eigaben!Y17:AH103,4,1)","v":"Jonas Hess"},{"$nulls":13},{"$f":"VLOOKUP($O$6,Eigaben!$Y$17:$AH$103,3,1)&\" \"&VLOOKUP($O$6,Eigaben!$Y$17:$AH$103,4,1)","v":"Lorena Lipp"}]
[{"$f":"VLOOKUP($A$6,Eigaben!$Y$17:$AH$103,5,1)","v":" "},{"$nulls":5},{"$f":"VLOOKUP($A$6,Eigaben!$Y$17:$AH$103,6,1)&\" \"&VLOOKUP(A6,Eigaben!$Y$17:$AH$103,7,1)","v":"   "},{"$nulls":7},{"$f":"VLOOKUP($O$6,Eigaben!$Y$17:$AH$103,5,1)","v":"Unterdorfstr 47"},{"$nulls":5},{"$f":"VLOOKUP($O$6,Eigaben!$Y$17:$AV$103,6,1)&\" \"&VLOOKUP($O$6,Eigaben!$Y$17:$AV$103,7,1)","v":"9443 Widnau"}]
[{"$f":"IF(Eigaben!AF54=0,\"\",VLOOKUP($A$6,Eigaben!$Y$17:$AH$103,8,1))","v":" "},{"$nulls":5},{"$f":"IF(Eigaben!$AG$54=0,\"\",VLOOKUP($A$6,Eigaben!$Y$17:$AH$103,9,1))","v":"079 900 69 17"},{"$nulls":7},{"$f":"IF(Eigaben!AF55=0,\"\",VLOOKUP($O$6,Eigaben!$Y$17:$AH$103,8,1))","v":" "},{"$nulls":5},{"$f":"IF(Eigaben!$P$54=0,\"\",VLOOKUP($O$6,Eigaben!$Y$17:$AH$103,9,1))","v":"076 573 09 99"}]
[{"$f":"VLOOKUP($A$6,Eigaben!$Y$17:$AH$103,10,1)","v":"spiko@fgriwi.ch"},{"$nulls":13},{"$f":"VLOOKUP($O$6,Eigaben!$Y$17:$AH$103,10,1)","v":"spiko@faustball-svd.clubdesk.com"}]
[null,null,{"$f":"Eigaben!D51","v":0}]
["Datum",{"$nulls":5},"Zeit",{"$nulls":4},"Ort",{"$nulls":7},"Sportplatz"]
[{"$f":"IF(Eigaben!D51=0,\"\",VLOOKUP(C13,Eigaben!$C$28:$V$109,13,0))","v":""},{"$nulls":5},{"$f":"IF(Eigaben!D51=0,\"\",VLOOKUP(C13,Eigaben!$C$28:$V$110,14,0))","v":""},{"$nulls":4},{"$f":"IF(Eigaben!D51=0,\"\",VLOOKUP(C13,Eigaben!$C$28:$V$1110,15,0))","v":""},{"$nulls":7},{"$f":"IF(Eigaben!D51=0,\"\",VLOOKUP(C13,Eigaben!$C$28:$V$110,16,0))","v":""}]
[null,null,{"$f":"Eigaben!T51","v":15}]
["Aufgebot Schiedsrichter *"]
[]
[{"$f":"IF(C16=0,\"\",VLOOKUP(C16,Schiri_25!A2:L181,3,1)&\" \"&VLOOKUP(C16,Schiri_25!A2:L181,2,1))","v":"Fredy Sprenger"},{"$nulls":5},{"$f":"IF(C16=0,\"\",VLOOKUP(C16,Schiri_25!A2:L181,9,1))","v":"+41 79 791 22 59"},{"$nulls":5},{"$f":"IF(C16=0,\"\",IF(VLOOKUP(C16,Schiri_25!A2:M122,8,1)=0,\"\",VLOOKUP(C16,Schiri_25!A2:M122,8,1)))","v":"+41 71 923 26 08"},{"$nulls":4},{"$f":"IF(C16=0,\"\",VLOOKUP(C16,Schiri_25!A2:L181,12,1))","v":"f.sprenger@thurweb.ch"}]
[]
["* Im Verhinderungsfall sofort Verbindungsaufnahme mit Bruno Pabst: 079 243 02 08"]
[]
["Eintreffen des Schiedsrichters:",{"$nulls":11},{"$f":"IF(G15=\"\",\"\",G15-\"00:15:00\")","v":""}]
[]
["Tenue:",null,null,"Offizielle Schiedsrichterausrüstung gelb / schwarz"]
[]
["Taggeld:",{"$nulls":4},"Fr.","**",{"$nulls":5},"Fahrspesen",{"$nulls":6},"Fr",null,1,null,null,{"$f":"Eigaben!V51","v":0}]
[]
["Die Fahrspesen (einfache Fahrt, Fr. 1,00 pro Km)  werden durch die Heim-Mannschaft bezahlt. \n**  (Das Taggeld wird direkt durch die CUPKO ausbezahlt.)"]
[]
["Modus"]
["Spielmodus:",null,null,null,"5 Gewinnsätze bis 11 (max. 15 : 14)",{"$nulls":10},"Pause zwischen den Sätze 90 s"]
[]
["Bonus-Punkte:",{"$nulls":5},{"$f":"Eigaben!S51","v":2}]
[]
["Durchführung:\n",{"$nulls":5},"Bei einer allfälligen Verschiebung muss spätestens 5 Stunden vor Spielbeginn die Gast-Mannschaft, der Schiedsrichter und deer Chef CUPKO per Telefon und SMS informiert werden."]
[]
["Resultatmeldung"]
[]
["1. Satz",null,null,"2. Satz",null,null,"3. Satz",null,null,"4. Satz",null,null,"5. Satz",null,null,"6. Satz",null,null,"7. Satz",null,null,"8. Satz",null,null,"9. Satz"]
[null,":",null,null,":",null,null,":",null,null,":",null,null,":",null,null,":",null,null,":",null,null,":",null,null,":"]
["Sieger",{"$nulls":20},"Sätze",null,null,":"]
[]
["Resultatmeldung bis spätestens 12 Uhr des Folgetages durch den Schiedsrichter  per E-Mail, SMS oder WhatsApp an  "]
["pabst@swissfaustball.ch",{"$nulls":16},"pabst.bruno@bluewin.ch"]
[]
[]
["Mit sportlichen Grüssen\nSwiss Faustball CUPKO\nBruno Pabst (Präsident)",{"$nulls":19},"Thundorf, ",null,null,{"$f":"TODAY()","v":"2025-08-28"}]

{"sheet":"Spielbericht 18","index":59,"n_rows":58,"n_cols":36,"rows_kept":58,"cut":false,"hidden":true,"merged":[[54,0,54,35],[55,0,55,16],[55,17,55,35],[56,0,56,16],[56,17,56,35],[57,0,59,23],[57,24,59,29],[57,30,59,35],[50,30,50,32],[50,33,51,35],[52,0,53,4],[52,25,52,29],[52,30,52,35],[53,25,53,29],[53,30,53,35],[50,11,50,13],[50,14,50,16],[50,17,50,20],[50,21,50,23],[50,24,50,26],[50,27,50,29],[35,2,36,2],[35,3,36,4],[50,8,50,10],[38,2,39,2],[38,3,39,4],[40,2,41,2],[40,3,41,4],[42,2,43,2],[42,3,43,4],[44,2,45,2],[44,3,45,4],[47,2,48,2],[47,3,48,4],[50,0,51,4],[25,13,25,15],[31,2,32,2],[31,3,32,4],[33,2,34,2],[33,3,34,4],[16,5,16,16],[16,23,16,34],[17,5,17,16],[17,23,17,34],[29,2,30,2],[29,3,30,4],[18,5,18,16],[18,23,18,34],[19,18,19,22],[20,18,20,22],[22,6,22,17],[22,27,22,35],[23,6,23,17],[23,18,23,23],[23,24,23,35],[25,0,25,5],[13,5,13,16],[13,23,13,34],[14,5,14,16],[14,23,14,34],[15,5,15,16],[15,23,15,34],[10,5,10,16],[10,23,10,34],[11,5,11,16],[11,23,11,34],[12,5,12,16],[12,23,12,34],[7,35,8,35],[8,5,8,16],[8,23,8,34],[9,5,9,16],[9,23,9,34],[7,0,7,5],[7,6,7,16],[7,17,8,17],[7,18,7,23],[7,24,7,34],[0,6,1,35],[3,6,3,28],[3,29,3,35],[5,0,5,3],[5,4,5,8],[5,9,5,10],[5,11,5,13],[5,14,5,17],[5,18,5,28],[5,29,5,32],[5,33,5,35]]}
[{"$nulls":6},{"$f":"'Aufgebot A'!E1","v":"37. Schweizer Cup Männer 2025"}]
[]
[]
[{"$nulls":6},"            Spielbericht",{"$nulls":22},{"$f":"'Aufgebot 18'!A5","v":"1/8 Final"}]
[]
["Datum:  ",null,null,null,{"$f":"'Aufgebot 18'!A15","v":""},{"$nulls":4},"Zeit:",null,{"$f":"'Aufgebot 18'!G15","v":""},null,null,"Spielort:",null,null,null,{"$f":"'Aufgebot 18'!T15","v":""},{"$nulls":10}," Spiel-Nr.:",null,null,null,{"$f":"'Aufgebot 18'!Y5","v":18}]
[]
["Mannschaft A:",{"$nulls":5},{"$f":"'Aufgebot 18'!A8","v":"STV Rickenbach-Wilen 2 ( NLB )"},{"$nulls":10},"Verw.","Mannschaft B:",{"$nulls":5},{"$f":"'Aufgebot 18'!O8","v":"SVD Diepoldsau-Schmitter (NLA)"},{"$nulls":10},"Verw."]
["Nr.",null,"Spf.","Eins.","Jg.","Name/Vorname",{"$nulls":12},"Nr.",null,"Spf.","Eins.","Jg.","Name/Vorname"]
[{"$nulls":4},"","",{"$nulls":16},"",""]
[{"$nulls":4},"","",{"$nulls":10},"",{"$nulls":5},"","",{"$nulls":10},""]
[{"$nulls":4},"","",{"$nulls":10},"",{"$nulls":5},"","",{"$nulls":10},""]
[{"$nulls":4},"","",{"$nulls":10},"",{"$nulls":5},"","",{"$nulls":10},""]
[{"$nulls":4},"","",{"$nulls":10},"",{"$nulls":5},"","",{"$nulls":10},""]
[{"$nulls":4},"","",{"$nulls":10},"",{"$nulls":5},"","",{"$nulls":10},""]
[{"$nulls":4},"","",{"$nulls":10},"",{"$nulls":5},"","",{"$nulls":10},""]
[{"$nulls":4},"","",{"$nulls":10},"",{"$nulls":5},"","",{"$nulls":10},""]
[{"$nulls":4},"","",{"$nulls":10},"",{"$nulls":5},"","",{"$nulls":10},""]
[{"$nulls":4},"","",{"$nulls":16},"",""]
[" Trainer:",{"$nulls":5},"",{"$nulls":11},"Trainer:",{"$nulls":5},""]
[" Betreuer:",{"$nulls":5},"",{"$nulls":11}," Betreuer:"]
[]
[" Schiedsrichter:",{"$nulls":5},{"$f":"'Aufgebot 18'!A19&\" \"&'Aufgebot 18'!G19","v":"Fredy Sprenger +41 79 791 22 59"},{"$nulls":11},"Heimmannschaft Verantw.",{"$nulls":8},{"$f":"'Aufgebot 18'!A9","v":"Jonas Hess"}]
[" Linienrichter:",{"$nulls":17}," Linienrichter:"]
[]
["Ballwahl/Anspiel:",{"$nulls":6},"1. Satz:","A",null,"B",null,null,"5. Satz:",null,null,"A",null,"B"]
[]
["Ausserordentliche Vorfälle:  ",{"$nulls":6},"","Protest/Einsprache",null,null,null,"","Ausschluss",null,null,"","Sonstiges",null,null,null,"(Ankreuzen + Bericht mit Unterschrift auf Rückseite)"]
[]
["A",null,"Timeout","1. Satz",null,"A",{"$f":"IF('Aufgebot 18'!$G$34>0,1,\"\")","v":1},{"$f":"IF('Aufgebot 18'!$G$34>0,2,\"\")","v":2},{"$f":"IF('Aufgebot 18'!$G$34=3,3,\"\")","v":""}]
["B",{"$nulls":4},"B"]
["A",null,"Timeout","2. Satz",null,"A",{"$f":"IF('Aufgebot 18'!$G$34>0,1,\"\")","v":1},{"$f":"IF('Aufgebot 18'!$G$34>0,2,\"\")","v":2},{"$f":"IF('Aufgebot 18'!$G$34=3,3,\"\")","v":""}]
["B",{"$nulls":4},"B"]
["A",null,"Timeout","3. Satz",null,"A",{"$f":"IF('Aufgebot 18'!$G$34>0,1,\"\")","v":1},{"$f":"IF('Aufgebot 18'!$G$34>0,2,\"\")","v":2},{"$f":"IF('Aufgebot 18'!$G$34=3,3,\"\")","v":""}]
["B",{"$nulls":4},"B"]
["A",null,"Timeout","4. Satz",null,"A",{"$f":"IF('Aufgebot 18'!$G$34>0,1,\"\")","v":1},{"$f":"IF('Aufgebot 18'!$G$34>0,2,\"\")","v":2},{"$f":"IF('Aufgebot 18'!$G$34=3,3,\"\")","v":""}]
["B",{"$nulls":4},"B"]
[]
["A",null,"Timeout","5. Satz",null,"A",{"$f":"IF('Aufgebot 18'!$G$34>0,1,\"\")","v":1},{"$f":"IF('Aufgebot 18'!$G$34>0,2,\"\")","v":2},{"$f":"IF('Aufgebot 18'!$G$34=3,3,\"\")","v":""}]
["B",{"$nulls":4},"B"]
["A",null,"Timeout","6. Satz",null,"A",{"$f":"IF('Aufgebot 18'!$G$34>0,1,\"\")","v":1},{"$f":"IF('Aufgebot 18'!$G$34>0,2,\"\")","v":2},{"$f":"IF('Aufgebot 18'!$G$34=3,3,\"\")","v":""}]
["B",{"$nulls":4},"B"]
["A",null,"Timeout","7. Satz",null,"A",{"$f":"IF('Aufgebot 18'!$G$34>0,1,\"\")","v":1},{"$f":"IF('Aufgebot 18'!$G$34>0,2,\"\")","v":2},{"$f":"IF('Aufgebot 18'!$G$34=3,3,\"\")","v":""}]
["B",{"$nulls":4},"B"]
["A",null,"Timeout","8. Satz",null,"A",{"$f":"IF('Aufgebot 18'!$G$34>0,1,\"\")","v":1},{"$f":"IF('Aufgebot 18'!$G$34>0,2,\"\")","v":2},{"$f":"IF('Aufgebot 18'!$G$34=3,3,\"\")","v":""}]
["B",{"$nulls":4},"B"]
[]
["A",null,"Timeout","9. Satz",null,"A",{"$f":"IF('Aufgebot 18'!$G$34>0,1,\"\")","v":1},{"$f":"IF('Aufgebot 18'!$G$34>0,2,\"\")","v":2},{"$f":"IF('Aufgebot 18'!$G$34=3,3,\"\")","v":""}]
["B",{"$nulls":4},"B"]
[]
[" Ergebnis    (A:B) ",{"$nulls":4},"1. Satz",null,null,"2. Satz",null,null,"3. Satz",null,null,"4. Satz",null,null,"5. Satz",null,null,null,"6. Satz",null,null,"7. Satz",null,null,"8. Satz",null,null,"9. Satz"]
[{"$nulls":6},":",null,null,":",null,null,":",null,null,":",null,null,":",null,null,null,":",null,null,":",null,null,":",null,null,":"]
["Sieger",{"$nulls":24},"Total Punkte",{"$nulls":4},"Endstand (Sätze)"]
[{"$nulls":25},":",{"$nulls":4},":"]
[" Für die Richtigkeit der Eintragungen"]
[" Schiedsrichter:",{"$nulls":16},"Spielführer A:"]
[" Anschreiber:",{"$nulls":16}," Spielführer B:"]
["Mit sportlichen Grüssen\nSwiss Faustball CUPKO\nBruno Pabst (Präsident)",{"$nulls":23},"Thundorf,",{"$nulls":5},{"$f":"TODAY()","v":"2025-08-28"}]

{"sheet":"Aufgebot 19","index":60,"n_rows":48,"n_cols":26,"rows_kept":48,"cut":false,"hidden":true,"merged":[[31,4,31,14],[31,15,31,26],[41,0,41,2],[41,3,41,20],[41,21,41,23],[41,24,41,26],[36,0,36,26],[37,0,37,26],[38,0,38,26],[39,0,39,2],[39,3,39,5],[39,6,39,8],[39,9,39,11],[39,12,39,14],[39,15,39,17],[39,18,39,20],[50,2,50,8],[43,0,43,26],[44,0,44,8],[44,9,44,15],[44,17,44,24],[47,0,47,19],[47,20,47,22],[47,23,47,26],[39,21,39,23],[39,24,39,26],[35,0,35,5],[35,6,35,26],[26,35,26,38],[28,0,28,26],[30,0,30,26],[31,0,31,3],[31,28,31,29],[32,0,32,26],[33,6,33,7],[33,12,33,14],[33,28,33,29],[34,0,34,26],[26,6,26,8],[26,12,26,18],[26,19,26,20],[26,21,26,22],[26,24,26,26],[16,24,16,26],[19,0,19,26],[22,0,22,11],[22,12,22,14],[24,0,24,2],[18,0,18,5],[18,6,18,11],[18,12,18,16],[18,17,18,26],[16,0,16,11],[16,12,16,15],[16,16,16,18],[16,20,16,23],[13,0,13,5],[13,6,13,10],[13,11,13,18],[13,19,13,26],[14,0,14,5],[14,6,14,10],[14,11,14,18],[14,19,14,26],[10,0,10,5],[10,6,10,12],[10,14,10,19],[10,20,10,26],[11,0,11,12],[11,14,11,26],[8,0,8,12],[8,14,8,26],[9,0,9,5],[9,6,9,12],[9,14,9,19],[9,20,9,26],[6,0,6,12],[6,13,7,13],[6,14,6,26],[6,28,6,29],[6,30,6,31],[7,14,7,26],[0,4,0,21],[2,0,2,26],[2,28,2,30],[4,0,4,4],[4,5,4,11],[4,12,4,13],[4,14,4,19],[4,20,4,23]]}
[{"$nulls":4},{"$f":"Eigaben!Z3","v":"37. Schweizer Cup Männer 2025"}]
[{"$f":"'Aufgebot 18'!A2","v":3},null,null,{"$f":"VLOOKUP(A2,Eigaben!Y8:AC14,5,0)","v":"1/8 Final"},{"$nulls":4},2]
["Aufgebot Mannschaften"]
[1]
[{"$f":"VLOOKUP(A2,Eigaben!Y8:AC14,5,0)","v":"1/8 Final"},{"$nulls":4},{"$f":"VLOOKUP($A$2,Eigaben!$Y$8:$AC$14,2,1)","v":"2025-06-23"},{"$nulls":6},"bis",null,{"$f":"VLOOKUP($A$2,Eigaben!$Y$8:$AB$14,3,1)","v":"2025-07-18"},{"$nulls":5},"Spiel - Nr.",null,null,null,{"$f":"'Aufgebot 18'!Y5+1","v":19}]
[{"$f":"Eigaben!F52","v":41},{"$nulls":13},{"$f":"Eigaben!G52","v":67}]
["Heim - Mannschaft",{"$nulls":13},"Gast - Mannschaft"]
[{"$f":"(VLOOKUP($A$6,Eigaben!$Y$17:$Z$103,2,0))","v":"FBV Ettenhausen ( 2. Liga S )"},{"$nulls":13},{"$f":"(VLOOKUP($O$6,Eigaben!$Y$17:$Z$103,2,0))","v":"FG Fricktal ( NLA  )"}]
[{"$f":"VLOOKUP($A$6,Eigaben!$Y$17:$AH$103,3,1)&\" \"&VLOOKUP(A6,Eigaben!Y17:AH103,4,1)","v":"Simon  Kunz"},{"$nulls":13},{"$f":"VLOOKUP($O$6,Eigaben!$Y$17:$AH$103,3,1)&\" \"&VLOOKUP($O$6,Eigaben!$Y$17:$AH$103,4,1)","v":"Patrick Hochreuter"}]
[{"$f":"VLOOKUP($A$6,Eigaben!$Y$17:$AH$103,5,1)","v":"Matthofstr 43"},{"$nulls":5},{"$f":"VLOOKUP($A$6,Eigaben!$Y$17:$AH$103,6,1)&\" \"&VLOOKUP(A6,Eigaben!$Y$17:$AH$103,7,1)","v":"8355 Aadorf"},{"$nulls":7},{"$f":"VLOOKUP($O$6,Eigaben!$Y$17:$AH$103,5,1)","v":"Scheuerackerweg 16"},{"$nulls":5},{"$f":"VLOOKUP($O$6,Eigaben!$Y$17:$AV$103,6,1)&\" \"&VLOOKUP($O$6,Eigaben!$Y$17:$AV$103,7,1)","v":"5223 Riniken"}]
[{"$f":"IF(Eigaben!AF54=0,\"\",VLOOKUP($A$6,Eigaben!$Y$17:$AH$103,8,1))","v":" "},{"$nulls":5},{"$f":"IF(Eigaben!$AG$54=0,\"\",VLOOKUP($A$6,Eigaben!$Y$17:$AH$103,9,1))","v":"079 438 17 59"},{"$nulls":7},{"$f":"IF(Eigaben!AF55=0,\"\",VLOOKUP($O$6,Eigaben!$Y$17:$AH$103,8,1))","v":" "},{"$nulls":5},{"$f":"IF(Eigaben!$P$54=0,\"\",VLOOKUP($O$6,Eigaben!$Y$17:$AH$103,9,1))","v":"079 238 91 30"}]
[{"$f":"VLOOKUP($A$6,Eigaben!$Y$17:$AH$103,10,1)","v":"simon.kunz@fbv-ettenhausen.ch"},{"$nulls":13},{"$f":"VLOOKUP($O$6,Eigaben!$Y$17:$AH$103,10,1)","v":"info@fgfricktal.ch"}]
[null,null,{"$f":"Eigaben!C52","v":19}]
["Datum",{"$nulls":5},"Zeit",{"$nulls":4},"Ort",{"$nulls":7},"Sportplatz"]
[{"$f":"IF(Eigaben!D52=0,\"\",VLOOKUP(C13,Eigaben!$C$28:$V$109,13,0))","v":"2025-06-24"},{"$nulls":5},{"$f":"IF(Eigaben!D52=0,\"\",VLOOKUP(C13,Eigaben!$C$28:$V$110,14,0))","v":"19:30:00"},{"$nulls":4},{"$f":"IF(Eigaben!D52=0,\"\",VLOOKUP(C13,Eigaben!$C$28:$V$1110,15,0))","v":"Ettenhausen"},{"$nulls":7},{"$f":"IF(Eigaben!D52=0,\"\",VLOOKUP(C13,Eigaben!$C$28:$V$110,16,0))","v":"Schulhaus Ettenhausen"}]
[null,null,{"$f":"Eigaben!T52","v":79}]
["Aufgebot Schiedsrichter *"]
[]
[{"$f":"IF(C16=0,\"\",VLOOKUP(C16,Schiri_25!A2:L181,3,1)&\" \"&VLOOKUP(C16,Schiri_25!A2:L181,2,1))","v":"Daniel Ziereisen"},{"$nulls":5},{"$f":"IF(C16=0,\"\",VLOOKUP(C16,Schiri_25!A2:L181,9,1))","v":"+41 79 672 26 12"},{"$nulls":5},{"$f":"IF(C16=0,\"\",IF(VLOOKUP(C16,Schiri_25!A2:M122,8,1)=0,\"\",VLOOKUP(C16,Schiri_25!A2:M122,8,1)))","v":"+41 52 364 23 90"},{"$nulls":4},{"$f":"IF(C16=0,\"\",VLOOKUP(C16,Schiri_25!A2:L181,12,1))","v":"daniel.ziereisen@hcs-controls.ch"}]
[]
["* Im Verhinderungsfall sofort Verbindungsaufnahme mit Bruno Pabst: 079 243 02 08"]
[]
["Eintreffen des Schiedsrichters:",{"$nulls":11},{"$f":"IF(G15=\"\",\"\",G15-\"00:15:00\")","v":"19:15:00"}]
[]
["Tenue:",null,null,"Offizielle Schiedsrichterausrüstung gelb / schwarz"]
[]
["Taggeld:",{"$nulls":4},"Fr.","**",{"$nulls":5},"Fahrspesen",{"$nulls":6},"Fr",null,1,null,null,{"$f":"Eigaben!V52","v":6}]
[]
["Die Fahrspesen (einfache Fahrt, Fr. 1,00 pro Km)  werden durch die Heim-Mannschaft bezahlt. \n**  (Das Taggeld wird direkt durch die CUPKO ausbezahlt.)"]
[]
["Modus"]
["Spielmodus:",null,null,null,"5 Gewinnsätze bis 11 (max. 15 : 14)",{"$nulls":10},"Pause zwischen den Sätze 90 s"]
[]
["Bonus-Punkte:",{"$nulls":5},{"$f":"Eigaben!S52","v":3}]
[]
["Durchführung:\n",{"$nulls":5},"Bei einer allfälligen Verschiebung muss spätestens 5 Stunden vor Spielbeginn die Gast-Mannschaft, der Schiedsrichter und deer Chef CUPKO per Telefon und SMS informiert werden."]
[]
["Resultatmeldung"]
[]
["1. Satz",null,null,"2. Satz",null,null,"3. Satz",null,null,"4. Satz",null,null,"5. Satz",null,null,"6. Satz",null,null,"7. Satz",null,null,"8. Satz",null,null,"9. Satz"]
[null,":",null,null,":",null,null,":",null,null,":",null,null,":",null,null,":",null,null,":",null,null,":",null,null,":"]
["Sieger",{"$nulls":20},"Sätze",null,null,":"]
[]
["Resultatmeldung bis spätestens 12 Uhr des Folgetages durch den Schiedsrichter  per E-Mail, SMS oder WhatsApp an  "]
["pabst@swissfaustball.ch",{"$nulls":16},"pabst.bruno@bluewin.ch"]
[]
[]
["Mit sportlichen Grüssen\nSwiss Faustball CUPKO\nBruno Pabst (Präsident)",{"$nulls":19},"Thundorf, ",null,null,{"$f":"TODAY()","v":"2025-08-28"}]

{"sheet":"Spielbericht 19","index":61,"n_rows":58,"n_cols":36,"rows_kept":58,"cut":false,"hidden":true,"merged":[[54,0,54,35],[55,0,55,16],[55,17,55,35],[56,0,56,16],[56,17,56,35],[57,0,59,23],[57,24,59,29],[57,30,59,35],[50,30,50,32],[50,33,51,35],[52,0,53,4],[52,25,52,29],[52,30,52,35],[53,25,53,29],[53,30,53,35],[50,11,50,13],[50,14,50,16],[50,17,50,20],[50,21,50,23],[50,24,50,26],[50,27,50,29],[35,2,36,2],[35,3,36,4],[50,8,50,10],[38,2,39,2],[38,3,39,4],[40,2,41,2],[40,3,41,4],[42,2,43,2],[42,3,43,4],[44,2,45,2],[44,3,45,4],[47,2,48,2],[47,3,48,4],[50,0,51,4],[25,13,25,15],[31,2,32,2],[31,3,32,4],[33,2,34,2],[33,3,34,4],[16,5,16,16],[16,23,16,34],[17,5,17,16],[17,23,17,34],[29,2,30,2],[29,3,30,4],[18,5,18,16],[18,23,18,34],[19,18,19,22],[20,18,20,22],[22,6,22,17],[22,27,22,35],[23,6,23,17],[23,18,23,23],[23,24,23,35],[25,0,25,5],[13,5,13,16],[13,23,13,34],[14,5,14,16],[14,23,14,34],[15,5,15,16],[15,23,15,34],[10,5,10,16],[10,23,10,34],[11,5,11,16],[11,23,11,34],[12,5,12,16],[12,23,12,34],[7,35,8,35],[8,5,8,16],[8,23,8,34],[9,5,9,16],[9,23,9,34],[7,0,7,5],[7,6,7,16],[7,17,8,17],[7,18,7,23],[7,24,7,34],[0,6,1,35],[3,6,3,28],[3,29,3,35],[5,0,5,3],[5,4,5,8],[5,9,5,10],[5,11,5,13],[5,14,5,17],[5,18,5,28],[5,29,5,32],[5,33,5,35]]}
[{"$nulls":6},{"$f":"'Aufgebot A'!E1","v":"37. Schweizer Cup Männer 2025"}]
[]
[]
[{"$nulls":6},"            Spielbericht",{"$nulls":22},{"$f":"'Aufgebot 19'!A5","v":"1/8 Final"}]
[]
["Datum:  ",null,null,null,{"$f":"'Aufgebot 19'!A15","v":"2025-06-24"},{"$nulls":4},"Zeit:",null,{"$f":"'Aufgebot 19'!G15","v":"19:30:00"},null,null,"Spielort:",null,null,null,{"$f":"'Aufgebot 19'!L15","v":"Ettenhausen"},{"$nulls":10}," Spiel-Nr.:",null,null,null,{"$f":"'Aufgebot 19'!Y5","v":19}]
[]
["Mannschaft A:",{"$nulls":5},{"$f":"'Aufgebot 19'!A8","v":"FBV Ettenhausen ( 2. Liga S )"},{"$nulls":10},"Verw.","Mannschaft B:",{"$nulls":5},{"$f":"'Aufgebot 19'!O8","v":"FG Fricktal ( NLA  )"},{"$nulls":10},"Verw."]
["Nr.",null,"Spf.","Eins.","Jg.","Name/Vorname",{"$nulls":12},"Nr.",null,"Spf.","Eins.","Jg.","Name/Vorname"]
[{"$nulls":4},"","",{"$nulls":16},"",""]
[{"$nulls":4},"","",{"$nulls":10},"",{"$nulls":5},"","",{"$nulls":10},""]
[{"$nulls":4},"","",{"$nulls":10},"",{"$nulls":5},"","",{"$nulls":10},""]
[{"$nulls":4},"","",{"$nulls":10},"",{"$nulls":5},"","",{"$nulls":10},""]
[{"$nulls":4},"","",{"$nulls":10},"",{"$nulls":5},"","",{"$nulls":10},""]
[{"$nulls":4},"","",{"$nulls":10},"",{"$nulls":5},"","",{"$nulls":10},""]
[{"$nulls":4},"","",{"$nulls":10},"",{"$nulls":5},"","",{"$nulls":10},""]
[{"$nulls":4},"","",{"$nulls":10},"",{"$nulls":5},"","",{"$nulls":10},""]
[{"$nulls":4},"","",{"$nulls":10},"",{"$nulls":5},"","",{"$nulls":10},""]
[{"$nulls":4},"","",{"$nulls":16},"",""]
[" Trainer:",{"$nulls":5},"",{"$nulls":11},"Trainer:",{"$nulls":5},""]
[" Betreuer:",{"$nulls":5},"",{"$nulls":11}," Betreuer:"]
[]
[" Schiedsrichter:",{"$nulls":5},{"$f":"'Aufgebot 19'!A19&\" \"&'Aufgebot 19'!G19","v":"Daniel Ziereisen +41 79 672 26 12"},{"$nulls":11},"Heimmannschaft Verantw.",{"$nulls":8},{"$f":"'Aufgebot 19'!A9","v":"Simon  Kunz"}]
[" Linienrichter:",{"$nulls":17}," Linienrichter:"]
[]
["Ballwahl/Anspiel:",{"$nulls":6},"1. Satz:","A",null,"B",null,null,"5. Satz:",null,null,"A",null,"B"]
[]
["Ausserordentliche Vorfälle:  ",{"$nulls":6},"","Protest/Einsprache",null,null,null,"","Ausschluss",null,null,"","Sonstiges",null,null,null,"(Ankreuzen + Bericht mit Unterschrift auf Rückseite)"]
[]
["A",null,"Timeout","1. Satz",null,"A",{"$f":"IF('Aufgebot 19'!$G$34>0,1,\"\")","v":1},{"$f":"IF('Aufgebot 19'!$G$34>0,2,\"\")","v":2},{"$f":"IF('Aufgebot 19'!$G$34=3,3,\"\")","v":3}]
["B",{"$nulls":4},"B"]
["A",null,"Timeout","2. Satz",null,"A",{"$f":"IF('Aufgebot 19'!$G$34>0,1,\"\")","v":1},{"$f":"IF('Aufgebot 19'!$G$34>0,2,\"\")","v":2},{"$f":"IF('Aufgebot 19'!$G$34=3,3,\"\")","v":3}]
["B",{"$nulls":4},"B"]
["A",null,"Timeout","3. Satz",null,"A",{"$f":"IF('Aufgebot 19'!$G$34>0,1,\"\")","v":1},{"$f":"IF('Aufgebot 19'!$G$34>0,2,\"\")","v":2},{"$f":"IF('Aufgebot 19'!$G$34=3,3,\"\")","v":3}]
["B",{"$nulls":4},"B"]
["A",null,"Timeout","4. Satz",null,"A",{"$f":"IF('Aufgebot 19'!$G$34>0,1,\"\")","v":1},{"$f":"IF('Aufgebot 19'!$G$34>0,2,\"\")","v":2},{"$f":"IF('Aufgebot 19'!$G$34=3,3,\"\")","v":3}]
["B",{"$nulls":4},"B"]
[]
["A",null,"Timeout","5. Satz",null,"A",{"$f":"IF('Aufgebot 19'!$G$34>0,1,\"\")","v":1},{"$f":"IF('Aufgebot 19'!$G$34>0,2,\"\")","v":2},{"$f":"IF('Aufgebot 19'!$G$34=3,3,\"\")","v":3}]
["B",{"$nulls":4},"B"]
["A",null,"Timeout","6. Satz",null,"A",{"$f":"IF('Aufgebot 19'!$G$34>0,1,\"\")","v":1},{"$f":"IF('Aufgebot 19'!$G$34>0,2,\"\")","v":2},{"$f":"IF('Aufgebot 19'!$G$34=3,3,\"\")","v":3}]
["B",{"$nulls":4},"B"]
["A",null,"Timeout","7. Satz",null,"A",{"$f":"IF('Aufgebot 19'!$G$34>0,1,\"\")","v":1},{"$f":"IF('Aufgebot 19'!$G$34>0,2,\"\")","v":2},{"$f":"IF('Aufgebot 19'!$G$34=3,3,\"\")","v":3}]
["B",{"$nulls":4},"B"]
["A",null,"Timeout","8. Satz",null,"A",{"$f":"IF('Aufgebot 19'!$G$34>0,1,\"\")","v":1},{"$f":"IF('Aufgebot 19'!$G$34>0,2,\"\")","v":2},{"$f":"IF('Aufgebot 19'!$G$34=3,3,\"\")","v":3}]
["B",{"$nulls":4},"B"]
[]
["A",null,"Timeout","9. Satz",null,"A",{"$f":"IF('Aufgebot 19'!$G$34>0,1,\"\")","v":1},{"$f":"IF('Aufgebot 19'!$G$34>0,2,\"\")","v":2},{"$f":"IF('Aufgebot 19'!$G$34=3,3,\"\")","v":3}]
["B",{"$nulls":4},"B"]
[]
[" Ergebnis    (A:B) ",{"$nulls":4},"1. Satz",null,null,"2. Satz",null,null,"3. Satz",null,null,"4. Satz",null,null,"5. Satz",null,null,null,"6. Satz",null,null,"7. Satz",null,null,"8. Satz",null,null,"9. Satz"]
[{"$nulls":6},":",null,null,":",null,null,":",null,null,":",null,null,":",null,null,null,":",null,null,":",null,null,":",null,null,":"]
["Sieger",{"$nulls":24},"Total Punkte",{"$nulls":4},"Endstand (Sätze)"]
[{"$nulls":25},":",{"$nulls":4},":"]
[" Für die Richtigkeit der Eintragungen"]
[" Schiedsrichter:",{"$nulls":16},"Spielführer A:"]
[" Anschreiber:",{"$nulls":16}," Spielführer B:"]
["Mit sportlichen Grüssen\nSwiss Faustball CUPKO\nBruno Pabst (Präsident)",{"$nulls":23},"Thundorf,",{"$nulls":5},{"$f":"TODAY()","v":"2025-08-28"}]

{"sheet":"Aufgebot 20","index":62,"n_rows":48,"n_cols":26,"rows_kept":48,"cut":false,"hidden":true,"merged":[[31,15,31,26],[31,4,31,14],[41,0,41,2],[41,3,41,20],[41,21,41,23],[41,24,41,26],[36,0,36,26],[37,0,37,26],[38,0,38,26],[39,0,39,2],[39,3,39,5],[39,6,39,8],[39,9,39,11],[39,12,39,14],[39,15,39,17],[39,18,39,20],[50,2,50,8],[43,0,43,26],[44,0,44,8],[44,9,44,15],[44,17,44,24],[47,0,47,19],[47,20,47,22],[47,23,47,26],[39,21,39,23],[39,24,39,26],[35,0,35,5],[35,6,35,26],[26,35,26,38],[28,0,28,26],[30,0,30,26],[31,0,31,3],[31,28,31,29],[32,0,32,26],[33,6,33,7],[33,12,33,14],[33,28,33,29],[34,0,34,26],[26,6,26,8],[26,12,26,18],[26,19,26,20],[26,21,26,22],[26,24,26,26],[16,24,16,26],[19,0,19,26],[22,0,22,11],[22,12,22,14],[24,0,24,2],[18,0,18,5],[18,6,18,11],[18,12,18,16],[18,17,18,26],[16,0,16,11],[16,12,16,15],[16,16,16,18],[16,20,16,23],[13,0,13,5],[13,6,13,10],[13,11,13,18],[13,19,13,26],[14,0,14,5],[14,6,14,10],[14,11,14,18],[14,19,14,26],[10,0,10,5],[10,6,10,12],[10,14,10,19],[10,20,10,26],[11,0,11,12],[11,14,11,26],[8,0,8,12],[8,14,8,26],[9,0,9,5],[9,6,9,12],[9,14,9,19],[9,20,9,26],[6,0,6,12],[6,13,7,13],[6,14,6,26],[6,28,6,29],[6,30,6,31],[7,14,7,26],[0,4,0,21],[2,0,2,26],[2,28,2,30],[4,0,4,4],[4,5,4,11],[4,12,4,13],[4,14,4,19],[4,20,4,23]]}
[{"$nulls":4},{"$f":"Eigaben!Z3","v":"37. Schweizer Cup Männer 2025"}]
[3,null,null,{"$f":"VLOOKUP(A2,Eigaben!Y8:AC14,5,0)","v":"1/8 Final"},{"$nulls":4},2]
["Aufgebot Mannschaften"]
[1]
[{"$f":"VLOOKUP(A2,Eigaben!Y8:AC14,5,0)","v":"1/8 Final"},{"$nulls":4},{"$f":"VLOOKUP($A$2,Eigaben!$Y$8:$AC$14,2,1)","v":"2025-06-23"},{"$nulls":6},"bis",null,{"$f":"VLOOKUP($A$2,Eigaben!$Y$8:$AB$14,3,1)","v":"2025-07-18"},{"$nulls":5},"Spiel - Nr.",null,null,null,{"$f":"'Aufgebot 19'!Y5+1","v":20}]
[{"$f":"Eigaben!F53","v":70},{"$nulls":13},{"$f":"Eigaben!G53","v":64}]
["Heim - Mannschaft",{"$nulls":13},"Gast - Mannschaft"]
[{"$f":"(VLOOKUP($A$6,Eigaben!$Y$17:$Z$103,2,0))","v":"SUS Widnau   ( NLA )"},{"$nulls":13},{"$f":"(VLOOKUP($O$6,Eigaben!$Y$17:$Z$103,2,0))","v":"STV Affeltrangen  ( NLA )"}]
[{"$f":"VLOOKUP($A$6,Eigaben!$Y$17:$AH$103,3,1)&\" \"&VLOOKUP(A6,Eigaben!Y17:AH103,4,1)","v":"Remo Pinchera"},{"$nulls":13},{"$f":"VLOOKUP($O$6,Eigaben!$Y$17:$AH$103,3,1)&\" \"&VLOOKUP($O$6,Eigaben!$Y$17:$AH$103,4,1)","v":"Andreas Ribi"}]
[{"$f":"VLOOKUP($A$6,Eigaben!$Y$17:$AH$103,5,1)","v":" "},{"$nulls":5},{"$f":"VLOOKUP($A$6,Eigaben!$Y$17:$AH$103,6,1)&\" \"&VLOOKUP(A6,Eigaben!$Y$17:$AH$103,7,1)","v":"   "},{"$nulls":7},{"$f":"VLOOKUP($O$6,Eigaben!$Y$17:$AH$103,5,1)","v":"Unterdorfstr 2b"},{"$nulls":5},{"$f":"VLOOKUP($O$6,Eigaben!$Y$17:$AV$103,6,1)&\" \"&VLOOKUP($O$6,Eigaben!$Y$17:$AV$103,7,1)","v":"8507 Hörhausen"}]
[{"$f":"IF(Eigaben!AF54=0,\"\",VLOOKUP($A$6,Eigaben!$Y$17:$AH$103,8,1))","v":" "},{"$nulls":5},{"$f":"IF(Eigaben!$AG$54=0,\"\",VLOOKUP($A$6,Eigaben!$Y$17:$AH$103,9,1))","v":"079 404 47 21"},{"$nulls":7},{"$f":"IF(Eigaben!AF55=0,\"\",VLOOKUP($O$6,Eigaben!$Y$17:$AH$103,8,1))","v":" "},{"$nulls":5},{"$f":"IF(Eigaben!$P$54=0,\"\",VLOOKUP($O$6,Eigaben!$Y$17:$AH$103,9,1))","v":"079 585 70 85"}]
[{"$f":"VLOOKUP($A$6,Eigaben!$Y$17:$AH$103,10,1)","v":"remo.pinchera@faustball-widnau.ch"},{"$nulls":13},{"$f":"VLOOKUP($O$6,Eigaben!$Y$17:$AH$103,10,1)","v":"faustball@stv-affeltrangen.ch "}]
[null,null,{"$f":"Eigaben!C53","v":20}]
["Datum",{"$nulls":5},"Zeit",{"$nulls":4},"Ort",{"$nulls":7},"Sportplatz"]
[{"$f":"IF(Eigaben!C53=0,\"\",VLOOKUP(C13,Eigaben!$C$28:$V$109,13,0))","v":"2025-07-15"},{"$nulls":5},{"$f":"IF(Eigaben!C53=0,\"\",VLOOKUP(C13,Eigaben!$C$28:$V$110,14,0))","v":"20:00:00"},{"$nulls":4},{"$f":"IF(Eigaben!C53=0,\"\",VLOOKUP(C13,Eigaben!$C$28:$V$1110,15,0))","v":"Widnau"},{"$nulls":7},{"$f":"IF(Eigaben!C53=0,\"\",VLOOKUP(C13,Eigaben!$C$28:$V$110,16,0))","v":"Lugwies"}]
[null,null,{"$f":"Eigaben!T53","v":13}]
["Aufgebot Schiedsrichter *"]
[]
[{"$f":"IF(C16=0,\"\",VLOOKUP(C16,Schiri_25!A2:L181,3,1)&\" \"&VLOOKUP(C16,Schiri_25!A2:L181,2,1))","v":"Patrick Sieber"},{"$nulls":5},{"$f":"IF(C16=0,\"\",VLOOKUP(C16,Schiri_25!A2:L181,9,1))","v":"+41 79 473 61 88"},{"$nulls":5},{"$f":"IF(C16=0,\"\",IF(VLOOKUP(C16,Schiri_25!A2:M122,8,1)=0,\"\",VLOOKUP(C16,Schiri_25!A2:M122,8,1)))","v":"+41 79 473 61 88"},{"$nulls":4},{"$f":"IF(C16=0,\"\",VLOOKUP(C16,Schiri_25!A2:L181,12,1))","v":"sieber.patrick@rsnweb.ch"}]
[]
["* Im Verhinderungsfall sofort Verbindungsaufnahme mit Bruno Pabst: 079 243 02 08"]
[]
["Eintreffen des Schiedsrichters:",{"$nulls":11},{"$f":"IF(G15=\"\",\"\",G15-\"00:15:00\")","v":"19:45:00"}]
[]
["Tenue:",null,null,"Offizielle Schiedsrichterausrüstung gelb / schwarz"]
[]
["Taggeld:",{"$nulls":4},"Fr.","**",{"$nulls":5},"Fahrspesen",{"$nulls":6},"Fr",null,1,null,null,{"$f":"Eigaben!V53","v":3}]
[]
["Die Fahrspesen (einfache Fahrt, Fr. 1,00 pro Km)  werden durch die Heim-Mannschaft bezahlt. \n**  (Das Taggeld wird direkt durch die CUPKO ausbezahlt.)"]
[]
["Modus"]
["Spielmodus:",null,null,null,"5 Gewinnsätze bis 11 (max. 15 : 14)",{"$nulls":10},"Pause zwischen den Sätzen 90 s"]
[]
["Bonus-Punkte:",{"$nulls":5},{"$f":"Eigaben!S53","v":0}]
[]
["Durchführung:\n",{"$nulls":5},"Bei einer allfälligen Verschiebung muss spätestens 5 Stunden vor Spielbeginn die Gast-Mannschaft, der Schiedsrichter und deer Chef CUPKO per Telefon und SMS informiert werden."]
[]
["Resultatmeldung"]
[]
["1. Satz",null,null,"2. Satz",null,null,"3. Satz",null,null,"4. Satz",null,null,"5. Satz",null,null,"6. Satz",null,null,"7. Satz",null,null,"8. Satz",null,null,"9. Satz"]
[null,":",null,null,":",null,null,":",null,null,":",null,null,":",null,null,":",null,null,":",null,null,":",null,null,":"]
["Sieger",{"$nulls":20},"Sätze",null,null,":"]
[]
["Resultatmeldung bis spätestens 12 Uhr des Folgetages durch den Schiedsrichter  per E-Mail, SMS oder WhatsApp an  "]
["pabst@swissfaustball.ch",{"$nulls":16},"pabst.bruno@bluewin.ch"]
[]
[]
["Mit sportlichen Grüssen\nSwiss Faustball CUPKO\nBruno Pabst (Präsident)",{"$nulls":19},"Thundorf, ",null,null,{"$f":"TODAY()","v":"2025-08-28"}]

{"sheet":"Spielbericht 20","index":63,"n_rows":58,"n_cols":36,"rows_kept":58,"cut":false,"hidden":true,"merged":[[54,0,54,35],[55,0,55,16],[55,17,55,35],[56,0,56,16],[56,17,56,35],[57,0,59,23],[57,24,59,29],[57,30,59,35],[50,30,50,32],[50,33,51,35],[52,0,53,4],[52,25,52,29],[52,30,52,35],[53,25,53,29],[53,30,53,35],[50,11,50,13],[50,14,50,16],[50,17,50,20],[50,21,50,23],[50,24,50,26],[50,27,50,29],[35,2,36,2],[35,3,36,4],[50,8,50,10],[38,2,39,2],[38,3,39,4],[40,2,41,2],[40,3,41,4],[42,2,43,2],[42,3,43,4],[44,2,45,2],[44,3,45,4],[47,2,48,2],[47,3,48,4],[50,0,51,4],[25,13,25,15],[31,2,32,2],[31,3,32,4],[33,2,34,2],[33,3,34,4],[16,5,16,16],[16,23,16,34],[17,5,17,16],[17,23,17,34],[29,2,30,2],[29,3,30,4],[18,5,18,16],[18,23,18,34],[19,18,19,22],[20,18,20,22],[22,6,22,17],[22,27,22,35],[23,6,23,17],[23,18,23,23],[23,24,23,35],[25,0,25,5],[13,5,13,16],[13,23,13,34],[14,5,14,16],[14,23,14,34],[15,5,15,16],[15,23,15,34],[10,5,10,16],[10,23,10,34],[11,5,11,16],[11,23,11,34],[12,5,12,16],[12,23,12,34],[7,35,8,35],[8,5,8,16],[8,23,8,34],[9,5,9,16],[9,23,9,34],[7,0,7,5],[7,6,7,16],[7,17,8,17],[7,18,7,23],[7,24,7,34],[0,6,1,35],[3,6,3,28],[3,29,3,35],[5,0,5,3],[5,4,5,8],[5,9,5,10],[5,11,5,13],[5,14,5,17],[5,18,5,28],[5,29,5,32],[5,33,5,35]]}
[{"$nulls":6},{"$f":"'Aufgebot A'!E1","v":"37. Schweizer Cup Männer 2025"}]
[]
[]
[{"$nulls":6},"            Spielbericht",{"$nulls":22},{"$f":"'Aufgebot 20'!A5","v":"1/8 Final"}]
[]
["Datum:  ",null,null,null,{"$f":"'Aufgebot 20'!A15","v":"2025-07-15"},{"$nulls":4},"Zeit:",null,{"$f":"'Aufgebot 20'!G15","v":"20:00:00"},null,null,"Spielort:",null,null,null,{"$f":"'Aufgebot 20'!L15","v":"Widnau"},{"$nulls":10}," Spiel-Nr.:",null,null,null,{"$f":"'Aufgebot 20'!Y5","v":20}]
[]
["Mannschaft A:",{"$nulls":5},{"$f":"'Aufgebot 20'!A8","v":"SUS Widnau   ( NLA )"},{"$nulls":10},"Verw.","Mannschaft B:",{"$nulls":5},{"$f":"'Aufgebot 20'!O8","v":"STV Affeltrangen  ( NLA )"},{"$nulls":10},"Verw."]
["Nr.",null,"Spf.","Eins.","Jg.","Name/Vorname",{"$nulls":12},"Nr.",null,"Spf.","Eins.","Jg.","Name/Vorname"]
[{"$nulls":4},"","",{"$nulls":16},"",""]
[{"$nulls":4},"","",{"$nulls":10},"",{"$nulls":5},"","",{"$nulls":10},""]
[{"$nulls":4},"","",{"$nulls":10},"",{"$nulls":5},"","",{"$nulls":10},""]
[{"$nulls":4},"","",{"$nulls":10},"",{"$nulls":5},"","",{"$nulls":10},""]
[{"$nulls":4},"","",{"$nulls":10},"",{"$nulls":5},"","",{"$nulls":10},""]
[{"$nulls":4},"","",{"$nulls":10},"",{"$nulls":5},"","",{"$nulls":10},""]
[{"$nulls":4},"","",{"$nulls":10},"",{"$nulls":5},"","",{"$nulls":10},""]
[{"$nulls":4},"","",{"$nulls":10},"",{"$nulls":5},"","",{"$nulls":10},""]
[{"$nulls":4},"","",{"$nulls":10},"",{"$nulls":5},"","",{"$nulls":10},""]
[{"$nulls":4},"","",{"$nulls":16},"",""]
[" Trainer:",{"$nulls":5},"",{"$nulls":11},"Trainer:",{"$nulls":5},""]
[" Betreuer:",{"$nulls":5},"",{"$nulls":11}," Betreuer:"]
[]
[" Schiedsrichter:",{"$nulls":5},{"$f":"'Aufgebot 20'!A19&\" \"&'Aufgebot 20'!G19","v":"Patrick Sieber +41 79 473 61 88"},{"$nulls":11},"Heimmannschaft Verantw.",{"$nulls":8},{"$f":"'Aufgebot 20'!A9","v":"Remo Pinchera"}]
[" Linienrichter:",{"$nulls":17}," Linienrichter:"]
[]
["Ballwahl/Anspiel:",{"$nulls":6},"1. Satz:","A",null,"B",null,null,"5. Satz:",null,null,"A",null,"B"]
[]
["Ausserordentliche Vorfälle:  ",{"$nulls":6},"","Protest/Einsprache",null,null,null,"","Ausschluss",null,null,"","Sonstiges",null,null,null,"(Ankreuzen + Bericht mit Unterschrift auf Rückseite)"]
[]
["A",null,"Timeout","1. Satz",null,"A",{"$f":"IF('Aufgebot 20'!$G$34>0,1,\"\")","v":""},{"$f":"IF('Aufgebot 20'!$G$34>0,2,\"\")","v":""},{"$f":"IF('Aufgebot 20'!$G$34=3,3,\"\")","v":""}]
["B",{"$nulls":4},"B"]
["A",null,"Timeout","2. Satz",null,"A",{"$f":"IF('Aufgebot 20'!$G$34>0,1,\"\")","v":""},{"$f":"IF('Aufgebot 20'!$G$34>0,2,\"\")","v":""},{"$f":"IF('Aufgebot 20'!$G$34=3,3,\"\")","v":""}]
["B",{"$nulls":4},"B"]
["A",null,"Timeout","3. Satz",null,"A",{"$f":"IF('Aufgebot 20'!$G$34>0,1,\"\")","v":""},{"$f":"IF('Aufgebot 20'!$G$34>0,2,\"\")","v":""},{"$f":"IF('Aufgebot 20'!$G$34=3,3,\"\")","v":""}]
["B",{"$nulls":4},"B"]
["A",null,"Timeout","4. Satz",null,"A",{"$f":"IF('Aufgebot 20'!$G$34>0,1,\"\")","v":""},{"$f":"IF('Aufgebot 20'!$G$34>0,2,\"\")","v":""},{"$f":"IF('Aufgebot 20'!$G$34=3,3,\"\")","v":""}]
["B",{"$nulls":4},"B"]
[]
["A",null,"Timeout","5. Satz",null,"A",{"$f":"IF('Aufgebot 20'!$G$34>0,1,\"\")","v":""},{"$f":"IF('Aufgebot 20'!$G$34>0,2,\"\")","v":""},{"$f":"IF('Aufgebot 20'!$G$34=3,3,\"\")","v":""}]
["B",{"$nulls":4},"B"]
["A",null,"Timeout","6. Satz",null,"A",{"$f":"IF('Aufgebot 20'!$G$34>0,1,\"\")","v":""},{"$f":"IF('Aufgebot 20'!$G$34>0,2,\"\")","v":""},{"$f":"IF('Aufgebot 20'!$G$34=3,3,\"\")","v":""}]
["B",{"$nulls":4},"B"]
["A",null,"Timeout","7. Satz",null,"A",{"$f":"IF('Aufgebot 20'!$G$34>0,1,\"\")","v":""},{"$f":"IF('Aufgebot 20'!$G$34>0,2,\"\")","v":""},{"$f":"IF('Aufgebot 20'!$G$34=3,3,\"\")","v":""}]
["B",{"$nulls":4},"B"]
["A",null,"Timeout","8. Satz",null,"A",{"$f":"IF('Aufgebot 20'!$G$34>0,1,\"\")","v":""},{"$f":"IF('Aufgebot 20'!$G$34>0,2,\"\")","v":""},{"$f":"IF('Aufgebot 20'!$G$34=3,3,\"\")","v":""}]
["B",{"$nulls":4},"B"]
[]
["A",null,"Timeout","9. Satz",null,"A",{"$f":"IF('Aufgebot 20'!$G$34>0,1,\"\")","v":""},{"$f":"IF('Aufgebot 20'!$G$34>0,2,\"\")","v":""},{"$f":"IF('Aufgebot 20'!$G$34=3,3,\"\")","v":""}]
["B",{"$nulls":4},"B"]
[]
[" Ergebnis    (A:B) ",{"$nulls":4},"1. Satz",null,null,"2. Satz",null,null,"3. Satz",null,null,"4. Satz",null,null,"5. Satz",null,null,null,"6. Satz",null,null,"7. Satz",null,null,"8. Satz",null,null,"9. Satz"]
[{"$nulls":6},":",null,null,":",null,null,":",null,null,":",null,null,":",null,null,null,":",null,null,":",null,null,":",null,null,":"]
["Sieger",{"$nulls":24},"Total Punkte",{"$nulls":4},"Endstand (Sätze)"]
[{"$nulls":25},":",{"$nulls":4},":"]
[" Für die Richtigkeit der Eintragungen"]
[" Schiedsrichter:",{"$nulls":16},"Spielführer A:"]
[" Anschreiber:",{"$nulls":16}," Spielführer B:"]
["Mit sportlichen Grüssen\nSwiss Faustball CUPKO\nBruno Pabst (Präsident)",{"$nulls":23},"Thundorf,",{"$nulls":5},{"$f":"TODAY()","v":"2025-08-28"}]

{"sheet":"Aufgebot 21","index":64,"n_rows":48,"n_cols":26,"rows_kept":48,"cut":false,"hidden":true,"merged":[[31,15,31,26],[31,4,31,14],[41,0,41,2],[41,3,41,20],[41,21,41,23],[41,24,41,26],[36,0,36,26],[37,0,37,26],[38,0,38,26],[39,0,39,2],[39,3,39,5],[39,6,39,8],[39,9,39,11],[39,12,39,14],[39,15,39,17],[39,18,39,20],[50,2,50,8],[43,0,43,26],[44,0,44,8],[44,9,44,15],[44,17,44,24],[47,0,47,19],[47,20,47,22],[47,23,47,26],[39,21,39,23],[39,24,39,26],[35,0,35,5],[35,6,35,26],[26,35,26,38],[28,0,28,26],[30,0,30,26],[31,0,31,3],[31,28,31,29],[32,0,32,26],[33,6,33,7],[33,12,33,14],[33,28,33,29],[34,0,34,26],[26,6,26,8],[26,12,26,18],[26,19,26,20],[26,21,26,22],[26,24,26,26],[16,24,16,26],[19,0,19,26],[22,0,22,11],[22,12,22,14],[24,0,24,2],[18,0,18,5],[18,6,18,11],[18,12,18,16],[18,17,18,26],[16,0,16,11],[16,12,16,15],[16,16,16,18],[16,20,16,23],[13,0,13,5],[13,6,13,10],[13,11,13,18],[13,19,13,26],[14,0,14,5],[14,6,14,10],[14,11,14,18],[14,19,14,26],[10,0,10,5],[10,6,10,12],[10,14,10,19],[10,20,10,26],[11,0,11,12],[11,14,11,26],[8,0,8,12],[8,14,8,26],[9,0,9,5],[9,6,9,12],[9,14,9,19],[9,20,9,26],[6,0,6,12],[6,13,7,13],[6,14,6,26],[6,28,6,29],[6,30,6,31],[7,14,7,26],[0,4,0,21],[2,0,2,26],[2,28,2,30],[4,0,4,4],[4,5,4,11],[4,12,4,13],[4,14,4,19],[4,20,4,23]]}
[{"$nulls":4},{"$f":"Eigaben!Z3","v":"37. Schweizer Cup Männer 2025"}]
[3,null,null,{"$f":"VLOOKUP(A2,Eigaben!Y8:AC14,5,0)","v":"1/8 Final"},{"$nulls":4},2]
["Aufgebot Mannschaften"]
[1]
[{"$f":"VLOOKUP(A2,Eigaben!Y8:AC14,5,0)","v":"1/8 Final"},{"$nulls":4},{"$f":"VLOOKUP($A$2,Eigaben!$Y$8:$AC$14,2,1)","v":"2025-06-23"},{"$nulls":6},"bis",null,{"$f":"VLOOKUP($A$2,Eigaben!$Y$8:$AB$14,3,1)","v":"2025-07-18"},{"$nulls":5},"Spiel - Nr.",null,null,null,{"$f":"'Aufgebot 20'!Y5+1","v":21}]
[{"$f":"Eigaben!F54","v":63},{"$nulls":13},{"$f":"Eigaben!G54","v":68}]
["Heim - Mannschaft",{"$nulls":13},"Gast - Mannschaft"]
[{"$f":"(VLOOKUP($A$6,Eigaben!$Y$17:$Z$103,2,0))","v":"STV Vordemwald 1 ( NLB W )"},{"$nulls":13},{"$f":"(VLOOKUP($O$6,Eigaben!$Y$17:$Z$103,2,0))","v":"STV Oberentfelden   ( NLA )"}]
[{"$f":"VLOOKUP($A$6,Eigaben!$Y$17:$AH$103,3,1)&\" \"&VLOOKUP(A6,Eigaben!Y17:AH103,4,1)","v":"Reto von Ballmoos"},{"$nulls":13},{"$f":"VLOOKUP($O$6,Eigaben!$Y$17:$AH$103,3,1)&\" \"&VLOOKUP($O$6,Eigaben!$Y$17:$AH$103,4,1)","v":"Christian Suter"}]
[{"$f":"VLOOKUP($A$6,Eigaben!$Y$17:$AH$103,5,1)","v":"Rotfarbstr 9"},{"$nulls":5},{"$f":"VLOOKUP($A$6,Eigaben!$Y$17:$AH$103,6,1)&\" \"&VLOOKUP(A6,Eigaben!$Y$17:$AH$103,7,1)","v":"4800 Zofingen"},{"$nulls":7},{"$f":"VLOOKUP($O$6,Eigaben!$Y$17:$AH$103,5,1)","v":"Aeppenhaldenstr 3b"},{"$nulls":5},{"$f":"VLOOKUP($O$6,Eigaben!$Y$17:$AV$103,6,1)&\" \"&VLOOKUP($O$6,Eigaben!$Y$17:$AV$103,7,1)","v":"4800 Zofingen"}]
[{"$f":"IF(Eigaben!AF54=0,\"\",VLOOKUP($A$6,Eigaben!$Y$17:$AH$103,8,1))","v":" "},{"$nulls":5},{"$f":"IF(Eigaben!$AG$54=0,\"\",VLOOKUP($A$6,Eigaben!$Y$17:$AH$103,9,1))","v":"079 721 45 82"},{"$nulls":7},{"$f":"IF(Eigaben!AF55=0,\"\",VLOOKUP($O$6,Eigaben!$Y$17:$AH$103,8,1))","v":" "},{"$nulls":5},{"$f":"IF(Eigaben!$P$54=0,\"\",VLOOKUP($O$6,Eigaben!$Y$17:$AH$103,9,1))","v":"079 476 04 32"}]
[{"$f":"VLOOKUP($A$6,Eigaben!$Y$17:$AH$103,10,1)","v":"reto.vonballmoos@gmail.com"},{"$nulls":13},{"$f":"VLOOKUP($O$6,Eigaben!$Y$17:$AH$103,10,1)","v":"christian.suter@faustballcenter.ch"}]
[null,null,{"$f":"Eigaben!C54","v":21}]
["Datum",{"$nulls":5},"Zeit",{"$nulls":4},"Ort",{"$nulls":7},"Sportplatz"]
[{"$f":"IF(Eigaben!C54=0,\"\",VLOOKUP(C13,Eigaben!$C$28:$V$109,13,0))","v":"2025-06-11"},{"$nulls":5},{"$f":"IF(Eigaben!C54=0,\"\",VLOOKUP(C13,Eigaben!$C$28:$V$110,14,0))","v":"19:30:00"},{"$nulls":4},{"$f":"IF(Eigaben!C54=0,\"\",VLOOKUP(C13,Eigaben!$C$28:$V$1110,15,0))","v":"Vordemwald"},{"$nulls":7},{"$f":"IF(Eigaben!C54=0,\"\",VLOOKUP(C13,Eigaben!$C$28:$V$110,16,0))","v":"Sportplatz Schulhaus"}]
[null,null,{"$f":"Eigaben!T54","v":44}]
["Aufgebot Schiedsrichter *"]
[]
[{"$f":"IF(C16=0,\"\",VLOOKUP(C16,Schiri_25!A2:L181,3,1)&\" \"&VLOOKUP(C16,Schiri_25!A2:L181,2,1))","v":"Stephan Wagner"},{"$nulls":5},{"$f":"IF(C16=0,\"\",VLOOKUP(C16,Schiri_25!A2:L181,9,1))","v":"+41 79 651 82 59"},{"$nulls":5},{"$f":"IF(C16=0,\"\",IF(VLOOKUP(C16,Schiri_25!A2:M122,8,1)=0,\"\",VLOOKUP(C16,Schiri_25!A2:M122,8,1)))","v":"+41 62 393 19 07"},{"$nulls":4},{"$f":"IF(C16=0,\"\",VLOOKUP(C16,Schiri_25!A2:L181,12,1))","v":"t.s.wagner@bluewin.ch"}]
[]
["* Im Verhinderungsfall sofort Verbindungsaufnahme mit Bruno Pabst: 079 243 02 08"]
[]
["Eintreffen des Schiedsrichters:",{"$nulls":11},{"$f":"IF(G15=\"\",\"\",G15-\"00:15:00\")","v":"19:15:00"}]
[]
["Tenue:",null,null,"Offizielle Schiedsrichterausrüstung gelb / schwarz"]
[]
["Taggeld:",{"$nulls":4},"Fr.","**",{"$nulls":5},"Fahrspesen",{"$nulls":6},"Fr",null,1,null,null,{"$f":"Eigaben!V54","v":18}]
[]
["Die Fahrspesen (einfache Fahrt, Fr. 1,00 pro Km)  werden durch die Heim-Mannschaft bezahlt. \n**  (Das Taggeld wird direkt durch die CUPKO ausbezahlt.)"]
[]
["Modus"]
["Spielmodus:",null,null,null,"5 Gewinnsätze bis 11 (max. 15 : 14)",{"$nulls":10},"Pause zwischen den Sätzen 90 s"]
[]
["Bonus-Punkte:",{"$nulls":5},{"$f":"Eigaben!S54","v":2}]
[]
["Durchführung:\n",{"$nulls":5},"Bei einer allfälligen Verschiebung muss spätestens 5 Stunden vor Spielbeginn die Gast-Mannschaft, der Schiedsrichter und deer Chef CUPKO per Telefon und SMS informiert werden."]
[]
["Resultatmeldung"]
[]
["1. Satz",null,null,"2. Satz",null,null,"3. Satz",null,null,"4. Satz",null,null,"5. Satz",null,null,"6. Satz",null,null,"7. Satz",null,null,"8. Satz",null,null,"9. Satz"]
[null,":",null,null,":",null,null,":",null,null,":",null,null,":",null,null,":",null,null,":",null,null,":",null,null,":"]
["Sieger",{"$nulls":20},"Sätze",null,null,":"]
[]
["Resultatmeldung bis spätestens 12 Uhr des Folgetages durch den Schiedsrichter  per E-Mail, SMS oder WhatsApp an  "]
["pabst@swissfaustball.ch",{"$nulls":16},"pabst.bruno@bluewin.ch"]
[]
[]
["Mit sportlichen Grüssen\nSwiss Faustball CUPKO\nBruno Pabst (Präsident)",{"$nulls":19},"Thundorf, ",null,null,{"$f":"TODAY()","v":"2025-08-28"}]

{"sheet":"Spielbericht 21","index":65,"n_rows":57,"n_cols":36,"rows_kept":57,"cut":false,"hidden":true,"merged":[[54,0,54,16],[54,17,54,35],[55,0,55,16],[55,17,55,35],[56,0,57,23],[56,24,57,29],[56,30,57,35],[50,30,50,32],[50,33,51,35],[52,0,53,4],[52,25,52,29],[52,30,52,35],[53,25,53,29],[53,30,53,35],[50,11,50,13],[50,14,50,16],[50,17,50,20],[50,21,50,23],[50,24,50,26],[50,27,50,29],[35,2,36,2],[35,3,36,4],[50,8,50,10],[38,2,39,2],[38,3,39,4],[40,2,41,2],[40,3,41,4],[42,2,43,2],[42,3,43,4],[44,2,45,2],[44,3,45,4],[47,2,48,2],[47,3,48,4],[50,0,51,4],[25,13,25,15],[31,2,32,2],[31,3,32,4],[33,2,34,2],[33,3,34,4],[16,5,16,16],[16,23,16,34],[17,5,17,16],[17,23,17,34],[29,2,30,2],[29,3,30,4],[18,5,18,16],[18,23,18,34],[19,18,19,22],[20,18,20,22],[22,6,22,17],[22,27,22,35],[23,6,23,17],[23,18,23,23],[23,24,23,35],[25,0,25,5],[13,5,13,16],[13,23,13,34],[14,5,14,16],[14,23,14,34],[15,5,15,16],[15,23,15,34],[10,5,10,16],[10,23,10,34],[11,5,11,16],[11,23,11,34],[12,5,12,16],[12,23,12,34],[7,35,8,35],[8,5,8,16],[8,23,8,34],[9,5,9,16],[9,23,9,34],[7,0,7,5],[7,6,7,16],[7,17,8,17],[7,18,7,23],[7,24,7,34],[0,6,1,35],[3,6,3,28],[3,29,3,35],[5,0,5,3],[5,4,5,8],[5,9,5,10],[5,11,5,13],[5,14,5,17],[5,18,5,28],[5,29,5,32],[5,33,5,35]]}
[{"$nulls":6},{"$f":"'Aufgebot A'!E1","v":"37. Schweizer Cup Männer 2025"}]
[]
[]
[{"$nulls":6},"            Spielbericht",{"$nulls":22},{"$f":"'Aufgebot 20'!A5","v":"1/8 Final"}]
[]
["Datum:  ",null,null,null,{"$f":"'Aufgebot 20'!A15","v":"2025-07-15"},{"$nulls":4},"Zeit:",null,{"$f":"'Aufgebot 20'!G15","v":"20:00:00"},null,null,"Spielort:",null,null,null,{"$f":"'Aufgebot 21'!L15","v":"Vordemwald"},{"$nulls":10}," Spiel-Nr.:",null,null,null,{"$f":"'Aufgebot 21'!Y5","v":21}]
[]
["Mannschaft A:",{"$nulls":5},{"$f":"'Aufgebot 21'!A8","v":"STV Vordemwald 1 ( NLB W )"},{"$nulls":10},"Verw.","Mannschaft B:",{"$nulls":5},{"$f":"'Aufgebot 21'!O8","v":"STV Oberentfelden   ( NLA )"},{"$nulls":10},"Verw."]
["Nr.",null,"Spf.","Eins.","Jg.","Name/Vorname",{"$nulls":12},"Nr.",null,"Spf.","Eins.","Jg.","Name/Vorname"]
[{"$nulls":4},"","",{"$nulls":16},"",""]
[{"$nulls":4},"","",{"$nulls":10},"",{"$nulls":5},"","",{"$nulls":10},""]
[{"$nulls":4},"","",{"$nulls":10},"",{"$nulls":5},"","",{"$nulls":10},""]
[{"$nulls":4},"","",{"$nulls":10},"",{"$nulls":5},"","",{"$nulls":10},""]
[{"$nulls":4},"","",{"$nulls":10},"",{"$nulls":5},"","",{"$nulls":10},""]
[{"$nulls":4},"","",{"$nulls":10},"",{"$nulls":5},"","",{"$nulls":10},""]
[{"$nulls":4},"","",{"$nulls":10},"",{"$nulls":5},"","",{"$nulls":10},""]
[{"$nulls":4},"","",{"$nulls":10},"",{"$nulls":5},"","",{"$nulls":10},""]
[{"$nulls":4},"","",{"$nulls":10},"",{"$nulls":5},"","",{"$nulls":10},""]
[{"$nulls":4},"","",{"$nulls":16},"",""]
[" Trainer:",{"$nulls":5},"",{"$nulls":11},"Trainer:",{"$nulls":5},""]
[" Betreuer:",{"$nulls":5},"",{"$nulls":11}," Betreuer:"]
[]
[" Schiedsrichter:",{"$nulls":5},{"$f":"'Aufgebot 21'!A19&\" \"&'Aufgebot 21'!G19","v":"Stephan Wagner +41 79 651 82 59"},{"$nulls":11},"Heimmannschaft Verantw.",{"$nulls":8},{"$f":"'Aufgebot 20'!A9","v":"Remo Pinchera"}]
[" Linienrichter:",{"$nulls":17}," Linienrichter:"]
[]
["Ballwahl/Anspiel:",{"$nulls":6},"1. Satz:","A",null,"B",null,null,"5. Satz:",null,null,"A",null,"B"]
[]
["Ausserordentliche Vorfälle:  ",{"$nulls":6},"","Protest/Einsprache",null,null,null,"","Ausschluss",null,null,"","Sonstiges",null,null,null,"(Ankreuzen + Bericht mit Unterschrift auf Rückseite)"]
[]
["A",null,"Timeout","1. Satz",null,"A",{"$f":"IF('Aufgebot 21'!$G$34>0,1,\"\")","v":1},{"$f":"IF('Aufgebot 21'!$G$34>0,2,\"\")","v":2},{"$f":"IF('Aufgebot 21'!$G$34=3,3,\"\")","v":""}]
["B",{"$nulls":4},"B"]
["A",null,"Timeout","2. Satz",null,"A",{"$f":"IF('Aufgebot 21'!$G$34>0,1,\"\")","v":1},{"$f":"IF('Aufgebot 21'!$G$34>0,2,\"\")","v":2},{"$f":"IF('Aufgebot 21'!$G$34=3,3,\"\")","v":""}]
["B",{"$nulls":4},"B"]
["A",null,"Timeout","3. Satz",null,"A",{"$f":"IF('Aufgebot 21'!$G$34>0,1,\"\")","v":1},{"$f":"IF('Aufgebot 21'!$G$34>0,2,\"\")","v":2},{"$f":"IF('Aufgebot 21'!$G$34=3,3,\"\")","v":""}]
["B",{"$nulls":4},"B"]
["A",null,"Timeout","4. Satz",null,"A",{"$f":"IF('Aufgebot 21'!$G$34>0,1,\"\")","v":1},{"$f":"IF('Aufgebot 21'!$G$34>0,2,\"\")","v":2},{"$f":"IF('Aufgebot 21'!$G$34=3,3,\"\")","v":""}]
["B",{"$nulls":4},"B"]
[]
["A",null,"Timeout","5. Satz",null,"A",{"$f":"IF('Aufgebot 21'!$G$34>0,1,\"\")","v":1},{"$f":"IF('Aufgebot 21'!$G$34>0,2,\"\")","v":2},{"$f":"IF('Aufgebot 21'!$G$34=3,3,\"\")","v":""}]
["B",{"$nulls":4},"B"]
["A",null,"Timeout","6. Satz",null,"A",{"$f":"IF('Aufgebot 21'!$G$34>0,1,\"\")","v":1},{"$f":"IF('Aufgebot 21'!$G$34>0,2,\"\")","v":2},{"$f":"IF('Aufgebot 21'!$G$34=3,3,\"\")","v":""}]
["B",{"$nulls":4},"B"]
["A",null,"Timeout","7. Satz",null,"A",{"$f":"IF('Aufgebot 21'!$G$34>0,1,\"\")","v":1},{"$f":"IF('Aufgebot 21'!$G$34>0,2,\"\")","v":2},{"$f":"IF('Aufgebot 21'!$G$34=3,3,\"\")","v":""}]
["B",{"$nulls":4},"B"]
["A",null,"Timeout","8. Satz",null,"A",{"$f":"IF('Aufgebot 21'!$G$34>0,1,\"\")","v":1},{"$f":"IF('Aufgebot 21'!$G$34>0,2,\"\")","v":2},{"$f":"IF('Aufgebot 21'!$G$34=3,3,\"\")","v":""}]
["B",{"$nulls":4},"B"]
[]
["A",null,"Timeout","9. Satz",null,"A",{"$f":"IF('Aufgebot 21'!$G$34>0,1,\"\")","v":1},{"$f":"IF('Aufgebot 21'!$G$34>0,2,\"\")","v":2},{"$f":"IF('Aufgebot 21'!$G$34=3,3,\"\")","v":""}]
["B",{"$nulls":4},"B"]
[]
[" Ergebnis    (A:B) ",{"$nulls":4},"1. Satz",null,null,"2. Satz",null,null,"3. Satz",null,null,"4. Satz",null,null,"5. Satz",null,null,null,"6. Satz",null,null,"7. Satz",null,null,"8. Satz",null,null,"9. Satz"]
[{"$nulls":6},":",null,null,":",null,null,":",null,null,":",null,null,":",null,null,null,":",null,null,":",null,null,":",null,null,":"]
["Sieger",{"$nulls":24},"Total Punkte",{"$nulls":4},"Endstand (Sätze)"]
[{"$nulls":25},":",{"$nulls":4},":"]
[" Schiedsrichter:",{"$nulls":16},"Spielführer A:"]
[" Anschreiber:",{"$nulls":16}," Spielführer B:"]
["Mit sportlichen Grüssen\nSwiss Faustball CUPKO\nBruno Pabst (Präsident)",{"$nulls":23},"Thundorf,",{"$nulls":5},{"$f":"TODAY()","v":"2025-08-28"}]

{"sheet":"Aufgebot 22","index":66,"n_rows":48,"n_cols":26,"rows_kept":48,"cut":false,"hidden":true,"merged":[[31,15,31,26],[31,4,31,14],[41,0,41,2],[41,3,41,20],[41,21,41,23],[41,24,41,26],[36,0,36,26],[37,0,37,26],[38,0,38,26],[39,0,39,2],[39,3,39,5],[39,6,39,8],[39,9,39,11],[39,12,39,14],[39,15,39,17],[39,18,39,20],[50,2,50,8],[43,0,43,26],[44,0,44,8],[44,9,44,15],[44,17,44,24],[47,0,47,19],[47,20,47,22],[47,23,47,26],[39,21,39,23],[39,24,39,26],[35,0,35,5],[35,6,35,26],[26,35,26,38],[28,0,28,26],[30,0,30,26],[31,0,31,3],[31,28,31,29],[32,0,32,26],[33,6,33,7],[33,12,33,14],[33,28,33,29],[34,0,34,26],[26,6,26,8],[26,12,26,18],[26,19,26,20],[26,21,26,22],[26,24,26,26],[16,24,16,26],[19,0,19,26],[22,0,22,11],[22,12,22,14],[24,0,24,2],[18,0,18,5],[18,6,18,11],[18,12,18,16],[18,17,18,26],[16,0,16,11],[16,12,16,15],[16,16,16,18],[16,20,16,23],[13,0,13,5],[13,6,13,10],[13,11,13,18],[13,19,13,26],[14,0,14,5],[14,6,14,10],[14,11,14,18],[14,19,14,26],[10,0,10,5],[10,6,10,12],[10,14,10,19],[10,20,10,26],[11,0,11,12],[11,14,11,26],[8,0,8,12],[8,14,8,26],[9,0,9,5],[9,6,9,12],[9,14,9,19],[9,20,9,26],[6,0,6,12],[6,13,7,13],[6,14,6,26],[6,28,6,29],[6,30,6,31],[7,14,7,26],[0,4,0,21],[2,0,2,26],[2,28,2,30],[4,0,4,4],[4,5,4,11],[4,12,4,13],[4,14,4,19],[4,20,4,23]]}
[{"$nulls":4},{"$f":"Eigaben!Z3","v":"37. Schweizer Cup Männer 2025"}]
[3,null,null,{"$f":"VLOOKUP(A2,Eigaben!Y8:AC14,5,0)","v":"1/8 Final"},{"$nulls":4},2]
["Aufgebot Mannschaften"]
[1]
[{"$f":"VLOOKUP(A2,Eigaben!Y8:AC14,5,0)","v":"1/8 Final"},{"$nulls":4},{"$f":"VLOOKUP($A$2,Eigaben!$Y$8:$AC$14,2,1)","v":"2025-06-23"},{"$nulls":6},"bis",null,{"$f":"VLOOKUP($A$2,Eigaben!$Y$8:$AB$14,3,1)","v":"2025-07-18"},{"$nulls":5},"Spiel - Nr.",null,null,null,{"$f":"'Aufgebot 21'!Y5+1","v":22}]
[{"$f":"Eigaben!F55","v":44},{"$nulls":13},{"$f":"Eigaben!G55","v":60}]
["Heim - Mannschaft",{"$nulls":13},"Gast - Mannschaft"]
[{"$f":"(VLOOKUP($A$6,Eigaben!$Y$17:$Z$103,2,0))","v":"STV Oberentfelden   ( 2. Liga )"},{"$nulls":13},{"$f":"(VLOOKUP($O$6,Eigaben!$Y$17:$Z$103,2,0))","v":"STV Schlieren ( NLB O )"}]
[{"$f":"VLOOKUP($A$6,Eigaben!$Y$17:$AH$103,3,1)&\" \"&VLOOKUP(A6,Eigaben!Y17:AH103,4,1)","v":"Christian Suter"},{"$nulls":13},{"$f":"VLOOKUP($O$6,Eigaben!$Y$17:$AH$103,3,1)&\" \"&VLOOKUP($O$6,Eigaben!$Y$17:$AH$103,4,1)","v":"Andreas Fritschi"}]
[{"$f":"VLOOKUP($A$6,Eigaben!$Y$17:$AH$103,5,1)","v":"Aeppenhaldenstr 3b"},{"$nulls":5},{"$f":"VLOOKUP($A$6,Eigaben!$Y$17:$AH$103,6,1)&\" \"&VLOOKUP(A6,Eigaben!$Y$17:$AH$103,7,1)","v":"4800 Zofingen"},{"$nulls":7},{"$f":"VLOOKUP($O$6,Eigaben!$Y$17:$AH$103,5,1)","v":" "},{"$nulls":5},{"$f":"VLOOKUP($O$6,Eigaben!$Y$17:$AV$103,6,1)&\" \"&VLOOKUP($O$6,Eigaben!$Y$17:$AV$103,7,1)","v":"   "}]
[{"$f":"IF(Eigaben!AF54=0,\"\",VLOOKUP($A$6,Eigaben!$Y$17:$AH$103,8,1))","v":" "},{"$nulls":5},{"$f":"IF(Eigaben!$AG$54=0,\"\",VLOOKUP($A$6,Eigaben!$Y$17:$AH$103,9,1))","v":"079 476 04 32"},{"$nulls":7},{"$f":"IF(Eigaben!AF55=0,\"\",VLOOKUP($O$6,Eigaben!$Y$17:$AH$103,8,1))","v":" "},{"$nulls":5},{"$f":"IF(Eigaben!$P$54=0,\"\",VLOOKUP($O$6,Eigaben!$Y$17:$AH$103,9,1))","v":"079 602 18 32"}]
[{"$f":"VLOOKUP($A$6,Eigaben!$Y$17:$AH$103,10,1)","v":"christian.suter@faustballcenter.ch"},{"$nulls":13},{"$f":"VLOOKUP($O$6,Eigaben!$Y$17:$AH$103,10,1)","v":"maenner@faustballschlieren.ch"}]
[null,null,{"$f":"Eigaben!C55","v":22}]
["Datum",{"$nulls":5},"Zeit",{"$nulls":4},"Ort",{"$nulls":7},"Sportplatz"]
[{"$f":"IF(Eigaben!D55=0,\"\",VLOOKUP(C13,Eigaben!$C$28:$V$109,13,0))","v":"2025-06-27"},{"$nulls":5},{"$f":"IF(Eigaben!D55=0,\"\",VLOOKUP(C13,Eigaben!$C$28:$V$110,14,0))","v":"19:30:00"},{"$nulls":4},{"$f":"IF(Eigaben!D55=0,\"\",VLOOKUP(C13,Eigaben!$C$28:$V$1110,15,0))","v":"Oberentfelde"},{"$nulls":7},{"$f":"IF(Eigaben!D55=0,\"\",VLOOKUP(C13,Eigaben!$C$28:$V$110,16,0))","v":"Erlenweg"}]
[null,null,{"$f":"Eigaben!T55","v":95}]
["Aufgebot Schiedsrichter *"]
[]
[{"$f":"IF(C16=0,\"\",VLOOKUP(C16,Schiri_25!A2:L181,3,1)&\" \"&VLOOKUP(C16,Schiri_25!A2:L181,2,1))","v":"Luca Hochuli"},{"$nulls":5},{"$f":"IF(C16=0,\"\",VLOOKUP(C16,Schiri_25!A2:L181,9,1))","v":"076 247 29 07"},{"$nulls":5},{"$f":"IF(C16=0,\"\",IF(VLOOKUP(C16,Schiri_25!A2:M122,8,1)=0,\"\",VLOOKUP(C16,Schiri_25!A2:M122,8,1)))","v":"062 726 30 06"},{"$nulls":4},{"$f":"IF(C16=0,\"\",VLOOKUP(C16,Schiri_25!A2:L181,12,1))","v":"lucahochuli261@gmail.com"}]
[]
["* Im Verhinderungsfall sofort Verbindungsaufnahme mit Bruno Pabst: 079 243 02 08"]
[]
["Eintreffen des Schiedsrichters:",{"$nulls":11},{"$f":"IF(G15=\"\",\"\",G15-\"00:15:00\")","v":"19:15:00"}]
[]
["Tenue:",null,null,"Offizielle Schiedsrichterausrüstung gelb / schwarz"]
[]
["Taggeld:",{"$nulls":4},"Fr.","**",{"$nulls":5},"Fahrspesen",{"$nulls":6},"Fr",null,1,null,null,{"$f":"Eigaben!V55","v":17}]
[]
["Die Fahrspesen (einfache Fahrt, Fr. 1,00 pro Km)  werden durch die Heim-Mannschaft bezahlt. \n**  (Das Taggeld wird direkt durch die CUPKO ausbezahlt.)"]
[]
["Modus"]
["Spielmodus:",null,null,null,"5 Gewinnsätze bis 11 (max. 15 : 14)",{"$nulls":10},"Pause zwischen den Sätzen 90 s"]
[]
["Bonus-Punkte:",{"$nulls":5},{"$f":"Eigaben!S55","v":3}]
[]
["Durchführung:\n",{"$nulls":5},"Bei einer allfälligen Verschiebung muss spätestens 5 Stunden vor Spielbeginn die Gast-Mannschaft, der Schiedsrichter und deer Chef CUPKO per Telefon und SMS informiert werden."]
[]
["Resultatmeldung"]
[]
["1. Satz",null,null,"2. Satz",null,null,"3. Satz",null,null,"4. Satz",null,null,"5. Satz",null,null,"6. Satz",null,null,"7. Satz",null,null,"8. Satz",null,null,"9. Satz"]
[null,":",null,null,":",null,null,":",null,null,":",null,null,":",null,null,":",null,null,":",null,null,":",null,null,":"]
["Sieger",{"$nulls":20},"Sätze",null,null,":"]
[]
["Resultatmeldung bis spätestens 12 Uhr des Folgetages durch den Schiedsrichter  per E-Mail, SMS oder WhatsApp an  "]
["pabst@swissfaustball.ch",{"$nulls":16},"pabst.bruno@bluewin.ch"]
[]
[]
["Mit sportlichen Grüssen\nSwiss Faustball CUPKO\nBruno Pabst (Präsident)",{"$nulls":19},"Thundorf, ",null,null,{"$f":"TODAY()","v":"2025-08-28"}]

{"sheet":"Spielbericht 22","index":67,"n_rows":58,"n_cols":36,"rows_kept":58,"cut":false,"hidden":true,"merged":[[54,0,54,35],[55,0,55,16],[55,17,55,35],[56,0,56,16],[56,17,56,35],[57,0,59,23],[57,24,59,29],[57,30,59,35],[50,30,50,32],[50,33,51,35],[52,0,53,4],[52,25,52,29],[52,30,52,35],[53,25,53,29],[53,30,53,35],[50,11,50,13],[50,14,50,16],[50,17,50,20],[50,21,50,23],[50,24,50,26],[50,27,50,29],[35,2,36,2],[35,3,36,4],[50,8,50,10],[38,2,39,2],[38,3,39,4],[40,2,41,2],[40,3,41,4],[42,2,43,2],[42,3,43,4],[44,2,45,2],[44,3,45,4],[47,2,48,2],[47,3,48,4],[50,0,51,4],[25,13,25,15],[31,2,32,2],[31,3,32,4],[33,2,34,2],[33,3,34,4],[16,5,16,16],[16,23,16,34],[17,5,17,16],[17,23,17,34],[29,2,30,2],[29,3,30,4],[18,5,18,16],[18,23,18,34],[19,18,19,22],[20,18,20,22],[22,6,22,17],[22,27,22,35],[23,6,23,17],[23,18,23,23],[23,24,23,35],[25,0,25,5],[13,5,13,16],[13,23,13,34],[14,5,14,16],[14,23,14,34],[15,5,15,16],[15,23,15,34],[10,5,10,16],[10,23,10,34],[11,5,11,16],[11,23,11,34],[12,5,12,16],[12,23,12,34],[7,35,8,35],[8,5,8,16],[8,23,8,34],[9,5,9,16],[9,23,9,34],[7,0,7,5],[7,6,7,16],[7,17,8,17],[7,18,7,23],[7,24,7,34],[0,6,1,35],[3,6,3,28],[3,29,3,35],[5,0,5,3],[5,4,5,8],[5,9,5,10],[5,11,5,13],[5,14,5,17],[5,18,5,28],[5,29,5,32],[5,33,5,35]]}
[{"$nulls":6},{"$f":"'Aufgebot A'!E1","v":"37. Schweizer Cup Männer 2025"}]
[]
[]
[{"$nulls":6},"            Spielbericht",{"$nulls":22},{"$f":"'Aufgebot 20'!A5","v":"1/8 Final"}]
[]
["Datum:  ",null,null,null,{"$f":"'Aufgebot 20'!A15","v":"2025-07-15"},{"$nulls":4},"Zeit:",null,{"$f":"'Aufgebot 20'!G15","v":"20:00:00"},null,null,"Spielort:",null,null,null,{"$f":"'Aufgebot 20'!L15","v":"Widnau"},{"$nulls":10}," Spiel-Nr.:",null,null,null,{"$f":"'Aufgebot 22'!Y5","v":22}]
[]
["Mannschaft A:",{"$nulls":5},{"$f":"'Aufgebot 22'!A8","v":"STV Oberentfelden   ( 2. Liga )"},{"$nulls":10},"Verw.","Mannschaft B:",{"$nulls":5},{"$f":"'Aufgebot 22'!O8","v":"STV Schlieren ( NLB O )"},{"$nulls":10},"Verw."]
["Nr.",null,"Spf.","Eins.","Jg.","Name/Vorname",{"$nulls":12},"Nr.",null,"Spf.","Eins.","Jg.","Name/Vorname"]
[{"$nulls":4},"","",{"$nulls":16},"",""]
[{"$nulls":4},"","",{"$nulls":10},"",{"$nulls":5},"","",{"$nulls":10},""]
[{"$nulls":4},"","",{"$nulls":10},"",{"$nulls":5},"","",{"$nulls":10},""]
[{"$nulls":4},"","",{"$nulls":10},"",{"$nulls":5},"","",{"$nulls":10},""]
[{"$nulls":4},"","",{"$nulls":10},"",{"$nulls":5},"","",{"$nulls":10},""]
[{"$nulls":4},"","",{"$nulls":10},"",{"$nulls":5},"","",{"$nulls":10},""]
[{"$nulls":4},"","",{"$nulls":10},"",{"$nulls":5},"","",{"$nulls":10},""]
[{"$nulls":4},"","",{"$nulls":10},"",{"$nulls":5},"","",{"$nulls":10},""]
[{"$nulls":4},"","",{"$nulls":10},"",{"$nulls":5},"","",{"$nulls":10},""]
[{"$nulls":4},"","",{"$nulls":16},"",""]
[" Trainer:",{"$nulls":5},"",{"$nulls":11},"Trainer:",{"$nulls":5},""]
[" Betreuer:",{"$nulls":5},"",{"$nulls":11}," Betreuer:"]
[]
[" Schiedsrichter:",{"$nulls":5},{"$f":"'Aufgebot 22'!A19&\" \"&'Aufgebot 20'!G19","v":"Luca Hochuli +41 79 473 61 88"},{"$nulls":11},"Heimmannschaft Verantw.",{"$nulls":8},{"$f":"'Aufgebot 22'!A9","v":"Christian Suter"}]
[" Linienrichter:",{"$nulls":17}," Linienrichter:"]
[]
["Ballwahl/Anspiel:",{"$nulls":6},"1. Satz:","A",null,"B",null,null,"5. Satz:",null,null,"A",null,"B"]
[]
["Ausserordentliche Vorfälle:  ",{"$nulls":6},"","Protest/Einsprache",null,null,null,"","Ausschluss",null,null,"","Sonstiges",null,null,null,"(Ankreuzen + Bericht mit Unterschrift auf Rückseite)"]
[]
["A",null,"Timeout","1. Satz",null,"A",{"$f":"IF('Aufgebot 22'!$G$34>0,1,\"\")","v":1},{"$f":"IF('Aufgebot 22'!$G$34>0,2,\"\")","v":2},{"$f":"IF('Aufgebot 22'!$G$34=3,3,\"\")","v":3}]
["B",{"$nulls":4},"B"]
["A",null,"Timeout","2. Satz",null,"A",{"$f":"IF('Aufgebot 22'!$G$34>0,1,\"\")","v":1},{"$f":"IF('Aufgebot 22'!$G$34>0,2,\"\")","v":2},{"$f":"IF('Aufgebot 22'!$G$34=3,3,\"\")","v":3}]
["B",{"$nulls":4},"B"]
["A",null,"Timeout","3. Satz",null,"A",{"$f":"IF('Aufgebot 22'!$G$34>0,1,\"\")","v":1},{"$f":"IF('Aufgebot 22'!$G$34>0,2,\"\")","v":2},{"$f":"IF('Aufgebot 22'!$G$34=3,3,\"\")","v":3}]
["B",{"$nulls":4},"B"]
["A",null,"Timeout","4. Satz",null,"A",{"$f":"IF('Aufgebot 22'!$G$34>0,1,\"\")","v":1},{"$f":"IF('Aufgebot 22'!$G$34>0,2,\"\")","v":2},{"$f":"IF('Aufgebot 22'!$G$34=3,3,\"\")","v":3}]
["B",{"$nulls":4},"B"]
[]
["A",null,"Timeout","5. Satz",null,"A",{"$f":"IF('Aufgebot 22'!$G$34>0,1,\"\")","v":1},{"$f":"IF('Aufgebot 22'!$G$34>0,2,\"\")","v":2},{"$f":"IF('Aufgebot 22'!$G$34=3,3,\"\")","v":3}]
["B",{"$nulls":4},"B"]
["A",null,"Timeout","6. Satz",null,"A",{"$f":"IF('Aufgebot 22'!$G$34>0,1,\"\")","v":1},{"$f":"IF('Aufgebot 22'!$G$34>0,2,\"\")","v":2},{"$f":"IF('Aufgebot 22'!$G$34=3,3,\"\")","v":3}]
["B",{"$nulls":4},"B"]
["A",null,"Timeout","7. Satz",null,"A",{"$f":"IF('Aufgebot 22'!$G$34>0,1,\"\")","v":1},{"$f":"IF('Aufgebot 22'!$G$34>0,2,\"\")","v":2},{"$f":"IF('Aufgebot 22'!$G$34=3,3,\"\")","v":3}]
["B",{"$nulls":4},"B"]
["A",null,"Timeout","8. Satz",null,"A",{"$f":"IF('Aufgebot 22'!$G$34>0,1,\"\")","v":1},{"$f":"IF('Aufgebot 22'!$G$34>0,2,\"\")","v":2},{"$f":"IF('Aufgebot 22'!$G$34=3,3,\"\")","v":3}]
["B",{"$nulls":4},"B"]
[]
["A",null,"Timeout","9. Satz",null,"A",{"$f":"IF('Aufgebot 22'!$G$34>0,1,\"\")","v":1},{"$f":"IF('Aufgebot 22'!$G$34>0,2,\"\")","v":2},{"$f":"IF('Aufgebot 22'!$G$34=3,3,\"\")","v":3}]
["B",{"$nulls":4},"B"]
[]
[" Ergebnis    (A:B) ",{"$nulls":4},"1. Satz",null,null,"2. Satz",null,null,"3. Satz",null,null,"4. Satz",null,null,"5. Satz",null,null,null,"6. Satz",null,null,"7. Satz",null,null,"8. Satz",null,null,"9. Satz"]
[{"$nulls":6},":",null,null,":",null,null,":",null,null,":",null,null,":",null,null,null,":",null,null,":",null,null,":",null,null,":"]
["Sieger",{"$nulls":24},"Total Punkte",{"$nulls":4},"Endstand (Sätze)"]
[{"$nulls":25},":",{"$nulls":4},":"]
[" Für die Richtigkeit der Eintragungen"]
[" Schiedsrichter:",{"$nulls":16},"Spielführer A:"]
[" Anschreiber:",{"$nulls":16}," Spielführer B:"]
["Mit sportlichen Grüssen\nSwiss Faustball CUPKO\nBruno Pabst (Präsident)",{"$nulls":23},"Thundorf,",{"$nulls":5},{"$f":"TODAY()","v":"2025-08-28"}]

{"sheet":"Aufgebot 23","index":68,"n_rows":48,"n_cols":26,"rows_kept":48,"cut":false,"hidden":true,"merged":[[31,15,31,26],[31,4,31,14],[41,0,41,2],[41,3,41,20],[41,21,41,23],[41,24,41,26],[36,0,36,26],[37,0,37,26],[38,0,38,26],[39,0,39,2],[39,3,39,5],[39,6,39,8],[39,9,39,11],[39,12,39,14],[39,15,39,17],[39,18,39,20],[50,2,50,8],[43,0,43,26],[44,0,44,8],[44,9,44,15],[44,17,44,24],[47,0,47,19],[47,20,47,22],[47,23,47,26],[39,21,39,23],[39,24,39,26],[35,0,35,5],[35,6,35,26],[26,35,26,38],[28,0,28,26],[30,0,30,26],[31,0,31,3],[31,28,31,29],[32,0,32,26],[33,6,33,7],[33,12,33,14],[33,28,33,29],[34,0,34,26],[26,6,26,8],[26,12,26,18],[26,19,26,20],[26,21,26,22],[26,24,26,26],[16,24,16,26],[19,0,19,26],[22,0,22,11],[22,12,22,14],[24,0,24,2],[18,0,18,5],[18,6,18,11],[18,12,18,16],[18,17,18,26],[16,0,16,11],[16,12,16,15],[16,16,16,18],[16,20,16,23],[13,0,13,5],[13,6,13,10],[13,11,13,18],[13,19,13,26],[14,0,14,5],[14,6,14,10],[14,11,14,18],[14,19,14,26],[10,0,10,5],[10,6,10,12],[10,14,10,19],[10,20,10,26],[11,0,11,12],[11,14,11,26],[8,0,8,12],[8,14,8,26],[9,0,9,5],[9,6,9,12],[9,14,9,19],[9,20,9,26],[6,0,6,12],[6,13,7,13],[6,14,6,26],[6,28,6,29],[6,30,6,31],[7,14,7,26],[0,4,0,21],[2,0,2,26],[2,28,2,30],[4,0,4,4],[4,5,4,11],[4,12,4,13],[4,14,4,19],[4,20,4,23]]}
[{"$nulls":4},{"$f":"Eigaben!Z3","v":"37. Schweizer Cup Männer 2025"}]
[3,null,null,{"$f":"VLOOKUP(A2,Eigaben!Y8:AC14,5,0)","v":"1/8 Final"},{"$nulls":4},2]
["Aufgebot Mannschaften"]
[1]
[{"$f":"VLOOKUP(A2,Eigaben!Y8:AC14,5,0)","v":"1/8 Final"},{"$nulls":4},{"$f":"VLOOKUP($A$2,Eigaben!$Y$8:$AC$14,2,1)","v":"2025-06-23"},{"$nulls":6},"bis",null,{"$f":"VLOOKUP($A$2,Eigaben!$Y$8:$AB$14,3,1)","v":"2025-07-18"},{"$nulls":5},"Spiel - Nr.",null,null,null,{"$f":"'Aufgebot 22'!Y5+1","v":23}]
[{"$f":"Eigaben!F56","v":48},{"$nulls":13},{"$f":"Eigaben!G56","v":69}]
["Heim - Mannschaft",{"$nulls":13},"Gast - Mannschaft"]
[{"$f":"(VLOOKUP($A$6,Eigaben!$Y$17:$Z$103,2,0))","v":"STV Alpnach  ( 1. Liga ) W"},{"$nulls":13},{"$f":"(VLOOKUP($O$6,Eigaben!$Y$17:$Z$103,2,0))","v":"FG Rickenbach-Wilen ( NLA )"}]
[{"$f":"VLOOKUP($A$6,Eigaben!$Y$17:$AH$103,3,1)&\" \"&VLOOKUP(A6,Eigaben!Y17:AH103,4,1)","v":"Kasper Tobias"},{"$nulls":13},{"$f":"VLOOKUP($O$6,Eigaben!$Y$17:$AH$103,3,1)&\" \"&VLOOKUP($O$6,Eigaben!$Y$17:$AH$103,4,1)","v":"Jonas Hess"}]
[{"$f":"VLOOKUP($A$6,Eigaben!$Y$17:$AH$103,5,1)","v":"Schneggenhubel 5"},{"$nulls":5},{"$f":"VLOOKUP($A$6,Eigaben!$Y$17:$AH$103,6,1)&\" \"&VLOOKUP(A6,Eigaben!$Y$17:$AH$103,7,1)","v":"6064 Kerns"},{"$nulls":7},{"$f":"VLOOKUP($O$6,Eigaben!$Y$17:$AH$103,5,1)","v":" "},{"$nulls":5},{"$f":"VLOOKUP($O$6,Eigaben!$Y$17:$AV$103,6,1)&\" \"&VLOOKUP($O$6,Eigaben!$Y$17:$AV$103,7,1)","v":"   "}]
[{"$f":"IF(Eigaben!AF54=0,\"\",VLOOKUP($A$6,Eigaben!$Y$17:$AH$103,8,1))","v":" "},{"$nulls":5},{"$f":"IF(Eigaben!$AG$54=0,\"\",VLOOKUP($A$6,Eigaben!$Y$17:$AH$103,9,1))","v":"079 713 39 48"},{"$nulls":7},{"$f":"IF(Eigaben!AF55=0,\"\",VLOOKUP($O$6,Eigaben!$Y$17:$AH$103,8,1))","v":" "},{"$nulls":5},{"$f":"IF(Eigaben!$P$54=0,\"\",VLOOKUP($O$6,Eigaben!$Y$17:$AH$103,9,1))","v":"079 900 69 17"}]
[{"$f":"VLOOKUP($A$6,Eigaben!$Y$17:$AH$103,10,1)","v":"m.bucher@hs-team.ch"},{"$nulls":13},{"$f":"VLOOKUP($O$6,Eigaben!$Y$17:$AH$103,10,1)","v":"spiko@fgriwi.ch"}]
[null,null,{"$f":"Eigaben!C56","v":23}]
["Datum",{"$nulls":5},"Zeit",{"$nulls":4},"Ort",{"$nulls":7},"Sportplatz"]
[{"$f":"IF(Eigaben!C56=0,\"\",VLOOKUP(C13,Eigaben!$C$28:$V$109,13,0))","v":"2025-06-26"},{"$nulls":5},{"$f":"IF(Eigaben!C56=0,\"\",VLOOKUP(C13,Eigaben!$C$28:$V$110,14,0))","v":"19:30:00"},{"$nulls":4},{"$f":"IF(Eigaben!C56=0,\"\",VLOOKUP(C13,Eigaben!$C$28:$V$110,15,0))","v":"Alpnach"},{"$nulls":7},{"$f":"IF(Eigaben!C56=0,\"\",VLOOKUP(C13,Eigaben!$C$28:$V$110,16,0))","v":"Sportplatz Giswil"}]
[null,null,{"$f":"Eigaben!T56","v":63}]
["Aufgebot Schiedsrichter *"]
[]
[{"$f":"IF(C16=0,\"\",VLOOKUP(C16,Schiri_25!A2:L181,3,1)&\" \"&VLOOKUP(C16,Schiri_25!A2:L181,2,1))","v":"Peter Leu"},{"$nulls":5},{"$f":"IF(C16=0,\"\",VLOOKUP(C16,Schiri_25!A2:L181,9,1))","v":"+41 79 445 11 16"},{"$nulls":5},{"$f":"IF(C16=0,\"\",IF(VLOOKUP(C16,Schiri_25!A2:M122,8,1)=0,\"\",VLOOKUP(C16,Schiri_25!A2:M122,8,1)))","v":""},{"$nulls":4},{"$f":"IF(C16=0,\"\",VLOOKUP(C16,Schiri_25!A2:L181,12,1))","v":"peterleu61@bluewin.ch"}]
[]
["* Im Verhinderungsfall sofort Verbindungsaufnahme mit Bruno Pabst: 079 243 02 08"]
[]
["Eintreffen des Schiedsrichters:",{"$nulls":11},{"$f":"IF(G15=\"\",\"\",G15-\"00:15:00\")","v":"19:15:00"}]
[]
["Tenue:",null,null,"Offizielle Schiedsrichterausrüstung blau / schwarz"]
[]
["Taggeld:",{"$nulls":4},"Fr.","**",{"$nulls":5},"Fahrspesen",{"$nulls":6},"Fr",null,1,null,null,{"$f":"Eigaben!V56","v":30}]
[]
["Die Fahrspesen (einfache Fahrt, Fr. 1,00 pro Km)  werden durch die Heim-Mannschaft bezahlt. \n**  (Das Taggeld wird direkt durch die CUPKO ausbezahlt.)"]
[]
["Modus"]
["Spielmodus:",null,null,null,"5 Gewinnsätze bis 11 (max. 15 : 14)",{"$nulls":10},"Pause zwischen den Sätzen 90 s"]
[]
["Bonus-Punkte:",{"$nulls":5},{"$f":"Eigaben!S56","v":3}]
[]
["Durchführung:\n",{"$nulls":5},"Bei einer allfälligen Verschiebung muss spätestens 5 Stunden vor Spielbeginn die Gast-Mannschaft, der Schiedsrichter und deer Chef CUPKO per Telefon und SMS informiert werden."]
[]
["Resultatmeldung"]
[]
["1. Satz",null,null,"2. Satz",null,null,"3. Satz",null,null,"4. Satz",null,null,"5. Satz",null,null,"6. Satz",null,null,"7. Satz",null,null,"8. Satz",null,null,"9. Satz"]
[null,":",null,null,":",null,null,":",null,null,":",null,null,":",null,null,":",null,null,":",null,null,":",null,null,":"]
["Sieger",{"$nulls":20},"Sätze",null,null,":"]
[]
["Resultatmeldung bis spätestens 12 Uhr des Folgetages durch den Schiedsrichter  per E-Mail, SMS oder WhatsApp an  "]
["pabst@swissfaustball.ch",{"$nulls":16},"pabst.bruno@bluewin.ch"]
[]
[]
["Mit sportlichen Grüssen\nSwiss Faustball CUPKO\nBruno Pabst (Präsident)",{"$nulls":19},"Thundorf, ",null,null,{"$f":"TODAY()","v":"2025-08-28"}]

{"sheet":"Spielbericht 23","index":69,"n_rows":58,"n_cols":36,"rows_kept":58,"cut":false,"hidden":true,"merged":[[54,0,54,35],[55,0,55,16],[55,17,55,35],[56,0,56,16],[56,17,56,35],[57,0,59,23],[57,24,59,29],[57,30,59,35],[50,30,50,32],[50,33,51,35],[52,0,53,4],[52,25,52,29],[52,30,52,35],[53,25,53,29],[53,30,53,35],[50,11,50,13],[50,14,50,16],[50,17,50,20],[50,21,50,23],[50,24,50,26],[50,27,50,29],[35,2,36,2],[35,3,36,4],[50,8,50,10],[38,2,39,2],[38,3,39,4],[40,2,41,2],[40,3,41,4],[42,2,43,2],[42,3,43,4],[44,2,45,2],[44,3,45,4],[47,2,48,2],[47,3,48,4],[50,0,51,4],[25,13,25,15],[31,2,32,2],[31,3,32,4],[33,2,34,2],[33,3,34,4],[16,5,16,16],[16,23,16,34],[17,5,17,16],[17,23,17,34],[29,2,30,2],[29,3,30,4],[18,5,18,16],[18,23,18,34],[19,18,19,22],[20,18,20,22],[22,6,22,17],[22,27,22,35],[23,6,23,17],[23,18,23,23],[23,24,23,35],[25,0,25,5],[13,5,13,16],[13,23,13,34],[14,5,14,16],[14,23,14,34],[15,5,15,16],[15,23,15,34],[10,5,10,16],[10,23,10,34],[11,5,11,16],[11,23,11,34],[12,5,12,16],[12,23,12,34],[7,35,8,35],[8,5,8,16],[8,23,8,34],[9,5,9,16],[9,23,9,34],[7,0,7,5],[7,6,7,16],[7,17,8,17],[7,18,7,23],[7,24,7,34],[0,6,1,35],[3,6,3,28],[3,29,3,35],[5,0,5,3],[5,4,5,8],[5,9,5,10],[5,11,5,13],[5,14,5,17],[5,18,5,28],[5,29,5,32],[5,33,5,35]]}
[{"$nulls":6},{"$f":"'Aufgebot A'!E1","v":"37. Schweizer Cup Männer 2025"}]
[]
[]
[{"$nulls":6},"            Spielbericht",{"$nulls":22},{"$f":"'Aufgebot 20'!A5","v":"1/8 Final"}]
[]
["Datum:  ",null,null,null,{"$f":"'Aufgebot 20'!A15","v":"2025-07-15"},{"$nulls":4},"Zeit:",null,{"$f":"'Aufgebot 20'!G15","v":"20:00:00"},null,null,"Spielort:",null,null,null,{"$f":"'Aufgebot 20'!L15","v":"Widnau"},{"$nulls":10}," Spiel-Nr.:",null,null,null,{"$f":"'Aufgebot 23'!Y5","v":23}]
[]
["Mannschaft A:",{"$nulls":5},{"$f":"'Aufgebot 23'!A8","v":"STV Alpnach  ( 1. Liga ) W"},{"$nulls":10},"Verw.","Mannschaft B:",{"$nulls":5},{"$f":"'Aufgebot 23'!O8","v":"FG Rickenbach-Wilen ( NLA )"},{"$nulls":10},"Verw."]
["Nr.",null,"Spf.","Eins.","Jg.","Name/Vorname",{"$nulls":12},"Nr.",null,"Spf.","Eins.","Jg.","Name/Vorname"]
[{"$nulls":4},"","",{"$nulls":16},"",""]
[{"$nulls":4},"","",{"$nulls":10},"",{"$nulls":5},"","",{"$nulls":10},""]
[{"$nulls":4},"","",{"$nulls":10},"",{"$nulls":5},"","",{"$nulls":10},""]
[{"$nulls":4},"","",{"$nulls":10},"",{"$nulls":5},"","",{"$nulls":10},""]
[{"$nulls":4},"","",{"$nulls":10},"",{"$nulls":5},"","",{"$nulls":10},""]
[{"$nulls":4},"","",{"$nulls":10},"",{"$nulls":5},"","",{"$nulls":10},""]
[{"$nulls":4},"","",{"$nulls":10},"",{"$nulls":5},"","",{"$nulls":10},""]
[{"$nulls":4},"","",{"$nulls":10},"",{"$nulls":5},"","",{"$nulls":10},""]
[{"$nulls":4},"","",{"$nulls":10},"",{"$nulls":5},"","",{"$nulls":10},""]
[{"$nulls":4},"","",{"$nulls":16},"",""]
[" Trainer:",{"$nulls":5},"",{"$nulls":11},"Trainer:",{"$nulls":5},""]
[" Betreuer:",{"$nulls":5},"",{"$nulls":11}," Betreuer:"]
[]
[" Schiedsrichter:",{"$nulls":5},{"$f":"'Aufgebot 23'!A19&\" \"&'Aufgebot 23'!G19","v":"Peter Leu +41 79 445 11 16"},{"$nulls":11},"Heimmannschaft Verantw.",{"$nulls":8},{"$f":"'Aufgebot 23'!A9","v":"Kasper Tobias"}]
[" Linienrichter:",{"$nulls":17}," Linienrichter:"]
[]
["Ballwahl/Anspiel:",{"$nulls":6},"1. Satz:","A",null,"B",null,null,"5. Satz:",null,null,"A",null,"B"]
[]
["Ausserordentliche Vorfälle:  ",{"$nulls":6},"","Protest/Einsprache",null,null,null,"","Ausschluss",null,null,"","Sonstiges",null,null,null,"(Ankreuzen + Bericht mit Unterschrift auf Rückseite)"]
[]
["A",null,"Timeout","1. Satz",null,"A",{"$f":"IF('Aufgebot 23'!$G$34>0,1,\"\")","v":1},{"$f":"IF('Aufgebot 23'!$G$34>0,2,\"\")","v":2},{"$f":"IF('Aufgebot 23'!$G$34=3,3,\"\")","v":3}]
["B",{"$nulls":4},"B"]
["A",null,"Timeout","2. Satz",null,"A",{"$f":"IF('Aufgebot 23'!$G$34>0,1,\"\")","v":1},{"$f":"IF('Aufgebot 23'!$G$34>0,2,\"\")","v":2},{"$f":"IF('Aufgebot 23'!$G$34=3,3,\"\")","v":3}]
["B",{"$nulls":4},"B"]
["A",null,"Timeout","3. Satz",null,"A",{"$f":"IF('Aufgebot 23'!$G$34>0,1,\"\")","v":1},{"$f":"IF('Aufgebot 23'!$G$34>0,2,\"\")","v":2},{"$f":"IF('Aufgebot 23'!$G$34=3,3,\"\")","v":3}]
["B",{"$nulls":4},"B"]
["A",null,"Timeout","4. Satz",null,"A",{"$f":"IF('Aufgebot 23'!$G$34>0,1,\"\")","v":1},{"$f":"IF('Aufgebot 23'!$G$34>0,2,\"\")","v":2},{"$f":"IF('Aufgebot 23'!$G$34=3,3,\"\")","v":3}]
["B",{"$nulls":4},"B"]
[]
["A",null,"Timeout","5. Satz",null,"A",{"$f":"IF('Aufgebot 23'!$G$34>0,1,\"\")","v":1},{"$f":"IF('Aufgebot 23'!$G$34>0,2,\"\")","v":2},{"$f":"IF('Aufgebot 23'!$G$34=3,3,\"\")","v":3}]
["B",{"$nulls":4},"B"]
["A",null,"Timeout","6. Satz",null,"A",{"$f":"IF('Aufgebot 23'!$G$34>0,1,\"\")","v":1},{"$f":"IF('Aufgebot 23'!$G$34>0,2,\"\")","v":2},{"$f":"IF('Aufgebot 23'!$G$34=3,3,\"\")","v":3}]
["B",{"$nulls":4},"B"]
["A",null,"Timeout","7. Satz",null,"A",{"$f":"IF('Aufgebot 23'!$G$34>0,1,\"\")","v":1},{"$f":"IF('Aufgebot 23'!$G$34>0,2,\"\")","v":2},{"$f":"IF('Aufgebot 23'!$G$34=3,3,\"\")","v":3}]
["B",{"$nulls":4},"B"]
["A",null,"Timeout","8. Satz",null,"A",{"$f":"IF('Aufgebot 23'!$G$34>0,1,\"\")","v":1},{"$f":"IF('Aufgebot 23'!$G$34>0,2,\"\")","v":2},{"$f":"IF('Aufgebot 23'!$G$34=3,3,\"\")","v":3}]
["B",{"$nulls":4},"B"]
[]
["A",null,"Timeout","9. Satz",null,"A",{"$f":"IF('Aufgebot 23'!$G$34>0,1,\"\")","v":1},{"$f":"IF('Aufgebot 23'!$G$34>0,2,\"\")","v":2},{"$f":"IF('Aufgebot 23'!$G$34=3,3,\"\")","v":3}]
["B",{"$nulls":4},"B"]
[]
[" Ergebnis    (A:B) ",{"$nulls":4},"1. Satz",null,null,"2. Satz",null,null,"3. Satz",null,null,"4. Satz",null,null,"5. Satz",null,null,null,"6. Satz",null,null,"7. Satz",null,null,"8. Satz",null,null,"9. Satz"]
[{"$nulls":6},":",null,null,":",null,null,":",null,null,":",null,null,":",null,null,null,":",null,null,":",null,null,":",null,null,":"]
["Sieger",{"$nulls":24},"Total Punkte",{"$nulls":4},"Endstand (Sätze)"]
[{"$nulls":25},":",{"$nulls":4},":"]
[" Für die Richtigkeit der Eintragungen"]
[" Schiedsrichter:",{"$nulls":16},"Spielführer A:"]
[" Anschreiber:",{"$nulls":16}," Spielführer B:"]
["Mit sportlichen Grüssen\nSwiss Faustball CUPKO\nBruno Pabst (Präsident)",{"$nulls":23},"Thundorf,",{"$nulls":5},{"$f":"TODAY()","v":"2025-08-28"}]

{"sheet":"Aufgebot 24","index":70,"n_rows":48,"n_cols":26,"rows_kept":48,"cut":false,"hidden":false,"merged":[[41,0,41,2],[41,3,41,20],[41,21,41,23],[41,24,41,26],[50,2,50,8],[43,0,43,26],[44,0,44,8],[44,9,44,15],[44,17,44,24],[47,0,47,19],[47,20,47,22],[47,23,47,26],[36,0,36,26],[37,0,37,26],[38,0,38,26],[39,0,39,2],[39,3,39,5],[39,6,39,8],[39,9,39,11],[39,12,39,14],[39,15,39,17],[39,18,39,20],[39,21,39,23],[39,24,39,26],[35,0,35,5],[35,6,35,26],[26,35,26,38],[28,0,28,26],[30,0,30,26],[31,0,31,3],[31,4,31,16],[31,17,31,26],[31,28,31,29],[32,0,32,26],[33,6,33,7],[33,12,33,14],[33,28,33,29],[34,0,34,26],[26,6,26,8],[26,12,26,18],[26,19,26,20],[26,21,26,22],[26,24,26,26],[16,24,16,26],[19,0,19,26],[22,0,22,11],[22,12,22,14],[24,0,24,2],[18,0,18,5],[18,6,18,11],[18,12,18,16],[18,17,18,26],[16,0,16,11],[16,12,16,15],[16,16,16,18],[16,20,16,23],[13,0,13,5],[13,6,13,10],[13,11,13,18],[13,19,13,26],[14,0,14,5],[14,6,14,10],[14,11,14,18],[14,19,14,26],[10,0,10,5],[10,6,10,12],[10,14,10,19],[10,20,10,26],[11,0,11,12],[11,14,11,26],[8,0,8,12],[8,14,8,26],[9,0,9,5],[9,6,9,12],[9,14,9,19],[9,20,9,26],[6,0,6,12],[6,13,7,13],[6,14,6,26],[6,28,6,29],[6,30,6,31],[7,14,7,26],[0,4,0,21],[2,0,2,26],[2,28,2,30],[4,0,4,4],[4,5,4,11],[4,12,4,13],[4,14,4,19],[4,20,4,23]]}
[{"$nulls":4},{"$f":"Eigaben!Z3","v":"37. Schweizer Cup Männer 2025"}]
[3,null,null,{"$f":"VLOOKUP(A2,Eigaben!Y8:AC14,5,0)","v":"1/8 Final"}]
["Aufgebot Mannschaften"]
[1]
[{"$f":"VLOOKUP(A2,Eigaben!Y8:AC14,5,0)","v":"1/8 Final"},{"$nulls":4},{"$f":"VLOOKUP($A$2,Eigaben!$Y$8:$AC$14,2,1)","v":"2025-06-23"},{"$nulls":6},"bis",null,{"$f":"VLOOKUP($A$2,Eigaben!$Y$8:$AB$14,3,1)","v":"2025-07-18"},{"$nulls":5},"Spiel - Nr.",null,null,null,{"$f":"'Aufgebot 23'!Y5+1","v":24}]
[{"$f":"Eigaben!F57","v":47},{"$nulls":13},{"$f":"Eigaben!G57","v":66}]
["Heim - Mannschaft",{"$nulls":13},"Gast - Mannschaft"]
[{"$f":"(VLOOKUP($A$6,Eigaben!$Y$17:$Z$103,2,0))","v":"TV Widnau ( 2. Liga F ) "},{"$nulls":13},{"$f":"(VLOOKUP($O$6,Eigaben!$Y$17:$Z$103,2,0))","v":"FG Elgg-Ettenhausen 1 ( NLA )"}]
[{"$f":"VLOOKUP($A$6,Eigaben!$Y$17:$AH$103,3,1)&\" \"&VLOOKUP(A6,Eigaben!Y17:AH103,4,1)","v":"Jerome Sepin"},{"$nulls":13},{"$f":"VLOOKUP($O$6,Eigaben!$Y$17:$AH$103,3,1)&\" \"&VLOOKUP($O$6,Eigaben!$Y$17:$AH$103,4,1)","v":"Markus Fehr"}]
[{"$f":"VLOOKUP($A$6,Eigaben!$Y$17:$AH$103,5,1)","v":" "},{"$nulls":5},{"$f":"VLOOKUP($A$6,Eigaben!$Y$17:$AH$103,6,1)&\" \"&VLOOKUP(A6,Eigaben!$Y$17:$AH$103,7,1)","v":"   "},{"$nulls":7},{"$f":"VLOOKUP($O$6,Eigaben!$Y$17:$AH$103,5,1)","v":"Hintergasse 3a"},{"$nulls":5},{"$f":"VLOOKUP($O$6,Eigaben!$Y$17:$AV$103,6,1)&\" \"&VLOOKUP($O$6,Eigaben!$Y$17:$AV$103,7,1)","v":"8353 Elgg"}]
[{"$f":"IF(Eigaben!AF54=0,\"\",VLOOKUP($A$6,Eigaben!$Y$17:$AH$103,8,1))","v":" "},{"$nulls":5},{"$f":"IF(Eigaben!$AG$54=0,\"\",VLOOKUP($A$6,Eigaben!$Y$17:$AH$103,9,1))","v":"079 929 89 85"},{"$nulls":7},{"$f":"IF(Eigaben!AF55=0,\"\",VLOOKUP($O$6,Eigaben!$Y$17:$AH$103,8,1))","v":" "},{"$nulls":5},{"$f":"IF(Eigaben!$P$54=0,\"\",VLOOKUP($O$6,Eigaben!$Y$17:$AH$103,9,1))","v":"078 613 39 28"}]
[{"$f":"VLOOKUP($A$6,Eigaben!$Y$17:$AH$103,10,1)","v":"jerome.sepin@gmail.com"},{"$nulls":13},{"$f":"VLOOKUP($O$6,Eigaben!$Y$17:$AH$103,10,1)","v":"fehr.markus@bluewin.ch"}]
[null,null,{"$f":"Eigaben!C57","v":24}]
["Datum",{"$nulls":5},"Zeit",{"$nulls":4},"Ort",{"$nulls":7},"Sportplatz"]
[{"$f":"IF(Eigaben!C57=0,\"\",VLOOKUP(C13,Eigaben!$C$28:$V$109,13,0))","v":"2025-07-24"},{"$nulls":5},{"$f":"IF(Eigaben!D54=0,\"\",VLOOKUP(C13,Eigaben!$C$28:$V$110,14,0))","v":"18:30:00"},{"$nulls":4},{"$f":"IF(Eigaben!D54=0,\"\",VLOOKUP(C13,Eigaben!$C$28:$V$1110,15,0))","v":"Widnau"},{"$nulls":7},{"$f":"IF(Eigaben!D54=0,\"\",VLOOKUP(C13,Eigaben!$C$28:$V$110,16,0))","v":"Rest Habsburg"}]
[null,null,{"$f":"Eigaben!T57","v":11}]
["Aufgebot Schiedsrichter *"]
[]
[{"$f":"IF(C16=0,\"\",VLOOKUP(C16,Schiri_25!A2:L181,3,1)&\" \"&VLOOKUP(C16,Schiri_25!A2:L181,2,1))","v":"Richard Meyerhans"},{"$nulls":5},{"$f":"IF(C16=0,\"\",VLOOKUP(C16,Schiri_25!A2:L181,9,1))","v":"+41 79 748 52 87"},{"$nulls":5},{"$f":"IF(C16=0,\"\",IF(VLOOKUP(C16,Schiri_25!A2:M122,8,1)=0,\"\",VLOOKUP(C16,Schiri_25!A2:M122,8,1)))","v":""},{"$nulls":4},{"$f":"IF(C16=0,\"\",VLOOKUP(C16,Schiri_25!A2:L181,12,1))","v":"richi4fistball@bluewin.ch"}]
[]
["* Im Verhinderungsfall sofort Verbindungsaufnahme mit Bruno Pabst: 079 243 02 08"]
[]
["Eintreffen des Schiedsrichters:",{"$nulls":11},{"$f":"IF(G15=\"\",\"\",G15-\"00:15:00\")","v":"18:15:00"}]
[]
["Tenue:",null,null,"Offizielle Schiedsrichterausrüstung blau / schwarz"]
[]
["Taggeld:",{"$nulls":4},"Fr.","**",{"$nulls":5},"Fahrspesen",{"$nulls":6},"Fr",null,1,null,null,{"$f":"Eigaben!V57","v":13}]
[]
["Die Fahrspesen (einfache Fahrt, Fr. 1,00 pro Km)  werden durch die Heim-Mannschaft bezahlt. \n**  (Das Taggeld wird direkt durch die CUPKO ausbezahlt.)"]
[]
["Modus"]
["Spielmodus:",null,null,null,"5 Gewinnsätze bis 11 (max. 15 : 14)",{"$nulls":12},"Pause nach  4 Sätzen max 5 Min."]
[]
["Bonus-Punkte:",{"$nulls":5},{"$f":"Eigaben!S57","v":3}]
[]
["Durchführung:\n",{"$nulls":5},"Bei einer allfälligen Verschiebung muss spätestens 5 Stunden vor Spielbeginn die Gast-Mannschaft, der Schiedsrichter und deer Chef CUPKO per Telefon und SMS informiert werden."]
[]
["Resultatmeldung"]
[]
["1. Satz",null,null,"2. Satz",null,null,"3. Satz",null,null,"4. Satz",null,null,"5. Satz",null,null,"6. Satz",null,null,"7. Satz",null,null,"8. Satz",null,null,"9. Satz"]
[null,":",null,null,":",null,null,":",null,null,":",null,null,":",null,null,":",null,null,":",null,null,":",null,null,":"]
["Sieger",{"$nulls":20},"Sätze",null,null,":"]
[]
["Resultatmeldung bis spätestens 12 Uhr des Folgetages durch den Schiedsrichter  per E-Mail, SMS oder WhatsApp an  "]
["pabst@swissfaustball.ch",{"$nulls":16},"pabst.bruno@bluewin.ch"]
[]
[]
["Mit sportlichen Grüssen\nSwiss Faustball CUPKO\nBruno Pabst (Präsident)",{"$nulls":19},"Thundorf, ",null,null,{"$f":"TODAY()","v":"2025-08-28"}]

{"sheet":"Spielbericht 24","index":71,"n_rows":58,"n_cols":36,"rows_kept":58,"cut":false,"hidden":true,"merged":[[54,0,54,35],[55,0,55,16],[55,17,55,35],[56,0,56,16],[56,17,56,35],[57,0,59,23],[57,24,59,29],[57,30,59,35],[50,30,50,32],[50,33,51,35],[52,0,53,4],[52,25,52,29],[52,30,52,35],[53,25,53,29],[53,30,53,35],[50,11,50,13],[50,14,50,16],[50,17,50,20],[50,21,50,23],[50,24,50,26],[50,27,50,29],[35,2,36,2],[35,3,36,4],[50,8,50,10],[38,2,39,2],[38,3,39,4],[40,2,41,2],[40,3,41,4],[42,2,43,2],[42,3,43,4],[44,2,45,2],[44,3,45,4],[47,2,48,2],[47,3,48,4],[50,0,51,4],[25,13,25,15],[31,2,32,2],[31,3,32,4],[33,2,34,2],[33,3,34,4],[16,5,16,16],[16,23,16,34],[17,5,17,16],[17,23,17,34],[29,2,30,2],[29,3,30,4],[18,5,18,16],[18,23,18,34],[19,18,19,22],[20,18,20,22],[22,6,22,17],[22,27,22,35],[23,6,23,17],[23,18,23,23],[23,24,23,35],[25,0,25,5],[13,5,13,16],[13,23,13,34],[14,5,14,16],[14,23,14,34],[15,5,15,16],[15,23,15,34],[10,5,10,16],[10,23,10,34],[11,5,11,16],[11,23,11,34],[12,5,12,16],[12,23,12,34],[7,35,8,35],[8,5,8,16],[8,23,8,34],[9,5,9,16],[9,23,9,34],[7,0,7,5],[7,6,7,16],[7,17,8,17],[7,18,7,23],[7,24,7,34],[0,6,1,35],[3,6,3,28],[3,29,3,35],[5,0,5,3],[5,4,5,8],[5,9,5,10],[5,11,5,13],[5,14,5,17],[5,18,5,28],[5,29,5,32],[5,33,5,35]]}
[{"$nulls":6},{"$f":"'Aufgebot A'!E1","v":"37. Schweizer Cup Männer 2025"}]
[]
[]
[{"$nulls":6},"            Spielbericht",{"$nulls":22},{"$f":"'Aufgebot 20'!A5","v":"1/8 Final"}]
[]
["Datum:  ",null,null,null,{"$f":"'Aufgebot 20'!A15","v":"2025-07-15"},{"$nulls":4},"Zeit:",null,{"$f":"'Aufgebot 20'!G15","v":"20:00:00"},null,null,"Spielort:",null,null,null,{"$f":"'Aufgebot 20'!L15","v":"Widnau"},{"$nulls":10}," Spiel-Nr.:",null,null,null,{"$f":"'Aufgebot 24'!Y5","v":24}]
[]
["Mannschaft A:",{"$nulls":5},{"$f":"'Aufgebot 24'!A8","v":"TV Widnau ( 2. Liga F ) "},{"$nulls":10},"Verw.","Mannschaft B:",{"$nulls":5},{"$f":"'Aufgebot 24'!O8","v":"FG Elgg-Ettenhausen 1 ( NLA )"},{"$nulls":10},"Verw."]
["Nr.",null,"Spf.","Eins.","Jg.","Name/Vorname",{"$nulls":12},"Nr.",null,"Spf.","Eins.","Jg.","Name/Vorname"]
[{"$nulls":4},"","",{"$nulls":16},"",""]
[{"$nulls":4},"","",{"$nulls":10},"",{"$nulls":5},"","",{"$nulls":10},""]
[{"$nulls":4},"","",{"$nulls":10},"",{"$nulls":5},"","",{"$nulls":10},""]
[{"$nulls":4},"","",{"$nulls":10},"",{"$nulls":5},"","",{"$nulls":10},""]
[{"$nulls":4},"","",{"$nulls":10},"",{"$nulls":5},"","",{"$nulls":10},""]
[{"$nulls":4},"","",{"$nulls":10},"",{"$nulls":5},"","",{"$nulls":10},""]
[{"$nulls":4},"","",{"$nulls":10},"",{"$nulls":5},"","",{"$nulls":10},""]
[{"$nulls":4},"","",{"$nulls":10},"",{"$nulls":5},"","",{"$nulls":10},""]
[{"$nulls":4},"","",{"$nulls":10},"",{"$nulls":5},"","",{"$nulls":10},""]
[{"$nulls":4},"","",{"$nulls":16},"",""]
[" Trainer:",{"$nulls":5},"",{"$nulls":11},"Trainer:",{"$nulls":5},""]
[" Betreuer:",{"$nulls":5},"",{"$nulls":11}," Betreuer:"]
[]
[" Schiedsrichter:",{"$nulls":5},{"$f":"'Aufgebot 24'!A19&\" \"&'Aufgebot 24'!G19","v":"Richard Meyerhans +41 79 748 52 87"},{"$nulls":11},"Heimmannschaft Verantw.",{"$nulls":8},{"$f":"'Aufgebot 24'!A9","v":"Jerome Sepin"}]
[" Linienrichter:",{"$nulls":17}," Linienrichter:"]
[]
["Ballwahl/Anspiel:",{"$nulls":6},"1. Satz:","A",null,"B",null,null,"5. Satz:",null,null,"A",null,"B"]
[]
["Ausserordentliche Vorfälle:  ",{"$nulls":6},"","Protest/Einsprache",null,null,null,"","Ausschluss",null,null,"","Sonstiges",null,null,null,"(Ankreuzen + Bericht mit Unterschrift auf Rückseite)"]
[]
["A",null,"Timeout","1. Satz",null,"A",{"$f":"IF('Aufgebot 24'!$G$34>0,1,\"\")","v":1},{"$f":"IF('Aufgebot 24'!$G$34>0,2,\"\")","v":2},{"$f":"IF('Aufgebot 24'!$G$34=3,3,\"\")","v":3}]
["B",{"$nulls":4},"B"]
["A",null,"Timeout","2. Satz",null,"A",{"$f":"G30","v":1},{"$f":"H30","v":2},{"$f":"I30","v":3}]
["B",{"$nulls":4},"B"]
["A",null,"Timeout","3. Satz",null,"A",{"$f":"G32","v":1},{"$f":"H32","v":2},{"$f":"I32","v":3}]
["B",{"$nulls":4},"B"]
["A",null,"Timeout","4. Satz",null,"A",{"$f":"G34","v":1},{"$f":"H34","v":2},{"$f":"I34","v":3}]
["B",{"$nulls":4},"B"]
[]
["A",null,"Timeout","5. Satz",null,"A",{"$f":"G36","v":1},{"$f":"H36","v":2},{"$f":"I36","v":3}]
["B",{"$nulls":4},"B"]
["A",null,"Timeout","6. Satz",null,"A",{"$f":"G39","v":1},{"$f":"H39","v":2},{"$f":"I39","v":3}]
["B",{"$nulls":4},"B"]
["A",null,"Timeout","7. Satz",null,"A",{"$f":"G41","v":1},{"$f":"H41","v":2},{"$f":"I41","v":3}]
["B",{"$nulls":4},"B"]
["A",null,"Timeout","8. Satz",null,"A",{"$f":"G43","v":1},{"$f":"H43","v":2},{"$f":"I43","v":3}]
["B",{"$nulls":4},"B"]
[]
["A",null,"Timeout","9. Satz",null,"A",{"$f":"G45","v":1},{"$f":"H45","v":2},{"$f":"I45","v":3}]
["B",{"$nulls":4},"B"]
[]
[" Ergebnis    (A:B) ",{"$nulls":4},"1. Satz",null,null,"2. Satz",null,null,"3. Satz",null,null,"4. Satz",null,null,"5. Satz",null,null,null,"6. Satz",null,null,"7. Satz",null,null,"8. Satz",null,null,"9. Satz"]
[{"$nulls":6},":",null,null,":",null,null,":",null,null,":",null,null,":",null,null,null,":",null,null,":",null,null,":",null,null,":"]
["Sieger",{"$nulls":24},"Total Punkte",{"$nulls":4},"Endstand (Sätze)"]
[{"$nulls":25},":",{"$nulls":4},":"]
[" Für die Richtigkeit der Eintragungen"]
[" Schiedsrichter:",{"$nulls":16},"Spielführer A:"]
[" Anschreiber:",{"$nulls":16}," Spielführer B:"]
["Mit sportlichen Grüssen\nSwiss Faustball CUPKO\nBruno Pabst (Präsident)",{"$nulls":23},"Thundorf,",{"$nulls":5},{"$f":"TODAY()","v":"2025-08-28"}]

{"sheet":"Aufgebot 25","index":72,"n_rows":48,"n_cols":26,"rows_kept":48,"cut":false,"hidden":true,"merged":[[0,4,0,21],[2,0,2,26],[2,28,2,30],[4,0,4,4],[4,5,4,11],[4,12,4,13],[4,14,4,19],[4,20,4,23],[6,0,6,12],[6,13,7,13],[6,14,6,26],[6,28,6,29],[6,30,6,31],[7,14,7,26],[8,0,8,12],[8,14,8,26],[9,0,9,5],[9,6,9,12],[9,14,9,19],[9,20,9,26],[10,0,10,5],[10,6,10,12],[10,14,10,19],[10,20,10,26],[11,0,11,12],[11,14,11,26],[13,0,13,5],[13,6,13,10],[13,11,13,18],[13,19,13,26],[14,0,14,5],[14,6,14,10],[14,11,14,18],[14,19,14,26],[26,19,26,20],[26,21,26,22],[26,24,26,26],[16,24,16,26],[19,0,19,26],[22,0,22,11],[22,12,22,14],[24,0,24,2],[18,0,18,5],[18,6,18,11],[18,12,18,16],[18,17,18,26],[16,0,16,11],[16,12,16,15],[16,16,16,18],[16,20,16,23],[35,0,35,5],[35,6,35,26],[26,35,26,38],[28,0,28,26],[30,0,30,26],[31,0,31,3],[31,4,31,16],[31,17,31,26],[31,28,31,29],[32,0,32,26],[33,6,33,7],[33,12,33,14],[33,28,33,29],[34,0,34,26],[26,6,26,8],[26,12,26,18],[36,0,36,26],[37,0,37,26],[38,0,38,26],[39,0,39,2],[39,3,39,5],[39,6,39,8],[39,9,39,11],[39,12,39,14],[39,15,39,17],[39,18,39,20],[39,21,39,23],[39,24,39,26],[41,0,41,2],[41,3,41,20],[41,21,41,23],[41,24,41,26],[50,2,50,8],[43,0,43,26],[44,0,44,8],[44,9,44,15],[44,17,44,24],[47,0,47,19],[47,20,47,22],[47,23,47,26]]}
[{"$nulls":4},{"$f":"Eigaben!Z3","v":"37. Schweizer Cup Männer 2025"}]
[4,null,null,{"$f":"VLOOKUP(A2,Eigaben!Y8:AC14,5,0)","v":"1/4 Final"}]
["Aufgebot Mannschaften"]
[1]
[{"$f":"VLOOKUP(A2,Eigaben!Y8:AC14,5,0)","v":"1/4 Final"},{"$nulls":4},{"$f":"VLOOKUP($A$2,Eigaben!$Y$8:$AC$14,2,1)","v":"2025-07-28"},{"$nulls":6},"bis",null,{"$f":"VLOOKUP($A$2,Eigaben!$Y$8:$AB$14,3,1)","v":"2025-08-15"},{"$nulls":5},"Spiel - Nr.",null,null,null,{"$f":"'Aufgebot 24'!Y5+1","v":25}]
[{"$f":"Eigaben!F64","v":56},{"$nulls":13},{"$f":"Eigaben!G64","v":65}]
["Heim - Mannschaft",{"$nulls":13},"Gast - Mannschaft"]
[{"$f":"(VLOOKUP($A$6,Eigaben!$Y$17:$Z$103,2,0))","v":"TSV Jona 1( NLB O )"},{"$nulls":13},{"$f":"(VLOOKUP($O$6,Eigaben!$Y$17:$Z$103,2,0))","v":"SVD Diepoldsau-Schmitter (NLA)"}]
[{"$f":"VLOOKUP($A$6,Eigaben!$Y$17:$AH$103,3,1)&\" \"&VLOOKUP(A6,Eigaben!Y17:AH103,4,1)","v":"Fabian Zahner"},{"$nulls":13},{"$f":"VLOOKUP($O$6,Eigaben!$Y$17:$AH$103,3,1)&\" \"&VLOOKUP($O$6,Eigaben!$Y$17:$AH$103,4,1)","v":"Lorena Lipp"}]
[{"$f":"VLOOKUP($A$6,Eigaben!$Y$17:$AH$103,5,1)","v":" "},{"$nulls":5},{"$f":"VLOOKUP($A$6,Eigaben!$Y$17:$AH$103,6,1)&\" \"&VLOOKUP(A6,Eigaben!$Y$17:$AH$103,7,1)","v":"   "},{"$nulls":7},{"$f":"VLOOKUP($O$6,Eigaben!$Y$17:$AH$103,5,1)","v":"Unterdorfstr 47"},{"$nulls":5},{"$f":"VLOOKUP($O$6,Eigaben!$Y$17:$AV$103,6,1)&\" \"&VLOOKUP($O$6,Eigaben!$Y$17:$AV$103,7,1)","v":"9443 Widnau"}]
[{"$f":"IF(Eigaben!AF54=0,\"\",VLOOKUP($A$6,Eigaben!$Y$17:$AH$103,8,1))","v":" "},{"$nulls":5},{"$f":"IF(Eigaben!$AG$54=0,\"\",VLOOKUP($A$6,Eigaben!$Y$17:$AH$103,9,1))","v":"076 592 09 17"},{"$nulls":7},{"$f":"IF(Eigaben!AF55=0,\"\",VLOOKUP($O$6,Eigaben!$Y$17:$AH$103,8,1))","v":" "},{"$nulls":5},{"$f":"IF(Eigaben!$P$54=0,\"\",VLOOKUP($O$6,Eigaben!$Y$17:$AH$103,9,1))","v":"076 573 09 99"}]
[{"$f":"VLOOKUP($A$6,Eigaben!$Y$17:$AH$103,10,1)","v":"tkchef@fbjona.ch"},{"$nulls":13},{"$f":"VLOOKUP($O$6,Eigaben!$Y$17:$AH$103,10,1)","v":"spiko@faustball-svd.clubdesk.com"}]
[null,null,{"$f":"Eigaben!C64","v":9.07}]
["Datum",{"$nulls":5},"Zeit",{"$nulls":4},"Ort",{"$nulls":7},"Sportplatz"]
[{"$f":"IF(Eigaben!C64=0,\"\",VLOOKUP(C13,Eigaben!$C$28:$V$109,13,0))","v":"2025-07-14"},{"$nulls":5},{"$f":"IF(Eigaben!C64=0,\"\",VLOOKUP(C13,Eigaben!$C$28:$V$110,14,0))","v":"19:30:00"},{"$nulls":4},{"$f":"IF(Eigaben!C64=0,\"\",VLOOKUP(C13,Eigaben!$C$28:$V$1110,15,0))","v":"Jona"},{"$nulls":7},{"$f":"IF(Eigaben!C64=0,\"\",VLOOKUP(C13,Eigaben!$C$28:$V$110,16,0))","v":"Sportplatz Grünfeld"}]
[null,null,{"$f":"Eigaben!T64","v":97}]
["Aufgebot Schiedsrichter *"]
[]
[{"$f":"IF(C16=0,\"\",VLOOKUP(C16,Schiri_25!A2:L181,3,1)&\" \"&VLOOKUP(C16,Schiri_25!A2:L181,2,1))","v":"Sebastian Kammer"},{"$nulls":5},{"$f":"IF(C16=0,\"\",VLOOKUP(C16,Schiri_25!A2:L181,9,1))","v":"079 254 36 41"},{"$nulls":5},{"$f":"IF(C16=0,\"\",IF(VLOOKUP(C16,Schiri_25!A2:M122,8,1)=0,\"\",VLOOKUP(C16,Schiri_25!A2:M122,8,1)))","v":""},{"$nulls":4},{"$f":"IF(C16=0,\"\",VLOOKUP(C16,Schiri_25!A2:L181,12,1))","v":"sebastian_kammer@gmx.de"}]
[]
["* Im Verhinderungsfall sofort Verbindungsaufnahme mit Bruno Pabst: 079 243 02 08"]
[]
["Eintreffen des Schiedsrichters:",{"$nulls":11},{"$f":"IF(G15=\"\",\"\",G15-\"00:15:00\")","v":"19:15:00"}]
[]
["Tenue:",null,null,"Offizielle Schiedsrichterausrüstung blau / schwarz"]
[]
["Taggeld:",{"$nulls":4},"Fr.","**",{"$nulls":5},"Fahrspesen",{"$nulls":6},"Fr",null,1,null,null,{"$f":"Eigaben!V64","v":5}]
[]
["Die Fahrspesen (einfache Fahrt, Fr. 1,00 pro Km)  werden durch die Heim-Mannschaft bezahlt. \n**  (Das Taggeld wird direkt durch die CUPKO ausbezahlt.)"]
[]
["Modus"]
["Spielmodus:",null,null,null,"5 Gewinnsätze bis 11 (max. 15 : 14)",{"$nulls":12},"Pause nach  4 Sätzen max 5 Min."]
[]
["Bonus-Punkte:",{"$nulls":5},{"$f":"Eigaben!S64","v":2}]
[]
["Durchführung:\n",{"$nulls":5},"Bei einer allfälligen Verschiebung muss spätestens 5 Stunden vor Spielbeginn die Gast-Mannschaft, der Schiedsrichter und deer Chef CUPKO per Telefon und SMS informiert werden."]
[]
["Resultatmeldung"]
[]
["1. Satz",null,null,"2. Satz",null,null,"3. Satz",null,null,"4. Satz",null,null,"5. Satz",null,null,"6. Satz",null,null,"7. Satz",null,null,"8. Satz",null,null,"9. Satz"]
[null,":",null,null,":",null,null,":",null,null,":",null,null,":",null,null,":",null,null,":",null,null,":",null,null,":"]
["Sieger",{"$nulls":20},"Sätze",null,null,":"]
[]
["Resultatmeldung bis spätestens 12 Uhr des Folgetages durch den Schiedsrichter  per E-Mail, SMS oder WhatsApp an  "]
["pabst@swissfaustball.ch",{"$nulls":16},"pabst.bruno@bluewin.ch"]
[]
[]
["Mit sportlichen Grüssen\nSwiss Faustball CUPKO\nBruno Pabst (Präsident)",{"$nulls":19},"Thundorf, ",null,null,{"$f":"TODAY()","v":"2025-08-28"}]

{"sheet":"Spielbericht 25","index":73,"n_rows":58,"n_cols":36,"rows_kept":58,"cut":false,"hidden":true,"merged":[[0,6,1,35],[3,6,3,28],[3,29,3,35],[5,0,5,3],[5,4,5,8],[5,9,5,10],[5,11,5,13],[5,14,5,17],[5,18,5,28],[5,29,5,32],[5,33,5,35],[7,35,8,35],[8,5,8,16],[8,23,8,34],[9,5,9,16],[9,23,9,34],[7,0,7,5],[7,6,7,16],[7,17,8,17],[7,18,7,23],[7,24,7,34],[10,5,10,16],[10,23,10,34],[11,5,11,16],[11,23,11,34],[12,5,12,16],[12,23,12,34],[13,5,13,16],[13,23,13,34],[14,5,14,16],[14,23,14,34],[15,5,15,16],[15,23,15,34],[16,5,16,16],[16,23,16,34],[17,5,17,16],[17,23,17,34],[29,2,30,2],[29,3,30,4],[18,5,18,16],[18,23,18,34],[19,18,19,22],[20,18,20,22],[22,6,22,17],[22,27,22,35],[23,6,23,17],[23,18,23,23],[23,24,23,35],[25,0,25,5],[25,13,25,15],[31,2,32,2],[31,3,32,4],[33,2,34,2],[33,3,34,4],[35,2,36,2],[35,3,36,4],[50,8,50,10],[38,2,39,2],[38,3,39,4],[40,2,41,2],[40,3,41,4],[42,2,43,2],[42,3,43,4],[44,2,45,2],[44,3,45,4],[47,2,48,2],[47,3,48,4],[50,0,51,4],[57,0,59,23],[57,24,59,29],[57,30,59,35],[50,30,50,32],[50,33,51,35],[52,0,53,4],[52,25,52,29],[52,30,52,35],[53,25,53,29],[53,30,53,35],[50,11,50,13],[50,14,50,16],[50,17,50,20],[50,21,50,23],[50,24,50,26],[50,27,50,29],[54,0,54,35],[55,0,55,16],[55,17,55,35],[56,0,56,16],[56,17,56,35]]}
[{"$nulls":6},{"$f":"'Aufgebot A'!E1","v":"37. Schweizer Cup Männer 2025"}]
[]
[]
[{"$nulls":6},"            Spielbericht",{"$nulls":22},{"$f":"'Aufgebot 25'!A5","v":"1/4 Final"}]
[]
["Datum:  ",null,null,null,{"$f":"'Aufgebot 25'!A15","v":"2025-07-14"},{"$nulls":4},"Zeit:",null,{"$f":"'Aufgebot 25'!G15","v":"19:30:00"},null,null,"Spielort:",null,null,null,{"$f":"'Aufgebot 25'!L15","v":"Jona"},{"$nulls":10}," Spiel-Nr.:",null,null,null,{"$f":"'Aufgebot 25'!Y5","v":25}]
[]
["Mannschaft A:",{"$nulls":5},{"$f":"'Aufgebot 25'!A8","v":"TSV Jona 1( NLB O )"},{"$nulls":10},"Verw.","Mannschaft B:",{"$nulls":5},{"$f":"'Aufgebot 25'!O8","v":"SVD Diepoldsau-Schmitter (NLA)"},{"$nulls":10},"Verw."]
["Nr.",null,"Spf.","Eins.","Jg.","Name/Vorname",{"$nulls":12},"Nr.",null,"Spf.","Eins.","Jg.","Name/Vorname"]
[{"$nulls":4},"","",{"$nulls":16},"",""]
[{"$nulls":4},"","",{"$nulls":10},"",{"$nulls":5},"","",{"$nulls":10},""]
[{"$nulls":4},"","",{"$nulls":10},"",{"$nulls":5},"","",{"$nulls":10},""]
[{"$nulls":4},"","",{"$nulls":10},"",{"$nulls":5},"","",{"$nulls":10},""]
[{"$nulls":4},"","",{"$nulls":10},"",{"$nulls":5},"","",{"$nulls":10},""]
[{"$nulls":4},"","",{"$nulls":10},"",{"$nulls":5},"","",{"$nulls":10},""]
[{"$nulls":4},"","",{"$nulls":10},"",{"$nulls":5},"","",{"$nulls":10},""]
[{"$nulls":4},"","",{"$nulls":10},"",{"$nulls":5},"","",{"$nulls":10},""]
[{"$nulls":4},"","",{"$nulls":10},"",{"$nulls":5},"","",{"$nulls":10},""]
[{"$nulls":4},"","",{"$nulls":16},"",""]
[" Trainer:",{"$nulls":5},"",{"$nulls":11},"Trainer:",{"$nulls":5},""]
[" Betreuer:",{"$nulls":5},"",{"$nulls":11}," Betreuer:"]
[]
[" Schiedsrichter:",{"$nulls":5},{"$f":"'Aufgebot 25'!A19&\" \"&'Aufgebot 25'!G19","v":"Sebastian Kammer 079 254 36 41"},{"$nulls":11},"Heimmannschaft Verantw.",{"$nulls":8},{"$f":"'Aufgebot 25'!A9","v":"Fabian Zahner"}]
[" Linienrichter:",{"$nulls":17}," Linienrichter:"]
[]
["Ballwahl/Anspiel:",{"$nulls":6},"1. Satz:","A",null,"B",null,null,"5. Satz:",null,null,"A",null,"B"]
[]
["Ausserordentliche Vorfälle:  ",{"$nulls":6},"","Protest/Einsprache",null,null,null,"","Ausschluss",null,null,"","Sonstiges",null,null,null,"(Ankreuzen + Bericht mit Unterschrift auf Rückseite)"]
[]
["A",null,"Timeout","1. Satz",null,"A",{"$f":"IF('Aufgebot 25'!$G$34>0,1,\"\")","v":1},{"$f":"IF('Aufgebot 25'!$G$34>0,2,\"\")","v":2},{"$f":"IF('Aufgebot 25'!$G$34=3,3,\"\")","v":""}]
["B",{"$nulls":4},"B"]
["A",null,"Timeout","2. Satz",null,"A",{"$f":"G30","v":1},{"$f":"H30","v":2},{"$f":"I30","v":""}]
["B",{"$nulls":4},"B"]
["A",null,"Timeout","3. Satz",null,"A",{"$f":"G32","v":1},{"$f":"H32","v":2},{"$f":"I32","v":""}]
["B",{"$nulls":4},"B"]
["A",null,"Timeout","4. Satz",null,"A",{"$f":"G34","v":1},{"$f":"H34","v":2},{"$f":"I34","v":""}]
["B",{"$nulls":4},"B"]
[]
["A",null,"Timeout","5. Satz",null,"A",{"$f":"G36","v":1},{"$f":"H36","v":2},{"$f":"I36","v":""}]
["B",{"$nulls":4},"B"]
["A",null,"Timeout","6. Satz",null,"A",{"$f":"G39","v":1},{"$f":"H39","v":2},{"$f":"I39","v":""}]
["B",{"$nulls":4},"B"]
["A",null,"Timeout","7. Satz",null,"A",{"$f":"G41","v":1},{"$f":"H41","v":2},{"$f":"I41","v":""}]
["B",{"$nulls":4},"B"]
["A",null,"Timeout","8. Satz",null,"A",{"$f":"G43","v":1},{"$f":"H43","v":2},{"$f":"I43","v":""}]
["B",{"$nulls":4},"B"]
[]
["A",null,"Timeout","9. Satz",null,"A",{"$f":"G45","v":1},{"$f":"H45","v":2},{"$f":"I45","v":""}]
["B",{"$nulls":4},"B"]
[]
[" Ergebnis    (A:B) ",{"$nulls":4},"1. Satz",null,null,"2. Satz",null,null,"3. Satz",null,null,"4. Satz",null,null,"5. Satz",null,null,null,"6. Satz",null,null,"7. Satz",null,null,"8. Satz",null,null,"9. Satz"]
[{"$nulls":6},":",null,null,":",null,null,":",null,null,":",null,null,":",null,null,null,":",null,null,":",null,null,":",null,null,":"]
["Sieger",{"$nulls":24},"Total Punkte",{"$nulls":4},"Endstand (Sätze)"]
[{"$nulls":25},":",{"$nulls":4},":"]
[" Für die Richtigkeit der Eintragungen"]
[" Schiedsrichter:",{"$nulls":16},"Spielführer A:"]
[" Anschreiber:",{"$nulls":16}," Spielführer B:"]
["Mit sportlichen Grüssen\nSwiss Faustball CUPKO\nBruno Pabst (Präsident)",{"$nulls":23},"Thundorf,",{"$nulls":5},{"$f":"TODAY()","v":"2025-08-28"}]

{"sheet":"Aufgebot 26","index":74,"n_rows":48,"n_cols":26,"rows_kept":48,"cut":false,"hidden":false,"merged":[[0,4,0,21],[2,0,2,26],[2,28,2,30],[4,0,4,4],[4,5,4,11],[4,12,4,13],[4,14,4,19],[4,20,4,23],[6,0,6,12],[6,13,7,13],[6,14,6,26],[6,28,6,29],[6,30,6,31],[7,14,7,26],[8,0,8,12],[8,14,8,26],[9,0,9,5],[9,6,9,12],[9,14,9,19],[9,20,9,26],[10,0,10,5],[10,6,10,12],[10,14,10,19],[10,20,10,26],[11,0,11,12],[11,14,11,26],[13,0,13,5],[13,6,13,10],[13,11,13,18],[13,19,13,26],[14,0,14,5],[14,6,14,10],[14,11,14,18],[14,19,14,26],[26,19,26,20],[26,21,26,22],[26,24,26,26],[16,24,16,26],[19,0,19,26],[22,0,22,11],[22,12,22,14],[24,0,24,2],[18,0,18,5],[18,6,18,11],[18,12,18,16],[18,17,18,26],[16,0,16,11],[16,12,16,15],[16,16,16,18],[16,20,16,23],[35,0,35,5],[35,6,35,26],[26,35,26,38],[28,0,28,26],[30,0,30,26],[31,0,31,3],[31,4,31,16],[31,17,31,26],[31,28,31,29],[32,0,32,26],[33,6,33,7],[33,12,33,14],[33,28,33,29],[34,0,34,26],[26,6,26,8],[26,12,26,18],[36,0,36,26],[37,0,37,26],[38,0,38,26],[39,0,39,2],[39,3,39,5],[39,6,39,8],[39,9,39,11],[39,12,39,14],[39,15,39,17],[39,18,39,20],[39,21,39,23],[39,24,39,26],[41,0,41,2],[41,3,41,20],[41,21,41,23],[41,24,41,26],[50,2,50,8],[43,0,43,26],[44,0,44,8],[44,9,44,15],[44,17,44,24],[47,0,47,19],[47,20,47,22],[47,23,47,26]]}
[{"$nulls":4},{"$f":"Eigaben!Z3","v":"37. Schweizer Cup Männer 2025"}]
[4,null,null,{"$f":"VLOOKUP(A2,Eigaben!Y8:AC14,5,0)","v":"1/4 Final"}]
["Aufgebot Mannschaften"]
[1]
[{"$f":"VLOOKUP(A2,Eigaben!Y8:AC14,5,0)","v":"1/4 Final"},{"$nulls":4},{"$f":"VLOOKUP($A$2,Eigaben!$Y$8:$AC$14,2,1)","v":"2025-07-28"},{"$nulls":6},"bis",null,{"$f":"VLOOKUP($A$2,Eigaben!$Y$8:$AB$14,3,1)","v":"2025-08-15"},{"$nulls":5},"Spiel - Nr.",null,null,null,{"$f":"'Aufgebot 25'!Y5+1","v":26}]
[{"$f":"Eigaben!F65","v":41},{"$nulls":13},{"$f":"Eigaben!G65","v":64}]
["Heim - Mannschaft",{"$nulls":13},"Gast - Mannschaft"]
[{"$f":"(VLOOKUP($A$6,Eigaben!$Y$17:$Z$103,2,0))","v":"FBV Ettenhausen ( 2. Liga S )"},{"$nulls":13},{"$f":"(VLOOKUP($O$6,Eigaben!$Y$17:$Z$103,2,0))","v":"STV Affeltrangen  ( NLA )"}]
[{"$f":"VLOOKUP($A$6,Eigaben!$Y$17:$AH$103,3,1)&\" \"&VLOOKUP(A6,Eigaben!Y17:AH103,4,1)","v":"Simon  Kunz"},{"$nulls":13},{"$f":"VLOOKUP($O$6,Eigaben!$Y$17:$AH$103,3,1)&\" \"&VLOOKUP($O$6,Eigaben!$Y$17:$AH$103,4,1)","v":"Andreas Ribi"}]
[{"$f":"VLOOKUP($A$6,Eigaben!$Y$17:$AH$103,5,1)","v":"Matthofstr 43"},{"$nulls":5},{"$f":"VLOOKUP($A$6,Eigaben!$Y$17:$AH$103,6,1)&\" \"&VLOOKUP(A6,Eigaben!$Y$17:$AH$103,7,1)","v":"8355 Aadorf"},{"$nulls":7},{"$f":"VLOOKUP($O$6,Eigaben!$Y$17:$AH$103,5,1)","v":"Unterdorfstr 2b"},{"$nulls":5},{"$f":"VLOOKUP($O$6,Eigaben!$Y$17:$AV$103,6,1)&\" \"&VLOOKUP($O$6,Eigaben!$Y$17:$AV$103,7,1)","v":"8507 Hörhausen"}]
[{"$f":"IF(Eigaben!AF54=0,\"\",VLOOKUP($A$6,Eigaben!$Y$17:$AH$103,8,1))","v":" "},{"$nulls":5},{"$f":"IF(Eigaben!$AG$54=0,\"\",VLOOKUP($A$6,Eigaben!$Y$17:$AH$103,9,1))","v":"079 438 17 59"},{"$nulls":7},{"$f":"IF(Eigaben!AF55=0,\"\",VLOOKUP($O$6,Eigaben!$Y$17:$AH$103,8,1))","v":" "},{"$nulls":5},{"$f":"IF(Eigaben!$P$54=0,\"\",VLOOKUP($O$6,Eigaben!$Y$17:$AH$103,9,1))","v":"079 585 70 85"}]
[{"$f":"VLOOKUP($A$6,Eigaben!$Y$17:$AH$103,10,1)","v":"simon.kunz@fbv-ettenhausen.ch"},{"$nulls":13},{"$f":"VLOOKUP($O$6,Eigaben!$Y$17:$AH$103,10,1)","v":"faustball@stv-affeltrangen.ch "}]
[null,null,{"$f":"Eigaben!C65","v":26}]
["Datum",{"$nulls":5},"Zeit",{"$nulls":4},"Ort",{"$nulls":7},"Sportplatz"]
[{"$f":"IF(Eigaben!C65=0,\"\",VLOOKUP(C13,Eigaben!$C$28:$V$109,13,0))","v":"2025-08-19"},{"$nulls":5},{"$f":"IF(Eigaben!C65=0,\"\",VLOOKUP(C13,Eigaben!$C$28:$V$110,14,0))","v":"19:00:00"},{"$nulls":4},{"$f":"IF(Eigaben!C65=0,\"\",VLOOKUP(C13,Eigaben!$C$28:$V$1110,15,0))","v":"Guntershausen"},{"$nulls":7},{"$f":"IF(Eigaben!C65=0,\"\",VLOOKUP(C13,Eigaben!$C$28:$V$110,16,0))","v":"Schulhaus"}]
[null,null,{"$f":"Eigaben!T65","v":79}]
["Aufgebot Schiedsrichter *"]
[]
[{"$f":"IF(C16=0,\"\",VLOOKUP(C16,Schiri_25!A2:L181,3,1)&\" \"&VLOOKUP(C16,Schiri_25!A2:L181,2,1))","v":"Daniel Ziereisen"},{"$nulls":5},{"$f":"IF(C16=0,\"\",VLOOKUP(C16,Schiri_25!A2:L181,9,1))","v":"+41 79 672 26 12"},{"$nulls":5},{"$f":"IF(C16=0,\"\",IF(VLOOKUP(C16,Schiri_25!A2:M122,8,1)=0,\"\",VLOOKUP(C16,Schiri_25!A2:M122,8,1)))","v":"+41 52 364 23 90"},{"$nulls":4},{"$f":"IF(C16=0,\"\",VLOOKUP(C16,Schiri_25!A2:L181,12,1))","v":"daniel.ziereisen@hcs-controls.ch"}]
[]
["* Im Verhinderungsfall sofort Verbindungsaufnahme mit Bruno Pabst: 079 243 02 08"]
[]
["Eintreffen des Schiedsrichters:",{"$nulls":11},{"$f":"IF(G15=\"\",\"\",G15-\"00:15:00\")","v":"18:45:00"}]
[]
["Tenue:",null,null,"Offizielle Schiedsrichterausrüstung blau / schwarz"]
[]
["Taggeld:",{"$nulls":4},"Fr.","**",{"$nulls":5},"Fahrspesen",{"$nulls":6},"Fr",null,1,null,null,{"$f":"Eigaben!V65","v":7}]
[]
["Die Fahrspesen (einfache Fahrt, Fr. 1,00 pro Km)  werden durch die Heim-Mannschaft bezahlt. \n**  (Das Taggeld wird direkt durch die CUPKO ausbezahlt.)"]
[]
["Modus"]
["Spielmodus:",null,null,null,"5 Gewinnsätze bis 11 (max. 15 : 14)",{"$nulls":12},"Pause nach  4 Sätzen max 5 Min."]
[]
["Bonus-Punkte:",{"$nulls":5},{"$f":"Eigaben!S65","v":3}]
[]
["Durchführung:\n",{"$nulls":5},"Bei einer allfälligen Verschiebung muss spätestens 5 Stunden vor Spielbeginn die Gast-Mannschaft, der Schiedsrichter und deer Chef CUPKO per Telefon und SMS informiert werden."]
[]
["Resultatmeldung"]
[]
["1. Satz",null,null,"2. Satz",null,null,"3. Satz",null,null,"4. Satz",null,null,"5. Satz",null,null,"6. Satz",null,null,"7. Satz",null,null,"8. Satz",null,null,"9. Satz"]
[null,":",null,null,":",null,null,":",null,null,":",null,null,":",null,null,":",null,null,":",null,null,":",null,null,":"]
["Sieger",{"$nulls":20},"Sätze",null,null,":"]
[]
["Resultatmeldung bis spätestens 12 Uhr des Folgetages durch den Schiedsrichter \nper E-Mail, SMS oder WhatsApp an  "]
["pabst@swissfaustball.ch",{"$nulls":16},"pabst.bruno@bluewin.ch"]
[]
[]
["Mit sportlichen Grüssen\nSwiss Faustball CUPKO\nBruno Pabst (Präsident)",{"$nulls":19},"Thundorf, ",null,null,{"$f":"TODAY()","v":"2025-08-28"}]

{"sheet":"Spielbericht 26","index":75,"n_rows":58,"n_cols":36,"rows_kept":58,"cut":false,"hidden":false,"merged":[[0,6,1,35],[3,6,3,28],[3,29,3,35],[5,0,5,3],[5,4,5,8],[5,9,5,10],[5,11,5,13],[5,14,5,17],[5,18,5,28],[5,29,5,32],[5,33,5,35],[7,35,8,35],[8,5,8,16],[8,23,8,34],[9,5,9,16],[9,23,9,34],[7,0,7,5],[7,6,7,16],[7,17,8,17],[7,18,7,23],[7,24,7,34],[10,5,10,16],[10,23,10,34],[11,5,11,16],[11,23,11,34],[12,5,12,16],[12,23,12,34],[13,5,13,16],[13,23,13,34],[14,5,14,16],[14,23,14,34],[15,5,15,16],[15,23,15,34],[16,5,16,16],[16,23,16,34],[17,5,17,16],[17,23,17,34],[29,2,30,2],[29,3,30,4],[18,5,18,16],[18,23,18,34],[19,18,19,22],[20,18,20,22],[22,6,22,17],[22,27,22,35],[23,6,23,17],[23,18,23,23],[23,24,23,35],[25,0,25,5],[25,13,25,15],[31,2,32,2],[31,3,32,4],[33,2,34,2],[33,3,34,4],[35,2,36,2],[35,3,36,4],[50,8,50,10],[38,2,39,2],[38,3,39,4],[40,2,41,2],[40,3,41,4],[42,2,43,2],[42,3,43,4],[44,2,45,2],[44,3,45,4],[47,2,48,2],[47,3,48,4],[50,0,51,4],[57,0,59,23],[57,24,59,29],[57,30,59,35],[50,30,50,32],[50,33,51,35],[52,0,53,4],[52,25,52,29],[52,30,52,35],[53,25,53,29],[53,30,53,35],[50,11,50,13],[50,14,50,16],[50,17,50,20],[50,21,50,23],[50,24,50,26],[50,27,50,29],[54,0,54,35],[55,0,55,16],[55,17,55,35],[56,0,56,16],[56,17,56,35]]}
[{"$nulls":6},{"$f":"'Aufgebot A'!E1","v":"37. Schweizer Cup Männer 2025"}]
[]
[]
[{"$nulls":6},"            Spielbericht",{"$nulls":22},{"$f":"'Aufgebot 26'!A5","v":"1/4 Final"}]
[]
["Datum:  ",null,null,null,{"$f":"'Aufgebot 20'!A15","v":"2025-07-15"},{"$nulls":4},"Zeit:",null,{"$f":"'Aufgebot 20'!G15","v":"20:00:00"},null,null,"Spielort:",null,null,null,{"$f":"'Aufgebot 26'!L15","v":"Guntershausen"},{"$nulls":10}," Spiel-Nr.:",null,null,null,{"$f":"'Aufgebot 26'!Y5","v":26}]
[]
["Mannschaft A:",{"$nulls":5},{"$f":"'Aufgebot 26'!A8","v":"FBV Ettenhausen ( 2. Liga S )"},{"$nulls":10},"Verw.","Mannschaft B:",{"$nulls":5},{"$f":"'Aufgebot 26'!O8","v":"STV Affeltrangen  ( NLA )"},{"$nulls":10},"Verw."]
["Nr.",null,"Spf.","Eins.","Jg.","Name/Vorname",{"$nulls":12},"Nr.",null,"Spf.","Eins.","Jg.","Name/Vorname"]
[{"$nulls":4},"","",{"$nulls":16},"",""]
[{"$nulls":4},"","",{"$nulls":10},"",{"$nulls":5},"","",{"$nulls":10},""]
[{"$nulls":4},"","",{"$nulls":10},"",{"$nulls":5},"","",{"$nulls":10},""]
[{"$nulls":4},"","",{"$nulls":10},"",{"$nulls":5},"","",{"$nulls":10},""]
[{"$nulls":4},"","",{"$nulls":10},"",{"$nulls":5},"","",{"$nulls":10},""]
[{"$nulls":4},"","",{"$nulls":10},"",{"$nulls":5},"","",{"$nulls":10},""]
[{"$nulls":4},"","",{"$nulls":10},"",{"$nulls":5},"","",{"$nulls":10},""]
[{"$nulls":4},"","",{"$nulls":10},"",{"$nulls":5},"","",{"$nulls":10},""]
[{"$nulls":4},"","",{"$nulls":10},"",{"$nulls":5},"","",{"$nulls":10},""]
[{"$nulls":4},"","",{"$nulls":16},"",""]
[" Trainer:",{"$nulls":5},"",{"$nulls":11},"Trainer:",{"$nulls":5},""]
[" Betreuer:",{"$nulls":5},"",{"$nulls":11}," Betreuer:"]
[]
[" Schiedsrichter:",{"$nulls":5},{"$f":"'Aufgebot 26'!A19&\" \"&'Aufgebot 26'!G19","v":"Daniel Ziereisen +41 79 672 26 12"},{"$nulls":11},"Heimmannschaft Verantw.",{"$nulls":8},{"$f":"'Aufgebot 26'!A9","v":"Simon  Kunz"}]
[" Linienrichter:",{"$nulls":17}," Linienrichter:"]
[]
["Ballwahl/Anspiel:",{"$nulls":6},"1. Satz:","A",null,"B",null,null,"5. Satz:",null,null,"A",null,"B"]
[]
["Ausserordentliche Vorfälle:  ",{"$nulls":6},"","Protest/Einsprache",null,null,null,"","Ausschluss",null,null,"","Sonstiges",null,null,null,"(Ankreuzen + Bericht mit Unterschrift auf Rückseite)"]
[]
["A",null,"Timeout","1. Satz",null,"A",{"$f":"IF('Aufgebot 26'!$G$34>0,1,\"\")","v":1},{"$f":"IF('Aufgebot 26'!$G$34>0,2,\"\")","v":2},{"$f":"IF('Aufgebot 26'!$G$34=3,3,\"\")","v":3}]
["B",{"$nulls":4},"B"]
["A",null,"Timeout","2. Satz",null,"A",{"$f":"G30","v":1},{"$f":"H30","v":2},{"$f":"I30","v":3}]
["B",{"$nulls":4},"B"]
["A",null,"Timeout","3. Satz",null,"A",{"$f":"G32","v":1},{"$f":"H32","v":2},{"$f":"I32","v":3}]
["B",{"$nulls":4},"B"]
["A",null,"Timeout","4. Satz",null,"A",{"$f":"G34","v":1},{"$f":"H34","v":2},{"$f":"I34","v":3}]
["B",{"$nulls":4},"B"]
[]
["A",null,"Timeout","5. Satz",null,"A",{"$f":"G36","v":1},{"$f":"H36","v":2},{"$f":"I36","v":3}]
["B",{"$nulls":4},"B"]
["A",null,"Timeout","6. Satz",null,"A",{"$f":"G39","v":1},{"$f":"H39","v":2},{"$f":"I39","v":3}]
["B",{"$nulls":4},"B"]
["A",null,"Timeout","7. Satz",null,"A",{"$f":"G41","v":1},{"$f":"H41","v":2},{"$f":"I41","v":3}]
["B",{"$nulls":4},"B"]
["A",null,"Timeout","8. Satz",null,"A",{"$f":"G43","v":1},{"$f":"H43","v":2},{"$f":"I43","v":3}]
["B",{"$nulls":4},"B"]
[]
["A",null,"Timeout","9. Satz",null,"A",{"$f":"G45","v":1},{"$f":"H45","v":2},{"$f":"I45","v":3}]
["B",{"$nulls":4},"B"]
[]
[" Ergebnis    (A:B) ",{"$nulls":4},"1. Satz",null,null,"2. Satz",null,null,"3. Satz",null,null,"4. Satz",null,null,"5. Satz",null,null,null,"6. Satz",null,null,"7. Satz",null,null,"8. Satz",null,null,"9. Satz"]
[{"$nulls":6},":",null,null,":",null,null,":",null,null,":",null,null,":",null,null,null,":",null,null,":",null,null,":",null,null,":"]
["Sieger",{"$nulls":24},"Total Punkte",{"$nulls":4},"Endstand (Sätze)"]
[{"$nulls":25},":",{"$nulls":4},":"]
[" Für die Richtigkeit der Eintragungen"]
[" Schiedsrichter:",{"$nulls":16},"Spielführer A:"]
[" Anschreiber:",{"$nulls":16}," Spielführer B:"]
["Mit sportlichen Grüssen\nSwiss Faustball CUPKO\nBruno Pabst (Präsident)",{"$nulls":23},"Thundorf,",{"$nulls":5},{"$f":"TODAY()","v":"2025-08-28"}]

{"sheet":"Aufgebot 27","index":76,"n_rows":48,"n_cols":26,"rows_kept":48,"cut":false,"hidden":false,"merged":[[31,4,31,14],[31,15,31,26],[0,4,0,21],[2,0,2,26],[2,28,2,30],[4,0,4,4],[4,5,4,11],[4,12,4,13],[4,14,4,19],[4,20,4,23],[6,0,6,12],[6,13,7,13],[6,14,6,26],[6,28,6,29],[6,30,6,31],[7,14,7,26],[8,0,8,12],[8,14,8,26],[9,0,9,5],[9,6,9,12],[9,14,9,19],[9,20,9,26],[10,0,10,5],[10,6,10,12],[10,14,10,19],[10,20,10,26],[11,0,11,12],[11,14,11,26],[13,0,13,5],[13,6,13,10],[13,11,13,18],[13,19,13,26],[14,0,14,5],[14,6,14,10],[14,11,14,18],[14,19,14,26],[26,24,26,26],[16,24,16,26],[19,0,19,26],[22,0,22,11],[22,12,22,14],[24,0,24,2],[18,0,18,5],[18,6,18,11],[18,12,18,16],[18,17,18,26],[16,0,16,11],[16,12,16,15],[16,16,16,18],[16,20,16,23],[35,0,35,5],[35,6,35,26],[26,35,26,38],[28,0,28,26],[30,0,30,26],[31,0,31,3],[31,28,31,29],[32,0,32,26],[33,6,33,7],[33,12,33,14],[33,28,33,29],[34,0,34,26],[26,6,26,8],[26,12,26,18],[26,19,26,20],[26,21,26,22],[36,0,36,26],[37,0,37,26],[38,0,38,26],[39,0,39,2],[39,3,39,5],[39,6,39,8],[39,9,39,11],[39,12,39,14],[39,15,39,17],[39,18,39,20],[39,21,39,23],[39,24,39,26],[41,0,41,2],[41,3,41,20],[41,21,41,23],[41,24,41,26],[50,2,50,8],[43,0,43,26],[44,0,44,8],[44,9,44,15],[44,17,44,24],[47,0,47,19],[47,20,47,22],[47,23,47,26]]}
[{"$nulls":4},{"$f":"Eigaben!Z3","v":"37. Schweizer Cup Männer 2025"}]
[4,null,null,{"$f":"VLOOKUP(A2,Eigaben!Y8:AC14,5,0)","v":"1/4 Final"}]
["Aufgebot Mannschaften"]
[1]
[{"$f":"VLOOKUP(A2,Eigaben!Y8:AC14,5,0)","v":"1/4 Final"},{"$nulls":4},{"$f":"VLOOKUP($A$2,Eigaben!$Y$8:$AC$14,2,1)","v":"2025-07-28"},{"$nulls":6},"bis",null,{"$f":"VLOOKUP($A$2,Eigaben!$Y$8:$AB$14,3,1)","v":"2025-08-15"},{"$nulls":5},"Spiel - Nr.",null,null,null,{"$f":"'Aufgebot 26'!Y5+1","v":27}]
[{"$f":"Eigaben!F66","v":44},{"$nulls":13},{"$f":"Eigaben!G66","v":68}]
["Heim - Mannschaft",{"$nulls":13},"Gast - Mannschaft"]
[{"$f":"(VLOOKUP($A$6,Eigaben!$Y$17:$Z$103,2,0))","v":"STV Oberentfelden   ( 2. Liga )"},{"$nulls":13},{"$f":"(VLOOKUP($O$6,Eigaben!$Y$17:$Z$103,2,0))","v":"STV Oberentfelden   ( NLA )"}]
[{"$f":"VLOOKUP($A$6,Eigaben!$Y$17:$AH$103,3,1)&\" \"&VLOOKUP(A6,Eigaben!Y17:AH103,4,1)","v":"Christian Suter"},{"$nulls":13},{"$f":"VLOOKUP($O$6,Eigaben!$Y$17:$AH$103,3,1)&\" \"&VLOOKUP($O$6,Eigaben!$Y$17:$AH$103,4,1)","v":"Christian Suter"}]
[{"$f":"VLOOKUP($A$6,Eigaben!$Y$17:$AH$103,5,1)","v":"Aeppenhaldenstr 3b"},{"$nulls":5},{"$f":"VLOOKUP($A$6,Eigaben!$Y$17:$AH$103,6,1)&\" \"&VLOOKUP(A6,Eigaben!$Y$17:$AH$103,7,1)","v":"4800 Zofingen"},{"$nulls":7},{"$f":"VLOOKUP($O$6,Eigaben!$Y$17:$AH$103,5,1)","v":"Aeppenhaldenstr 3b"},{"$nulls":5},{"$f":"VLOOKUP($O$6,Eigaben!$Y$17:$AV$103,6,1)&\" \"&VLOOKUP($O$6,Eigaben!$Y$17:$AV$103,7,1)","v":"4800 Zofingen"}]
[{"$f":"IF(Eigaben!AF54=0,\"\",VLOOKUP($A$6,Eigaben!$Y$17:$AH$103,8,1))","v":" "},{"$nulls":5},{"$f":"IF(Eigaben!$AG$54=0,\"\",VLOOKUP($A$6,Eigaben!$Y$17:$AH$103,9,1))","v":"079 476 04 32"},{"$nulls":7},{"$f":"IF(Eigaben!AF55=0,\"\",VLOOKUP($O$6,Eigaben!$Y$17:$AH$103,8,1))","v":" "},{"$nulls":5},{"$f":"IF(Eigaben!$P$54=0,\"\",VLOOKUP($O$6,Eigaben!$Y$17:$AH$103,9,1))","v":"079 476 04 32"}]
[{"$f":"VLOOKUP($A$6,Eigaben!$Y$17:$AH$103,10,1)","v":"christian.suter@faustballcenter.ch"},{"$nulls":13},{"$f":"VLOOKUP($O$6,Eigaben!$Y$17:$AH$103,10,1)","v":"christian.suter@faustballcenter.ch"}]
[null,null,{"$f":"Eigaben!C66","v":27}]
["Datum",{"$nulls":5},"Zeit",{"$nulls":4},"Ort",{"$nulls":7},"Sportplatz"]
[{"$f":"IF(Eigaben!C66=0,\"\",VLOOKUP(C13,Eigaben!$C$28:$V$109,13,0))","v":"2025-08-19"},{"$nulls":5},{"$f":"IF(Eigaben!C66=0,\"\",VLOOKUP(C13,Eigaben!$C$28:$V$110,14,0))","v":"19:30:00"},{"$nulls":4},{"$f":"IF(Eigaben!C66=0,\"\",VLOOKUP(C13,Eigaben!$C$28:$V$1110,15,0))","v":"Oberentfelde"},{"$nulls":7},{"$f":"IF(Eigaben!C66=0,\"\",VLOOKUP(C13,Eigaben!$C$28:$V$110,16,0))","v":"Erlenweg"}]
[null,null,{"$f":"Eigaben!T66","v":95}]
["Aufgebot Schiedsrichter *"]
[]
[{"$f":"IF(C16=0,\"\",VLOOKUP(C16,Schiri_25!A2:L181,3,1)&\" \"&VLOOKUP(C16,Schiri_25!A2:L181,2,1))","v":"Luca Hochuli"},{"$nulls":5},{"$f":"IF(C16=0,\"\",VLOOKUP(C16,Schiri_25!A2:L181,9,1))","v":"076 247 29 07"},{"$nulls":5},{"$f":"IF(C16=0,\"\",IF(VLOOKUP(C16,Schiri_25!A2:M122,8,1)=0,\"\",VLOOKUP(C16,Schiri_25!A2:M122,8,1)))","v":"062 726 30 06"},{"$nulls":4},{"$f":"IF(C16=0,\"\",VLOOKUP(C16,Schiri_25!A2:L181,12,1))","v":"lucahochuli261@gmail.com"}]
[]
["* Im Verhinderungsfall sofort Verbindungsaufnahme mit Bruno Pabst: 079 243 02 08"]
[]
["Eintreffen des Schiedsrichters:",{"$nulls":11},{"$f":"IF(G15=\"\",\"\",G15-\"00:15:00\")","v":"19:15:00"}]
[]
["Tenue:",null,null,"Offizielle Schiedsrichterausrüstung blau / schwarz"]
[]
["Taggeld:",{"$nulls":4},"Fr.","**",{"$nulls":5},"Fahrspesen",{"$nulls":6},"Fr",null,1,null,null,{"$f":"Eigaben!V66","v":17}]
[]
["Die Fahrspesen (einfache Fahrt, Fr. 1,00 pro Km)  werden durch die Heim-Mannschaft bezahlt. \n**  (Das Taggeld wird direkt durch die CUPKO ausbezahlt.)"]
[]
["Modus"]
["Spielmodus:",null,null,null,"5 Gewinnsätze bis 11 (max. 15 : 14)",{"$nulls":10},"Pause zwischen den Sätze 90 s"]
[]
["Bonus-Punkte:",{"$nulls":5},{"$f":"Eigaben!S65","v":3}]
[]
["Durchführung:\n",{"$nulls":5},"Bei einer allfälligen Verschiebung muss spätestens 5 Stunden vor Spielbeginn die Gast-Mannschaft, der Schiedsrichter und deer Chef CUPKO per Telefon und SMS informiert werden."]
[]
["Resultatmeldung"]
[]
["1. Satz",null,null,"2. Satz",null,null,"3. Satz",null,null,"4. Satz",null,null,"5. Satz",null,null,"6. Satz",null,null,"7. Satz",null,null,"8. Satz",null,null,"9. Satz"]
[null,":",null,null,":",null,null,":",null,null,":",null,null,":",null,null,":",null,null,":",null,null,":",null,null,":"]
["Sieger",{"$nulls":20},"Sätze",null,null,":"]
[]
["Resultatmeldung bis spätestens 12 Uhr des Folgetages durch den Schiedsrichter  per E-Mail, SMS oder WhatsApp an  "]
["pabst@swissfaustball.ch",{"$nulls":16},"pabst.bruno@bluewin.ch"]
[]
[]
["Mit sportlichen Grüssen\nSwiss Faustball CUPKO\nBruno Pabst (Präsident)",{"$nulls":19},"Thundorf, ",null,null,{"$f":"TODAY()","v":"2025-08-28"}]

{"sheet":"Spielbericht 27","index":77,"n_rows":58,"n_cols":36,"rows_kept":58,"cut":false,"hidden":false,"merged":[[0,6,1,35],[3,6,3,28],[3,29,3,35],[5,0,5,3],[5,4,5,8],[5,9,5,10],[5,11,5,13],[5,14,5,17],[5,18,5,28],[5,29,5,32],[5,33,5,35],[7,35,8,35],[8,5,8,16],[8,23,8,34],[9,5,9,16],[9,23,9,34],[7,0,7,5],[7,6,7,16],[7,17,8,17],[7,18,7,23],[7,24,7,34],[10,5,10,16],[10,23,10,34],[11,5,11,16],[11,23,11,34],[12,5,12,16],[12,23,12,34],[13,5,13,16],[13,23,13,34],[14,5,14,16],[14,23,14,34],[15,5,15,16],[15,23,15,34],[16,5,16,16],[16,23,16,34],[17,5,17,16],[17,23,17,34],[29,2,30,2],[29,3,30,4],[18,5,18,16],[18,23,18,34],[19,18,19,22],[20,18,20,22],[22,6,22,17],[22,27,22,35],[23,6,23,17],[23,18,23,23],[23,24,23,35],[25,0,25,5],[25,13,25,15],[31,2,32,2],[31,3,32,4],[33,2,34,2],[33,3,34,4],[35,2,36,2],[35,3,36,4],[50,8,50,10],[38,2,39,2],[38,3,39,4],[40,2,41,2],[40,3,41,4],[42,2,43,2],[42,3,43,4],[44,2,45,2],[44,3,45,4],[47,2,48,2],[47,3,48,4],[50,0,51,4],[57,0,59,23],[57,24,59,29],[57,30,59,35],[50,30,50,32],[50,33,51,35],[52,0,53,4],[52,25,52,29],[52,30,52,35],[53,25,53,29],[53,30,53,35],[50,11,50,13],[50,14,50,16],[50,17,50,20],[50,21,50,23],[50,24,50,26],[50,27,50,29],[54,0,54,35],[55,0,55,16],[55,17,55,35],[56,0,56,16],[56,17,56,35]]}
[{"$nulls":6},{"$f":"'Aufgebot A'!E1","v":"37. Schweizer Cup Männer 2025"}]
[]
[]
[{"$nulls":6},"            Spielbericht",{"$nulls":22},{"$f":"'Aufgebot 27'!A5","v":"1/4 Final"}]
[]
["Datum:  ",null,null,null,{"$f":"'Aufgebot 27'!A15","v":"2025-08-19"},{"$nulls":4},"Zeit:",null,{"$f":"'Aufgebot 27'!G15","v":"19:30:00"},null,null,"Spielort:",null,null,null,{"$f":"'Aufgebot 20'!L15","v":"Widnau"},{"$nulls":10}," Spiel-Nr.:",null,null,null,{"$f":"'Aufgebot 27'!Y5","v":27}]
[]
["Mannschaft A:",{"$nulls":5},{"$f":"'Aufgebot 27'!A8","v":"STV Oberentfelden   ( 2. Liga )"},{"$nulls":10},"Verw.","Mannschaft B:",{"$nulls":5},{"$f":"'Aufgebot 27'!O8","v":"STV Oberentfelden   ( NLA )"},{"$nulls":10},"Verw."]
["Nr.",null,"Spf.","Eins.","Jg.","Name/Vorname",{"$nulls":12},"Nr.",null,"Spf.","Eins.","Jg.","Name/Vorname"]
[{"$nulls":4},"","",{"$nulls":16},"",""]
[{"$nulls":4},"","",{"$nulls":10},"",{"$nulls":5},"","",{"$nulls":10},""]
[{"$nulls":4},"","",{"$nulls":10},"",{"$nulls":5},"","",{"$nulls":10},""]
[{"$nulls":4},"","",{"$nulls":10},"",{"$nulls":5},"","",{"$nulls":10},""]
[{"$nulls":4},"","",{"$nulls":10},"",{"$nulls":5},"","",{"$nulls":10},""]
[{"$nulls":4},"","",{"$nulls":10},"",{"$nulls":5},"","",{"$nulls":10},""]
[{"$nulls":4},"","",{"$nulls":10},"",{"$nulls":5},"","",{"$nulls":10},""]
[{"$nulls":4},"","",{"$nulls":10},"",{"$nulls":5},"","",{"$nulls":10},""]
[{"$nulls":4},"","",{"$nulls":10},"",{"$nulls":5},"","",{"$nulls":10},""]
[{"$nulls":4},"","",{"$nulls":16},"",""]
[" Trainer:",{"$nulls":5},"",{"$nulls":11},"Trainer:",{"$nulls":5},""]
[" Betreuer:",{"$nulls":5},"",{"$nulls":11}," Betreuer:"]
[]
[" Schiedsrichter:",{"$nulls":5},{"$f":"'Aufgebot 27'!A19&\" \"&'Aufgebot 27'!G19","v":"Luca Hochuli 076 247 29 07"},{"$nulls":11},"Heimmannschaft Verantw.",{"$nulls":8},{"$f":"'Aufgebot 27'!A9","v":"Christian Suter"}]
[" Linienrichter:",{"$nulls":17}," Linienrichter:"]
[]
["Ballwahl/Anspiel:",{"$nulls":6},"1. Satz:","A",null,"B",null,null,"5. Satz:",null,null,"A",null,"B"]
[]
["Ausserordentliche Vorfälle:  ",{"$nulls":6},"","Protest/Einsprache",null,null,null,"","Ausschluss",null,null,"","Sonstiges",null,null,null,"(Ankreuzen + Bericht mit Unterschrift auf Rückseite)"]
[]
["A",null,"Timeout","1. Satz",null,"A",{"$f":"IF('Aufgebot 27'!$G$34>0,1,\"\")","v":1},{"$f":"IF('Aufgebot 27'!$G$34>0,2,\"\")","v":2},{"$f":"IF('Aufgebot 27'!$G$34=3,3,\"\")","v":3}]
["B",{"$nulls":4},"B"]
["A",null,"Timeout","2. Satz",null,"A",{"$f":"G30","v":1},{"$f":"H30","v":2},{"$f":"I30","v":3}]
["B",{"$nulls":4},"B"]
["A",null,"Timeout","3. Satz",null,"A",{"$f":"G32","v":1},{"$f":"H32","v":2},{"$f":"I32","v":3}]
["B",{"$nulls":4},"B"]
["A",null,"Timeout","4. Satz",null,"A",{"$f":"G34","v":1},{"$f":"H34","v":2},{"$f":"I34","v":3}]
["B",{"$nulls":4},"B"]
[]
["A",null,"Timeout","5. Satz",null,"A",{"$f":"G36","v":1},{"$f":"H36","v":2},{"$f":"I36","v":3}]
["B",{"$nulls":4},"B"]
["A",null,"Timeout","6. Satz",null,"A",{"$f":"G39","v":1},{"$f":"H39","v":2},{"$f":"I39","v":3}]
["B",{"$nulls":4},"B"]
["A",null,"Timeout","7. Satz",null,"A",{"$f":"G41","v":1},{"$f":"H41","v":2},{"$f":"I41","v":3}]
["B",{"$nulls":4},"B"]
["A",null,"Timeout","8. Satz",null,"A",{"$f":"G43","v":1},{"$f":"H43","v":2},{"$f":"I43","v":3}]
["B",{"$nulls":4},"B"]
[]
["A",null,"Timeout","9. Satz",null,"A",{"$f":"G45","v":1},{"$f":"H45","v":2},{"$f":"I45","v":3}]
["B",{"$nulls":4},"B"]
[]
[" Ergebnis    (A:B) ",{"$nulls":4},"1. Satz",null,null,"2. Satz",null,null,"3. Satz",null,null,"4. Satz",null,null,"5. Satz",null,null,null,"6. Satz",null,null,"7. Satz",null,null,"8. Satz",null,null,"9. Satz"]
[{"$nulls":6},":",null,null,":",null,null,":",null,null,":",null,null,":",null,null,null,":",null,null,":",null,null,":",null,null,":"]
["Sieger",{"$nulls":24},"Total Punkte",{"$nulls":4},"Endstand (Sätze)"]
[{"$nulls":25},":",{"$nulls":4},":"]
[" Für die Richtigkeit der Eintragungen"]
[" Schiedsrichter:",{"$nulls":16},"Spielführer A:"]
[" Anschreiber:",{"$nulls":16}," Spielführer B:"]
["Mit sportlichen Grüssen\nSwiss Faustball CUPKO\nBruno Pabst (Präsident)",{"$nulls":23},"Thundorf,",{"$nulls":5},{"$f":"TODAY()","v":"2025-08-28"}]

{"sheet":"Aufgebot 28","index":78,"n_rows":48,"n_cols":26,"rows_kept":48,"cut":false,"hidden":false,"merged":[[31,4,31,14],[31,15,31,26],[41,0,41,2],[41,3,41,20],[41,21,41,23],[41,24,41,26],[36,0,36,26],[37,0,37,26],[38,0,38,26],[39,0,39,2],[39,3,39,5],[39,6,39,8],[39,9,39,11],[39,12,39,14],[39,15,39,17],[39,18,39,20],[50,2,50,8],[43,0,43,26],[44,0,44,8],[44,9,44,15],[44,17,44,24],[47,0,47,19],[47,20,47,22],[47,23,47,26],[39,21,39,23],[39,24,39,26],[35,0,35,5],[35,6,35,26],[26,35,26,38],[28,0,28,26],[30,0,30,26],[31,0,31,3],[31,28,31,29],[32,0,32,26],[33,6,33,7],[33,12,33,14],[33,28,33,29],[34,0,34,26],[26,6,26,8],[26,12,26,18],[26,19,26,20],[26,21,26,22],[26,24,26,26],[16,24,16,26],[19,0,19,26],[22,0,22,11],[22,12,22,14],[24,0,24,2],[18,0,18,5],[18,6,18,11],[18,12,18,16],[18,17,18,26],[16,0,16,11],[16,12,16,15],[16,16,16,18],[16,20,16,23],[13,0,13,5],[13,6,13,10],[13,11,13,18],[13,19,13,26],[14,0,14,5],[14,6,14,10],[14,11,14,18],[14,19,14,26],[10,0,10,5],[10,6,10,12],[10,14,10,19],[10,20,10,26],[11,0,11,12],[11,14,11,26],[8,0,8,12],[8,14,8,26],[9,0,9,5],[9,6,9,12],[9,14,9,19],[9,20,9,26],[6,0,6,12],[6,13,7,13],[6,14,6,26],[6,28,6,29],[6,30,6,31],[7,14,7,26],[0,4,0,21],[2,0,2,26],[2,28,2,30],[4,0,4,4],[4,5,4,11],[4,12,4,13],[4,14,4,19],[4,20,4,23]]}
[{"$nulls":4},{"$f":"Eigaben!Z3","v":"37. Schweizer Cup Männer 2025"}]
[4,null,null,{"$f":"VLOOKUP(A2,Eigaben!Y8:AC14,5,0)","v":"1/4 Final"}]
["Aufgebot Mannschaften"]
[1]
[{"$f":"VLOOKUP(A2,Eigaben!Y8:AC14,5,0)","v":"1/4 Final"},{"$nulls":4},{"$f":"VLOOKUP($A$2,Eigaben!$Y$8:$AC$14,2,1)","v":"2025-07-28"},{"$nulls":6},"bis",null,{"$f":"VLOOKUP($A$2,Eigaben!$Y$8:$AB$14,3,1)","v":"2025-08-15"},{"$nulls":5},"Spiel - Nr.",null,null,null,{"$f":"'Aufgebot 27'!Y5+1","v":28}]
[{"$f":"Eigaben!F67","v":69},{"$nulls":13},{"$f":"Eigaben!G67","v":66}]
["Heim - Mannschaft",{"$nulls":13},"Gast - Mannschaft"]
[{"$f":"(VLOOKUP($A$6,Eigaben!$Y$17:$Z$103,2,0))","v":"FG Rickenbach-Wilen ( NLA )"},{"$nulls":13},{"$f":"(VLOOKUP($O$6,Eigaben!$Y$17:$Z$103,2,0))","v":"FG Elgg-Ettenhausen 1 ( NLA )"}]
[{"$f":"VLOOKUP($A$6,Eigaben!$Y$17:$AH$103,3,1)&\" \"&VLOOKUP(A6,Eigaben!Y17:AH103,4,1)","v":"Jonas Hess"},{"$nulls":13},{"$f":"VLOOKUP($O$6,Eigaben!$Y$17:$AH$103,3,1)&\" \"&VLOOKUP($O$6,Eigaben!$Y$17:$AH$103,4,1)","v":"Markus Fehr"}]
[{"$f":"VLOOKUP($A$6,Eigaben!$Y$17:$AH$103,5,1)","v":" "},{"$nulls":5},{"$f":"VLOOKUP($A$6,Eigaben!$Y$17:$AH$103,6,1)&\" \"&VLOOKUP(A6,Eigaben!$Y$17:$AH$103,7,1)","v":"   "},{"$nulls":7},{"$f":"VLOOKUP($O$6,Eigaben!$Y$17:$AH$103,5,1)","v":"Hintergasse 3a"},{"$nulls":5},{"$f":"VLOOKUP($O$6,Eigaben!$Y$17:$AV$103,6,1)&\" \"&VLOOKUP($O$6,Eigaben!$Y$17:$AV$103,7,1)","v":"8353 Elgg"}]
[{"$f":"IF(Eigaben!AF54=0,\"\",VLOOKUP($A$6,Eigaben!$Y$17:$AH$103,8,1))","v":" "},{"$nulls":5},{"$f":"IF(Eigaben!$AG$54=0,\"\",VLOOKUP($A$6,Eigaben!$Y$17:$AH$103,9,1))","v":"079 900 69 17"},{"$nulls":7},{"$f":"IF(Eigaben!AF55=0,\"\",VLOOKUP($O$6,Eigaben!$Y$17:$AH$103,8,1))","v":" "},{"$nulls":5},{"$f":"IF(Eigaben!$P$54=0,\"\",VLOOKUP($O$6,Eigaben!$Y$17:$AH$103,9,1))","v":"078 613 39 28"}]
[{"$f":"VLOOKUP($A$6,Eigaben!$Y$17:$AH$103,10,1)","v":"spiko@fgriwi.ch"},{"$nulls":13},{"$f":"VLOOKUP($O$6,Eigaben!$Y$17:$AH$103,10,1)","v":"fehr.markus@bluewin.ch"}]
[null,null,{"$f":"Eigaben!C67","v":28}]
["Datum",{"$nulls":5},"Zeit",{"$nulls":4},"Ort",{"$nulls":7},"Sportplatz"]
[{"$f":"IF(Eigaben!C67=0,\"\",VLOOKUP(C13,Eigaben!$C$28:$V$109,13,0))","v":"2025-08-28"},{"$nulls":5},{"$f":"IF(Eigaben!C67=0,\"\",VLOOKUP(C13,Eigaben!$C$28:$V$110,14,0))","v":"18:55:00"},{"$nulls":4},{"$f":"IF(Eigaben!C67=0,\"\",VLOOKUP(C13,Eigaben!$C$28:$V$1110,15,0))","v":"Rickenbach"},{"$nulls":7},{"$f":"IF(Eigaben!C67=0,\"\",VLOOKUP(C13,Eigaben!$C$28:$V$110,16,0))","v":"Aegelsee"}]
[null,null,{"$f":"Eigaben!T67","v":9}]
["Aufgebot Schiedsrichter *"]
[]
[{"$f":"IF(C16=0,\"\",VLOOKUP(C16,Schiri_25!A2:L181,3,1)&\" \"&VLOOKUP(C16,Schiri_25!A2:L181,2,1))","v":"Reto Mähr"},{"$nulls":5},{"$f":"IF(C16=0,\"\",VLOOKUP(C16,Schiri_25!A2:L181,9,1))","v":"+41 79 452 77 62"},{"$nulls":5},{"$f":"IF(C16=0,\"\",IF(VLOOKUP(C16,Schiri_25!A2:M122,8,1)=0,\"\",VLOOKUP(C16,Schiri_25!A2:M122,8,1)))","v":""},{"$nulls":4},{"$f":"IF(C16=0,\"\",VLOOKUP(C16,Schiri_25!A2:L181,12,1))","v":"rmaehr@bluewin.ch"}]
[]
["* Im Verhinderungsfall sofort Verbindungsaufnahme mit Bruno Pabst: 079 243 02 08"]
[]
["Eintreffen des Schiedsrichters:",{"$nulls":11},{"$f":"IF(G15=\"\",\"\",G15-\"00:15:00\")","v":"18:40:00"}]
[]
["Tenue:",null,null,"Offizielle Schiedsrichterausrüstung blau / schwarz"]
[]
["Taggeld:",{"$nulls":4},"Fr.","**",{"$nulls":5},"Fahrspesen",{"$nulls":6},"Fr",null,1,null,null,{"$f":"Eigaben!V67","v":9}]
[]
["Die Fahrspesen (einfache Fahrt, Fr. 1,00 pro Km)  werden durch die Heim-Mannschaft bezahlt. \n**  (Das Taggeld wird direkt durch die CUPKO ausbezahlt.)"]
[]
["Modus"]
["Spielmodus:",null,null,null,"5 Gewinnsätze bis 11 (max. 15 : 14)",{"$nulls":10},"Pause zwischen den Sätzen 90 s"]
[]
["Bonus-Punkte:",{"$nulls":5},{"$f":"Eigaben!S67","v":0}]
[]
["Durchführung:\n",{"$nulls":5},"Bei einer allfälligen Verschiebung muss spätestens 5 Stunden vor Spielbeginn die Gast-Mannschaft, der Schiedsrichter und deer Chef CUPKO per Telefon und SMS informiert werden."]
[]
["Resultatmeldung"]
[]
["1. Satz",null,null,"2. Satz",null,null,"3. Satz",null,null,"4. Satz",null,null,"5. Satz",null,null,"6. Satz",null,null,"7. Satz",null,null,"8. Satz",null,null,"9. Satz"]
[null,":",null,null,":",null,null,":",null,null,":",null,null,":",null,null,":",null,null,":",null,null,":",null,null,":"]
["Sieger",{"$nulls":20},"Sätze",null,null,":"]
[]
["Resultatmeldung bis spätestens 12 Uhr des Folgetages durch den Schiedsrichter  per E-Mail, SMS oder WhatsApp an  "]
["pabst@swissfaustball.ch",{"$nulls":16},"pabst.bruno@bluewin.ch"]
[]
[]
["Mit sportlichen Grüssen\nSwiss Faustball CUPKO\nBruno Pabst (Präsident)",{"$nulls":19},"Thundorf, ",null,null,{"$f":"TODAY()","v":"2025-08-28"}]

{"sheet":"Spielbericht 28","index":79,"n_rows":58,"n_cols":36,"rows_kept":58,"cut":false,"hidden":false,"merged":[[54,0,54,35],[55,0,55,16],[55,17,55,35],[56,0,56,16],[56,17,56,35],[57,0,59,23],[57,24,59,29],[57,30,59,35],[50,30,50,32],[50,33,51,35],[52,0,53,4],[52,25,52,29],[52,30,52,35],[53,25,53,29],[53,30,53,35],[50,11,50,13],[50,14,50,16],[50,17,50,20],[50,21,50,23],[50,24,50,26],[50,27,50,29],[35,2,36,2],[35,3,36,4],[50,8,50,10],[38,2,39,2],[38,3,39,4],[40,2,41,2],[40,3,41,4],[42,2,43,2],[42,3,43,4],[44,2,45,2],[44,3,45,4],[47,2,48,2],[47,3,48,4],[50,0,51,4],[25,13,25,15],[31,2,32,2],[31,3,32,4],[33,2,34,2],[33,3,34,4],[16,5,16,16],[16,23,16,34],[17,5,17,16],[17,23,17,34],[29,2,30,2],[29,3,30,4],[18,5,18,16],[18,23,18,34],[19,18,19,22],[20,18,20,22],[22,6,22,17],[22,27,22,35],[23,6,23,17],[23,18,23,23],[23,24,23,35],[25,0,25,5],[13,5,13,16],[13,23,13,34],[14,5,14,16],[14,23,14,34],[15,5,15,16],[15,23,15,34],[10,5,10,16],[10,23,10,34],[11,5,11,16],[11,23,11,34],[12,5,12,16],[12,23,12,34],[7,35,8,35],[8,5,8,16],[8,23,8,34],[9,5,9,16],[9,23,9,34],[7,0,7,5],[7,6,7,16],[7,17,8,17],[7,18,7,23],[7,24,7,34],[0,6,1,35],[3,6,3,28],[3,29,3,35],[5,0,5,3],[5,4,5,8],[5,9,5,10],[5,11,5,13],[5,14,5,17],[5,18,5,28],[5,29,5,32],[5,33,5,35]]}
[{"$nulls":6},{"$f":"'Aufgebot A'!E1","v":"37. Schweizer Cup Männer 2025"}]
[]
[]
[{"$nulls":6},"            Spielbericht",{"$nulls":22},{"$f":"'Aufgebot 28'!A5","v":"1/4 Final"}]
[]
["Datum:  ",null,null,null,{"$f":"'Aufgebot 28'!A15","v":"2025-08-28"},{"$nulls":4},"Zeit:",null,{"$f":"'Aufgebot 28'!G15","v":"18:55:00"},null,null,"Spielort:",null,null,null,{"$f":"'Aufgebot 28'!L15","v":"Rickenbach"},{"$nulls":10}," Spiel-Nr.:",null,null,null,{"$f":"'Aufgebot 28'!Y5","v":28}]
[]
["Mannschaft A:",{"$nulls":5},{"$f":"'Aufgebot 28'!A8","v":"FG Rickenbach-Wilen ( NLA )"},{"$nulls":10},"Verw.","Mannschaft B:",{"$nulls":5},{"$f":"'Aufgebot 28'!O8","v":"FG Elgg-Ettenhausen 1 ( NLA )"},{"$nulls":10},"Verw."]
["Nr.",null,"Spf.","Eins.","Jg.","Name/Vorname",{"$nulls":12},"Nr.",null,"Spf.","Eins.","Jg.","Name/Vorname"]
[{"$nulls":4},"","",{"$nulls":16},"",""]
[{"$nulls":4},"","",{"$nulls":10},"",{"$nulls":5},"","",{"$nulls":10},""]
[{"$nulls":4},"","",{"$nulls":10},"",{"$nulls":5},"","",{"$nulls":10},""]
[{"$nulls":4},"","",{"$nulls":10},"",{"$nulls":5},"","",{"$nulls":10},""]
[{"$nulls":4},"","",{"$nulls":10},"",{"$nulls":5},"","",{"$nulls":10},""]
[{"$nulls":4},"","",{"$nulls":10},"",{"$nulls":5},"","",{"$nulls":10},""]
[{"$nulls":4},"","",{"$nulls":10},"",{"$nulls":5},"","",{"$nulls":10},""]
[{"$nulls":4},"","",{"$nulls":10},"",{"$nulls":5},"","",{"$nulls":10},""]
[{"$nulls":4},"","",{"$nulls":10},"",{"$nulls":5},"","",{"$nulls":10},""]
[{"$nulls":4},"","",{"$nulls":16},"",""]
[" Trainer:",{"$nulls":5},"",{"$nulls":11},"Trainer:",{"$nulls":5},""]
[" Betreuer:",{"$nulls":5},"",{"$nulls":11}," Betreuer:"]
[]
[" Schiedsrichter:",{"$nulls":5},{"$f":"'Aufgebot 28'!A19&\" \"&'Aufgebot 28'!G19","v":"Reto Mähr +41 79 452 77 62"},{"$nulls":11},"Heimmannschaft Verantw.",{"$nulls":8},{"$f":"'Aufgebot 28'!A9","v":"Jonas Hess"}]
[" Linienrichter:",{"$nulls":17}," Linienrichter:"]
[]
["Ballwahl/Anspiel:",{"$nulls":6},"1. Satz:","A",null,"B",null,null,"5. Satz:",null,null,"A",null,"B"]
[]
["Ausserordentliche Vorfälle:  ",{"$nulls":6},"","Protest/Einsprache",null,null,null,"","Ausschluss",null,null,"","Sonstiges",null,null,null,"(Ankreuzen + Bericht mit Unterschrift auf Rückseite)"]
[]
["A",null,"Timeout","1. Satz",null,"A",{"$f":"IF('Aufgebot 28'!$G$34>0,1,\"\")","v":""},{"$f":"IF('Aufgebot 28'!$G$34>0,2,\"\")","v":""},{"$f":"IF('Aufgebot 28'!$G$34=3,3,\"\")","v":""}]
["B",{"$nulls":4},"B"]
["A",null,"Timeout","2. Satz",null,"A",{"$f":"G30","v":""},{"$f":"H30","v":""},{"$f":"I30","v":""}]
["B",{"$nulls":4},"B"]
["A",null,"Timeout","3. Satz",null,"A",{"$f":"G32","v":""},{"$f":"H32","v":""},{"$f":"I32","v":""}]
["B",{"$nulls":4},"B"]
["A",null,"Timeout","4. Satz",null,"A",{"$f":"G34","v":""},{"$f":"H34","v":""},{"$f":"I34","v":""}]
["B",{"$nulls":4},"B"]
[]
["A",null,"Timeout","5. Satz",null,"A",{"$f":"G36","v":""},{"$f":"H36","v":""},{"$f":"I36","v":""}]
["B",{"$nulls":4},"B"]
["A",null,"Timeout","6. Satz",null,"A",{"$f":"G39","v":""},{"$f":"H39","v":""},{"$f":"I39","v":""}]
["B",{"$nulls":4},"B"]
["A",null,"Timeout","7. Satz",null,"A",{"$f":"G41","v":""},{"$f":"H41","v":""},{"$f":"I41","v":""}]
["B",{"$nulls":4},"B"]
["A",null,"Timeout","8. Satz",null,"A",{"$f":"G43","v":""},{"$f":"H43","v":""},{"$f":"I43","v":""}]
["B",{"$nulls":4},"B"]
[]
["A",null,"Timeout","9. Satz",null,"A",{"$f":"G45","v":""},{"$f":"H45","v":""},{"$f":"I45","v":""}]
["B",{"$nulls":4},"B"]
[]
[" Ergebnis    (A:B) ",{"$nulls":4},"1. Satz",null,null,"2. Satz",null,null,"3. Satz",null,null,"4. Satz",null,null,"5. Satz",null,null,null,"6. Satz",null,null,"7. Satz",null,null,"8. Satz",null,null,"9. Satz"]
[{"$nulls":6},":",null,null,":",null,null,":",null,null,":",null,null,":",null,null,null,":",null,null,":",null,null,":",null,null,":"]
["Sieger",{"$nulls":24},"Total Punkte",{"$nulls":4},"Endstand (Sätze)"]
[{"$nulls":25},":",{"$nulls":4},":"]
[" Für die Richtigkeit der Eintragungen"]
[" Schiedsrichter:",{"$nulls":16},"Spielführer A:"]
[" Anschreiber:",{"$nulls":16}," Spielführer B:"]
["Mit sportlichen Grüssen\nSwiss Faustball CUPKO\nBruno Pabst (Präsident)",{"$nulls":23},"Thundorf,",{"$nulls":5},{"$f":"TODAY()","v":"2025-08-28"}]

{"sheet":"Aufgebot 29","index":80,"n_rows":48,"n_cols":26,"rows_kept":48,"cut":false,"hidden":false,"merged":[[31,4,31,14],[31,15,31,26],[41,0,41,2],[41,3,41,20],[41,21,41,23],[41,24,41,26],[36,0,36,26],[37,0,37,26],[38,0,38,26],[39,0,39,2],[39,3,39,5],[39,6,39,8],[39,9,39,11],[39,12,39,14],[39,15,39,17],[39,18,39,20],[50,2,50,8],[43,0,43,26],[44,0,44,8],[44,9,44,15],[44,17,44,24],[47,0,47,19],[47,20,47,22],[47,23,47,26],[39,21,39,23],[39,24,39,26],[35,0,35,5],[35,6,35,26],[26,35,26,38],[28,0,28,26],[30,0,30,26],[31,0,31,3],[31,28,31,29],[32,0,32,26],[33,6,33,7],[33,12,33,14],[33,28,33,29],[34,0,34,26],[26,6,26,8],[26,12,26,18],[26,19,26,20],[26,21,26,22],[26,24,26,26],[16,24,16,26],[19,0,19,26],[22,0,22,11],[22,12,22,14],[24,0,24,2],[18,0,18,5],[18,6,18,11],[18,12,18,16],[18,17,18,26],[16,0,16,11],[16,12,16,15],[16,16,16,18],[16,20,16,23],[13,0,13,5],[13,6,13,10],[13,11,13,18],[13,19,13,26],[14,0,14,5],[14,6,14,10],[14,11,14,18],[14,19,14,26],[10,0,10,5],[10,6,10,12],[10,14,10,19],[10,20,10,26],[11,0,11,12],[11,14,11,26],[8,0,8,12],[8,14,8,26],[9,0,9,5],[9,6,9,12],[9,14,9,19],[9,20,9,26],[6,0,6,12],[6,13,7,13],[6,14,6,26],[6,28,6,29],[6,30,6,31],[7,14,7,26],[0,4,0,21],[2,0,2,26],[2,28,2,30],[4,0,4,4],[4,5,4,11],[4,12,4,13],[4,14,4,19],[4,20,4,23]]}
[{"$nulls":4},{"$f":"Eigaben!Z3","v":"37. Schweizer Cup Männer 2025"}]
[5,null,null,{"$f":"VLOOKUP(A2,Eigaben!Y8:AC14,5,0)","v":"1/2 Final"}]
["Aufgebot Mannschaften"]
[1]
[{"$f":"VLOOKUP(A2,Eigaben!Y8:AC14,5,0)","v":"1/2 Final"},{"$nulls":4},{"$f":"VLOOKUP($A$2,Eigaben!$Y$8:$AC$14,2,1)","v":"2025-08-18"},{"$nulls":6},"bis",null,{"$f":"VLOOKUP($A$2,Eigaben!$Y$8:$AB$14,3,1)","v":"2025-09-05"},{"$nulls":5},"Spiel - Nr.",null,null,null,{"$f":"'Aufgebot 28'!Y5+1","v":29}]
[{"$f":"Eigaben!F73","v":65},{"$nulls":13},{"$f":"Eigaben!G73","v":64}]
["Heim - Mannschaft",{"$nulls":13},"Gast - Mannschaft"]
[{"$f":"(VLOOKUP($A$6,Eigaben!$Y$17:$Z$103,2,0))","v":"SVD Diepoldsau-Schmitter (NLA)"},{"$nulls":13},{"$f":"(VLOOKUP($O$6,Eigaben!$Y$17:$Z$103,2,0))","v":"STV Affeltrangen  ( NLA )"}]
[{"$f":"VLOOKUP($A$6,Eigaben!$Y$17:$AH$103,3,1)&\" \"&VLOOKUP(A6,Eigaben!Y17:AH103,4,1)","v":"Lorena Lipp"},{"$nulls":13},{"$f":"VLOOKUP($O$6,Eigaben!$Y$17:$AH$103,3,1)&\" \"&VLOOKUP($O$6,Eigaben!$Y$17:$AH$103,4,1)","v":"Andreas Ribi"}]
[{"$f":"VLOOKUP($A$6,Eigaben!$Y$17:$AH$103,5,1)","v":"Unterdorfstr 47"},{"$nulls":5},{"$f":"VLOOKUP($A$6,Eigaben!$Y$17:$AH$103,6,1)&\" \"&VLOOKUP(A6,Eigaben!$Y$17:$AH$103,7,1)","v":"9443 Widnau"},{"$nulls":7},{"$f":"VLOOKUP($O$6,Eigaben!$Y$17:$AH$103,5,1)","v":"Unterdorfstr 2b"},{"$nulls":5},{"$f":"VLOOKUP($O$6,Eigaben!$Y$17:$AV$103,6,1)&\" \"&VLOOKUP($O$6,Eigaben!$Y$17:$AV$103,7,1)","v":"8507 Hörhausen"}]
[{"$f":"IF(Eigaben!AF54=0,\"\",VLOOKUP($A$6,Eigaben!$Y$17:$AH$103,8,1))","v":" "},{"$nulls":5},{"$f":"IF(Eigaben!$AG$54=0,\"\",VLOOKUP($A$6,Eigaben!$Y$17:$AH$103,9,1))","v":"076 573 09 99"},{"$nulls":7},{"$f":"IF(Eigaben!AF55=0,\"\",VLOOKUP($O$6,Eigaben!$Y$17:$AH$103,8,1))","v":" "},{"$nulls":5},{"$f":"IF(Eigaben!$P$54=0,\"\",VLOOKUP($O$6,Eigaben!$Y$17:$AH$103,9,1))","v":"079 585 70 85"}]
[{"$f":"VLOOKUP($A$6,Eigaben!$Y$17:$AH$103,10,1)","v":"spiko@faustball-svd.clubdesk.com"},{"$nulls":13},{"$f":"VLOOKUP($O$6,Eigaben!$Y$17:$AH$103,10,1)","v":"faustball@stv-affeltrangen.ch "}]
[null,null,{"$f":"Eigaben!C73","v":29}]
["Datum",{"$nulls":5},"Zeit",{"$nulls":4},"Ort",{"$nulls":7},"Sportplatz"]
[{"$f":"IF(Eigaben!C73=0,\"\",VLOOKUP(C13,Eigaben!$C$28:$V$109,13,0))","v":"2025-08-28"},{"$nulls":5},{"$f":"IF(Eigaben!C73=0,\"\",VLOOKUP(C13,Eigaben!$C$28:$V$110,14,0))","v":"19:00:00"},{"$nulls":4},{"$f":"IF(Eigaben!C73=0,\"\",VLOOKUP(C13,Eigaben!$C$28:$V$1110,15,0))","v":"Diepoldsau"},{"$nulls":7},{"$f":"IF(Eigaben!C73=0,\"\",VLOOKUP(C13,Eigaben!$C$28:$V$110,16,0))","v":"Diepoldsau"}]
[null,null,{"$f":"Eigaben!T73","v":13}]
["Aufgebot Schiedsrichter *"]
[]
[{"$f":"IF(C16=0,\"\",VLOOKUP(C16,Schiri_25!A2:L181,3,1)&\" \"&VLOOKUP(C16,Schiri_25!A2:L181,2,1))","v":"Patrick Sieber"},{"$nulls":5},{"$f":"IF(C16=0,\"\",VLOOKUP(C16,Schiri_25!A2:L181,9,1))","v":"+41 79 473 61 88"},{"$nulls":5},{"$f":"IF(C16=0,\"\",IF(VLOOKUP(C16,Schiri_25!A2:M122,8,1)=0,\"\",VLOOKUP(C16,Schiri_25!A2:M122,8,1)))","v":"+41 79 473 61 88"},{"$nulls":4},{"$f":"IF(C16=0,\"\",VLOOKUP(C16,Schiri_25!A2:L181,12,1))","v":"sieber.patrick@rsnweb.ch"}]
[]
["* Im Verhinderungsfall sofort Verbindungsaufnahme mit Bruno Pabst: 079 243 02 08"]
[]
["Eintreffen des Schiedsrichters:",{"$nulls":11},{"$f":"IF(G15=\"\",\"\",G15-\"00:15:00\")","v":"18:45:00"}]
[]
["Tenue:",null,null,"Offizielle Schiedsrichterausrüstung blau / schwarz"]
[]
["Taggeld:",{"$nulls":4},"Fr.","**",{"$nulls":5},"Fahrspesen",{"$nulls":6},"Fr",null,1,null,null,{"$f":"Eigaben!V73","v":5}]
[]
["Die Fahrspesen (einfache Fahrt, Fr. 1,00 pro Km)  werden durch die Heim-Mannschaft bezahlt. \n**  (Das Taggeld wird direkt durch die CUPKO ausbezahlt.)"]
[]
["Modus"]
["Spielmodus:",null,null,null,"5 Gewinnsätze bis 11 (max. 15 : 14)",{"$nulls":10},"Pause zwischen den Sätzen 90 s"]
[]
["Bonus-Punkte:",{"$nulls":5},{"$f":"Eigaben!S73","v":0}]
[]
["Durchführung:\n",{"$nulls":5},"Bei einer allfälligen Verschiebung muss spätestens 5 Stunden vor Spielbeginn die Gast-Mannschaft, der Schiedsrichter und deer Chef CUPKO per Telefon und SMS informiert werden."]
[]
["Resultatmeldung"]
[]
["1. Satz",null,null,"2. Satz",null,null,"3. Satz",null,null,"4. Satz",null,null,"5. Satz",null,null,"6. Satz",null,null,"7. Satz",null,null,"8. Satz",null,null,"9. Satz"]
[null,":",null,null,":",null,null,":",null,null,":",null,null,":",null,null,":",null,null,":",null,null,":",null,null,":"]
["Sieger",{"$nulls":20},"Sätze",null,null,":"]
[]
["Resultatmeldung bis spätestens 12 Uhr des Folgetages durch den Schiedsrichter  per E-Mail, SMS oder WhatsApp an  "]
["pabst@swissfaustball.ch",{"$nulls":16},"pabst.bruno@bluewin.ch"]
[]
[]
["Mit sportlichen Grüssen\nSwiss Faustball CUPKO\nBruno Pabst (Präsident)",{"$nulls":19},"Thundorf, ",null,null,{"$f":"TODAY()","v":"2025-08-28"}]

{"sheet":"Anfrage 29","index":81,"n_rows":48,"n_cols":26,"rows_kept":48,"cut":false,"hidden":true,"merged":[[41,0,41,2],[41,3,41,20],[41,21,41,23],[41,24,41,26],[50,2,50,8],[43,0,43,26],[44,0,44,8],[44,9,44,15],[44,17,44,24],[47,0,47,19],[47,20,47,22],[47,23,47,26],[36,0,36,26],[37,0,37,26],[38,0,38,26],[39,0,39,2],[39,3,39,5],[39,6,39,8],[39,9,39,11],[39,12,39,14],[39,15,39,17],[39,18,39,20],[39,21,39,23],[39,24,39,26],[35,0,35,5],[35,6,35,26],[26,35,26,38],[28,0,28,26],[30,0,30,26],[31,0,31,3],[31,4,31,14],[31,15,31,26],[31,28,31,29],[32,0,32,26],[33,6,33,7],[33,12,33,14],[33,28,33,29],[34,0,34,26],[26,6,26,8],[26,12,26,18],[26,19,26,20],[26,21,26,22],[26,24,26,26],[16,24,16,26],[19,0,19,26],[22,0,22,11],[22,12,22,14],[24,0,24,2],[18,0,18,5],[18,6,18,11],[18,12,18,16],[18,17,18,26],[16,0,16,11],[16,12,16,15],[16,16,16,18],[16,20,16,23],[13,0,13,5],[13,6,13,10],[13,11,13,18],[13,19,13,26],[14,0,14,5],[14,6,14,10],[14,11,14,18],[14,19,14,26],[10,0,10,5],[10,6,10,12],[10,14,10,19],[10,20,10,26],[11,0,11,12],[11,14,11,26],[8,0,8,12],[8,14,8,26],[9,0,9,5],[9,6,9,12],[9,14,9,19],[9,20,9,26],[6,0,6,12],[6,13,7,13],[6,14,6,26],[6,28,6,29],[6,30,6,31],[7,14,7,26],[0,4,0,21],[2,0,2,26],[2,28,2,30],[4,0,4,4],[4,5,4,11],[4,12,4,13],[4,14,4,19],[4,20,4,23]]}
[{"$nulls":4},{"$f":"Eigaben!Z3","v":"37. Schweizer Cup Männer 2025"}]
[5,null,null,{"$f":"VLOOKUP(A2,Eigaben!Y8:AC14,5,0)","v":"1/2 Final"}]
["Aufgebot Mannschaften"]
[1]
[{"$f":"VLOOKUP(A2,Eigaben!Y8:AC14,5,0)","v":"1/2 Final"},{"$nulls":4},{"$f":"VLOOKUP($A$2,Eigaben!$Y$8:$AC$14,2,1)","v":"2025-08-18"},{"$nulls":6},"bis",null,{"$f":"VLOOKUP($A$2,Eigaben!$Y$8:$AB$14,3,1)","v":"2025-09-05"},{"$nulls":5},"Spiel - Nr.",null,null,null,{"$f":"'Aufgebot 28'!Y5+1","v":29}]
[{"$f":"Eigaben!F73","v":65},{"$nulls":13},{"$f":"Eigaben!G73","v":64}]
["Heim - Mannschaft",{"$nulls":13},"Gast - Mannschaft"]
[{"$f":"(VLOOKUP($A$6,Eigaben!$Y$17:$Z$103,2,0))","v":"SVD Diepoldsau-Schmitter (NLA)"},{"$nulls":13},{"$f":"(VLOOKUP($O$6,Eigaben!$Y$17:$Z$103,2,0))","v":"STV Affeltrangen  ( NLA )"}]
[{"$f":"VLOOKUP($A$6,Eigaben!$Y$17:$AH$103,3,1)&\" \"&VLOOKUP(A6,Eigaben!Y17:AH103,4,1)","v":"Lorena Lipp"},{"$nulls":13},{"$f":"VLOOKUP($O$6,Eigaben!$Y$17:$AH$103,3,1)&\" \"&VLOOKUP($O$6,Eigaben!$Y$17:$AH$103,4,1)","v":"Andreas Ribi"}]
[{"$f":"VLOOKUP($A$6,Eigaben!$Y$17:$AH$103,5,1)","v":"Unterdorfstr 47"},{"$nulls":5},{"$f":"VLOOKUP($A$6,Eigaben!$Y$17:$AH$103,6,1)&\" \"&VLOOKUP(A6,Eigaben!$Y$17:$AH$103,7,1)","v":"9443 Widnau"},{"$nulls":7},{"$f":"VLOOKUP($O$6,Eigaben!$Y$17:$AH$103,5,1)","v":"Unterdorfstr 2b"},{"$nulls":5},{"$f":"VLOOKUP($O$6,Eigaben!$Y$17:$AV$103,6,1)&\" \"&VLOOKUP($O$6,Eigaben!$Y$17:$AV$103,7,1)","v":"8507 Hörhausen"}]
[{"$f":"IF(Eigaben!AF54=0,\"\",VLOOKUP($A$6,Eigaben!$Y$17:$AH$103,8,1))","v":" "},{"$nulls":5},{"$f":"IF(Eigaben!$AG$54=0,\"\",VLOOKUP($A$6,Eigaben!$Y$17:$AH$103,9,1))","v":"076 573 09 99"},{"$nulls":7},{"$f":"IF(Eigaben!AF55=0,\"\",VLOOKUP($O$6,Eigaben!$Y$17:$AH$103,8,1))","v":" "},{"$nulls":5},{"$f":"IF(Eigaben!$P$54=0,\"\",VLOOKUP($O$6,Eigaben!$Y$17:$AH$103,9,1))","v":"079 585 70 85"}]
[{"$f":"VLOOKUP($A$6,Eigaben!$Y$17:$AH$103,10,1)","v":"spiko@faustball-svd.clubdesk.com"},{"$nulls":13},{"$f":"VLOOKUP($O$6,Eigaben!$Y$17:$AH$103,10,1)","v":"faustball@stv-affeltrangen.ch "}]
[]
["Datum",{"$nulls":5},"Zeit",{"$nulls":4},"Ort",{"$nulls":7},"Sportplatz"]
[{"$f":"IF(Eigaben!C73=0,\"\",VLOOKUP(C13,Eigaben!$C$28:$V$109,13,0))","v":{"$error":"#N/A"}},{"$nulls":5},{"$f":"IF(Eigaben!C73=0,\"\",VLOOKUP(C13,Eigaben!$C$28:$V$110,14,0))","v":{"$error":"#N/A"}},{"$nulls":4},{"$f":"IF(Eigaben!C73=0,\"\",VLOOKUP(C13,Eigaben!$C$28:$V$1110,15,0))","v":{"$error":"#N/A"}},{"$nulls":7},{"$f":"IF(Eigaben!C73=0,\"\",VLOOKUP(C13,Eigaben!$C$28:$V$110,16,0))","v":{"$error":"#N/A"}}]
[null,null,{"$f":"Eigaben!T73","v":13}]
["Aufgebot Schiedsrichter *"]
[]
[{"$f":"IF(C16=0,\"\",VLOOKUP(C16,Schiri_25!A2:L181,3,1)&\" \"&VLOOKUP(C16,Schiri_25!A2:L181,2,1))","v":"Patrick Sieber"},{"$nulls":5},{"$f":"IF(C16=0,\"\",VLOOKUP(C16,Schiri_25!A2:L181,9,1))","v":"+41 79 473 61 88"},{"$nulls":5},{"$f":"IF(C16=0,\"\",IF(VLOOKUP(C16,Schiri_25!A2:M122,8,1)=0,\"\",VLOOKUP(C16,Schiri_25!A2:M122,8,1)))","v":"+41 79 473 61 88"},{"$nulls":4},{"$f":"IF(C16=0,\"\",VLOOKUP(C16,Schiri_25!A2:L181,12,1))","v":"sieber.patrick@rsnweb.ch"}]
[]
["* Im Verhinderungsfall sofort Verbindungsaufnahme mit Bruno Pabst: 079 243 02 08"]
[]
["Eintreffen des Schiedsrichters:",{"$nulls":11},{"$f":"IF(G15=\"\",\"\",G15-\"00:15:00\")","v":{"$error":"#N/A"}}]
[]
["Tenue:",null,null,"Offizielle Schiedsrichterausrüstung blau / schwarz"]
[]
["Taggeld:",{"$nulls":4},"Fr.","**",{"$nulls":5},"Fahrspesen",{"$nulls":6},"Fr",null,1,null,null,{"$f":"Eigaben!V73","v":5}]
[]
["Die Fahrspesen (einfache Fahrt, Fr. 1,00 pro Km)  werden durch die Heim-Mannschaft bezahlt. \n**  (Das Taggeld wird direkt durch die CUPKO ausbezahlt.)"]
[]
["Modus"]
["Spielmodus:",null,null,null,"5 Gewinnsätze bis 11 (max. 15 : 14)",{"$nulls":10},"Pause zwischen den Sätzen 90 s"]
[]
["Bonus-Punkte:",{"$nulls":5},{"$f":"Eigaben!S73","v":0}]
[]
["Durchführung:\n",{"$nulls":5},"Bei einer allfälligen Verschiebung muss spätestens 5 Stunden vor Spielbeginn die Gast-Mannschaft, der Schiedsrichter und deer Chef CUPKO per Telefon und SMS informiert werden."]
[]
["Resultatmeldung"]
[]
["1. Satz",null,null,"2. Satz",null,null,"3. Satz",null,null,"4. Satz",null,null,"5. Satz",null,null,"6. Satz",null,null,"7. Satz",null,null,"8. Satz",null,null,"9. Satz"]
[null,":",null,null,":",null,null,":",null,null,":",null,null,":",null,null,":",null,null,":",null,null,":",null,null,":"]
["Sieger",{"$nulls":20},"Sätze",null,null,":"]
[]
["Resultatmeldung bis spätestens 12 Uhr des Folgetages durch den Schiedsrichter  per E-Mail, SMS oder WhatsApp an  "]
["pabst@swissfaustball.ch",{"$nulls":16},"pabst.bruno@bluewin.ch"]
[]
[]
["Mit sportlichen Grüssen\nSwiss Faustball CUPKO\nBruno Pabst (Präsident)",{"$nulls":19},"Thundorf, ",null,null,{"$f":"TODAY()","v":"2025-08-28"}]

{"sheet":"Spielbericht 29","index":82,"n_rows":58,"n_cols":36,"rows_kept":58,"cut":false,"hidden":false,"merged":[[54,0,54,35],[55,0,55,16],[55,17,55,35],[56,0,56,16],[56,17,56,35],[57,0,59,23],[57,24,59,29],[57,30,59,35],[50,30,50,32],[50,33,51,35],[52,0,53,4],[52,25,52,29],[52,30,52,35],[53,25,53,29],[53,30,53,35],[50,11,50,13],[50,14,50,16],[50,17,50,20],[50,21,50,23],[50,24,50,26],[50,27,50,29],[35,2,36,2],[35,3,36,4],[50,8,50,10],[38,2,39,2],[38,3,39,4],[40,2,41,2],[40,3,41,4],[42,2,43,2],[42,3,43,4],[44,2,45,2],[44,3,45,4],[47,2,48,2],[47,3,48,4],[50,0,51,4],[25,13,25,15],[31,2,32,2],[31,3,32,4],[33,2,34,2],[33,3,34,4],[16,5,16,16],[16,23,16,34],[17,5,17,16],[17,23,17,34],[29,2,30,2],[29,3,30,4],[18,5,18,16],[18,23,18,34],[19,18,19,22],[20,18,20,22],[22,6,22,17],[22,27,22,35],[23,6,23,17],[23,18,23,23],[23,24,23,35],[25,0,25,5],[13,5,13,16],[13,23,13,34],[14,5,14,16],[14,23,14,34],[15,5,15,16],[15,23,15,34],[10,5,10,16],[10,23,10,34],[11,5,11,16],[11,23,11,34],[12,5,12,16],[12,23,12,34],[7,35,8,35],[8,5,8,16],[8,23,8,34],[9,5,9,16],[9,23,9,34],[7,0,7,5],[7,6,7,16],[7,17,8,17],[7,18,7,23],[7,24,7,34],[0,6,1,35],[3,6,3,28],[3,29,3,35],[5,0,5,3],[5,4,5,8],[5,9,5,10],[5,11,5,13],[5,14,5,17],[5,18,5,28],[5,29,5,32],[5,33,5,35]]}
[{"$nulls":6},{"$f":"'Aufgebot A'!E1","v":"37. Schweizer Cup Männer 2025"}]
[]
[]
[{"$nulls":6},"            Spielbericht",{"$nulls":22},{"$f":"'Aufgebot 29'!A5","v":"1/2 Final"}]
[]
["Datum:  ",null,null,null,{"$f":"'Aufgebot 29'!A15","v":"2025-08-28"},{"$nulls":4},"Zeit:",null,{"$f":"'Aufgebot 29'!G15","v":"19:00:00"},null,null,"Spielort:",null,null,null,{"$f":"'Aufgebot 29'!L15","v":"Diepoldsau"},{"$nulls":10}," Spiel-Nr.:",null,null,null,{"$f":"'Aufgebot 29'!Y5","v":29}]
[]
["Mannschaft A:",{"$nulls":5},{"$f":"'Aufgebot 29'!A8","v":"SVD Diepoldsau-Schmitter (NLA)"},{"$nulls":10},"Verw.","Mannschaft B:",{"$nulls":5},{"$f":"'Aufgebot 29'!O8","v":"STV Affeltrangen  ( NLA )"},{"$nulls":10},"Verw."]
["Nr.",null,"Spf.","Eins.","Jg.","Name/Vorname",{"$nulls":12},"Nr.",null,"Spf.","Eins.","Jg.","Name/Vorname"]
[{"$nulls":4},"","",{"$nulls":16},"",""]
[{"$nulls":4},"","",{"$nulls":10},"",{"$nulls":5},"","",{"$nulls":10},""]
[{"$nulls":4},"","",{"$nulls":10},"",{"$nulls":5},"","",{"$nulls":10},""]
[{"$nulls":4},"","",{"$nulls":10},"",{"$nulls":5},"","",{"$nulls":10},""]
[{"$nulls":4},"","",{"$nulls":10},"",{"$nulls":5},"","",{"$nulls":10},""]
[{"$nulls":4},"","",{"$nulls":10},"",{"$nulls":5},"","",{"$nulls":10},""]
[{"$nulls":4},"","",{"$nulls":10},"",{"$nulls":5},"","",{"$nulls":10},""]
[{"$nulls":4},"","",{"$nulls":10},"",{"$nulls":5},"","",{"$nulls":10},""]
[{"$nulls":4},"","",{"$nulls":10},"",{"$nulls":5},"","",{"$nulls":10},""]
[{"$nulls":4},"","",{"$nulls":16},"",""]
[" Trainer:",{"$nulls":5},"",{"$nulls":11},"Trainer:",{"$nulls":5},""]
[" Betreuer:",{"$nulls":5},"",{"$nulls":11}," Betreuer:"]
[]
[" Schiedsrichter:",{"$nulls":5},{"$f":"'Aufgebot 29'!A19&\" \"&'Aufgebot 29'!G19","v":"Patrick Sieber +41 79 473 61 88"},{"$nulls":11},"Heimmannschaft Verantw.",{"$nulls":8},{"$f":"'Aufgebot 29'!A9","v":"Lorena Lipp"}]
[" Linienrichter:",{"$nulls":17}," Linienrichter:"]
[]
["Ballwahl/Anspiel:",{"$nulls":6},"1. Satz:","A",null,"B",null,null,"5. Satz:",null,null,"A",null,"B"]
[]
["Ausserordentliche Vorfälle:  ",{"$nulls":6},"","Protest/Einsprache",null,null,null,"","Ausschluss",null,null,"","Sonstiges",null,null,null,"(Ankreuzen + Bericht mit Unterschrift auf Rückseite)"]
[]
["A",null,"Timeout","1. Satz",null,"A",{"$f":"IF('Aufgebot 29'!$G$34>0,1,\"\")","v":""},{"$f":"IF('Aufgebot 29'!$G$34>0,2,\"\")","v":""},{"$f":"IF('Aufgebot 29'!$G$34=3,3,\"\")","v":""}]
["B",{"$nulls":4},"B"]
["A",null,"Timeout","2. Satz",null,"A",{"$f":"G30","v":""},{"$f":"H30","v":""},{"$f":"I30","v":""}]
["B",{"$nulls":4},"B"]
["A",null,"Timeout","3. Satz",null,"A",{"$f":"G32","v":""},{"$f":"H32","v":""},{"$f":"I32","v":""}]
["B",{"$nulls":4},"B"]
["A",null,"Timeout","4. Satz",null,"A",{"$f":"G34","v":""},{"$f":"H34","v":""},{"$f":"I34","v":""}]
["B",{"$nulls":4},"B"]
[]
["A",null,"Timeout","5. Satz",null,"A",{"$f":"G36","v":""},{"$f":"H36","v":""},{"$f":"I36","v":""}]
["B",{"$nulls":4},"B"]
["A",null,"Timeout","6. Satz",null,"A",{"$f":"G39","v":""},{"$f":"H39","v":""},{"$f":"I39","v":""}]
["B",{"$nulls":4},"B"]
["A",null,"Timeout","7. Satz",null,"A",{"$f":"G41","v":""},{"$f":"H41","v":""},{"$f":"I41","v":""}]
["B",{"$nulls":4},"B"]
["A",null,"Timeout","8. Satz",null,"A",{"$f":"G43","v":""},{"$f":"H43","v":""},{"$f":"I43","v":""}]
["B",{"$nulls":4},"B"]
[]
["A",null,"Timeout","9. Satz",null,"A",{"$f":"G45","v":""},{"$f":"H45","v":""},{"$f":"I45","v":""}]
["B",{"$nulls":4},"B"]
[]
[" Ergebnis    (A:B) ",{"$nulls":4},"1. Satz",null,null,"2. Satz",null,null,"3. Satz",null,null,"4. Satz",null,null,"5. Satz",null,null,null,"6. Satz",null,null,"7. Satz",null,null,"8. Satz",null,null,"9. Satz"]
[{"$nulls":6},":",null,null,":",null,null,":",null,null,":",null,null,":",null,null,null,":",null,null,":",null,null,":",null,null,":"]
["Sieger",{"$nulls":24},"Total Punkte",{"$nulls":4},"Endstand (Sätze)"]
[{"$nulls":25},":",{"$nulls":4},":"]
[" Für die Richtigkeit der Eintragungen"]
[" Schiedsrichter:",{"$nulls":16},"Spielführer A:"]
[" Anschreiber:",{"$nulls":16}," Spielführer B:"]
["Mit sportlichen Grüssen\nSwiss Faustball CUPKO\nBruno Pabst (Präsident)",{"$nulls":23},"Thundorf,",{"$nulls":5},{"$f":"TODAY()","v":"2025-08-28"}]

{"sheet":"Aufgebot 30","index":83,"n_rows":48,"n_cols":26,"rows_kept":48,"cut":false,"hidden":false,"merged":[[31,4,31,14],[31,15,31,26],[41,0,41,2],[41,3,41,20],[41,21,41,23],[41,24,41,26],[36,0,36,26],[37,0,37,26],[38,0,38,26],[39,0,39,2],[39,3,39,5],[39,6,39,8],[39,9,39,11],[39,12,39,14],[39,15,39,17],[39,18,39,20],[50,2,50,8],[43,0,43,26],[44,0,44,8],[44,9,44,15],[44,17,44,24],[47,0,47,19],[47,20,47,22],[47,23,47,26],[39,21,39,23],[39,24,39,26],[35,0,35,5],[35,6,35,26],[26,35,26,38],[28,0,28,26],[30,0,30,26],[31,0,31,3],[31,28,31,29],[32,0,32,26],[33,6,33,7],[33,12,33,14],[33,28,33,29],[34,0,34,26],[26,6,26,8],[26,12,26,18],[26,19,26,20],[26,21,26,22],[26,24,26,26],[16,24,16,26],[19,0,19,26],[22,0,22,11],[22,12,22,14],[24,0,24,2],[18,0,18,5],[18,6,18,11],[18,12,18,16],[18,17,18,26],[16,0,16,11],[16,12,16,15],[16,16,16,18],[16,20,16,23],[13,0,13,5],[13,6,13,10],[13,11,13,18],[13,19,13,26],[14,0,14,5],[14,6,14,10],[14,11,14,18],[14,19,14,26],[10,0,10,5],[10,6,10,12],[10,14,10,19],[10,20,10,26],[11,0,11,12],[11,14,11,26],[8,0,8,12],[8,14,8,26],[9,0,9,5],[9,6,9,12],[9,14,9,19],[9,20,9,26],[6,0,6,12],[6,13,7,13],[6,14,6,26],[6,28,6,29],[6,30,6,31],[7,14,7,26],[0,4,0,21],[2,0,2,26],[2,28,2,30],[4,0,4,4],[4,5,4,11],[4,12,4,13],[4,14,4,19],[4,20,4,23]]}
[{"$nulls":4},{"$f":"Eigaben!Z3","v":"37. Schweizer Cup Männer 2025"}]
[4,null,null,{"$f":"VLOOKUP(A2,Eigaben!Y8:AC14,5,0)","v":"1/4 Final"}]
["Aufgebot Mannschaften"]
[1]
[{"$f":"VLOOKUP(A2,Eigaben!Y8:AC14,5,0)","v":"1/4 Final"},{"$nulls":4},{"$f":"VLOOKUP($A$2,Eigaben!$Y$8:$AC$14,2,1)","v":"2025-07-28"},{"$nulls":6},"bis",null,{"$f":"VLOOKUP($A$2,Eigaben!$Y$8:$AB$14,3,1)","v":"2025-08-15"},{"$nulls":5},"Spiel - Nr.",null,null,null,{"$f":"'Aufgebot 29'!Y5+1","v":30}]
[{"$f":"Eigaben!F74","v":44},{"$nulls":13},{"$f":"Eigaben!G74","v":66}]
["Heim - Mannschaft",{"$nulls":13},"Gast - Mannschaft"]
[{"$f":"(VLOOKUP($A$6,Eigaben!$Y$17:$Z$103,2,0))","v":"STV Oberentfelden   ( 2. Liga )"},{"$nulls":13},{"$f":"(VLOOKUP($O$6,Eigaben!$Y$17:$Z$103,2,0))","v":"FG Elgg-Ettenhausen 1 ( NLA )"}]
[{"$f":"VLOOKUP($A$6,Eigaben!$Y$17:$AH$103,3,1)&\" \"&VLOOKUP(A6,Eigaben!Y17:AH103,4,1)","v":"Christian Suter"},{"$nulls":13},{"$f":"VLOOKUP($O$6,Eigaben!$Y$17:$AH$103,3,1)&\" \"&VLOOKUP($O$6,Eigaben!$Y$17:$AH$103,4,1)","v":"Markus Fehr"}]
[{"$f":"VLOOKUP($A$6,Eigaben!$Y$17:$AH$103,5,1)","v":"Aeppenhaldenstr 3b"},{"$nulls":5},{"$f":"VLOOKUP($A$6,Eigaben!$Y$17:$AH$103,6,1)&\" \"&VLOOKUP(A6,Eigaben!$Y$17:$AH$103,7,1)","v":"4800 Zofingen"},{"$nulls":7},{"$f":"VLOOKUP($O$6,Eigaben!$Y$17:$AH$103,5,1)","v":"Hintergasse 3a"},{"$nulls":5},{"$f":"VLOOKUP($O$6,Eigaben!$Y$17:$AV$103,6,1)&\" \"&VLOOKUP($O$6,Eigaben!$Y$17:$AV$103,7,1)","v":"8353 Elgg"}]
[{"$f":"IF(Eigaben!AF54=0,\"\",VLOOKUP($A$6,Eigaben!$Y$17:$AH$103,8,1))","v":" "},{"$nulls":5},{"$f":"IF(Eigaben!$AG$54=0,\"\",VLOOKUP($A$6,Eigaben!$Y$17:$AH$103,9,1))","v":"079 476 04 32"},{"$nulls":7},{"$f":"IF(Eigaben!AF55=0,\"\",VLOOKUP($O$6,Eigaben!$Y$17:$AH$103,8,1))","v":" "},{"$nulls":5},{"$f":"IF(Eigaben!$P$54=0,\"\",VLOOKUP($O$6,Eigaben!$Y$17:$AH$103,9,1))","v":"078 613 39 28"}]
[{"$f":"VLOOKUP($A$6,Eigaben!$Y$17:$AH$103,10,1)","v":"christian.suter@faustballcenter.ch"},{"$nulls":13},{"$f":"VLOOKUP($O$6,Eigaben!$Y$17:$AH$103,10,1)","v":"fehr.markus@bluewin.ch"}]
[null,null,{"$f":"Eigaben!C74","v":0}]
["Datum",{"$nulls":5},"Zeit",{"$nulls":4},"Ort",{"$nulls":7},"Sportplatz"]
[{"$f":"IF(Eigaben!C66=0,\"\",VLOOKUP(C13,Eigaben!$C$28:$V$109,13,0))","v":{"$error":"#N/A"}},{"$nulls":5},{"$f":"IF(Eigaben!C66=0,\"\",VLOOKUP(C13,Eigaben!$C$28:$V$110,14,0))","v":{"$error":"#N/A"}},{"$nulls":4},{"$f":"IF(Eigaben!C66=0,\"\",VLOOKUP(C13,Eigaben!$C$28:$V$1110,15,0))","v":{"$error":"#N/A"}},{"$nulls":7},{"$f":"IF(Eigaben!C66=0,\"\",VLOOKUP(C13,Eigaben!$C$28:$V$110,16,0))","v":{"$error":"#N/A"}}]
[null,null,{"$f":"Eigaben!T74","v":0}]
["Aufgebot Schiedsrichter *"]
[]
[{"$f":"IF(C16=0,\"\",VLOOKUP(C16,Schiri_25!A2:L181,3,1)&\" \"&VLOOKUP(C16,Schiri_25!A2:L181,2,1))","v":""},{"$nulls":5},{"$f":"IF(C16=0,\"\",VLOOKUP(C16,Schiri_25!A2:L181,9,1))","v":""},{"$nulls":5},{"$f":"IF(C16=0,\"\",IF(VLOOKUP(C16,Schiri_25!A2:M122,8,1)=0,\"\",VLOOKUP(C16,Schiri_25!A2:M122,8,1)))","v":""},{"$nulls":4},{"$f":"IF(C16=0,\"\",VLOOKUP(C16,Schiri_25!A2:L181,12,1))","v":""}]
[]
["* Im Verhinderungsfall sofort Verbindungsaufnahme mit Bruno Pabst: 079 243 02 08"]
[]
["Eintreffen des Schiedsrichters:",{"$nulls":11},{"$f":"IF(G15=\"\",\"\",G15-\"00:15:00\")","v":{"$error":"#N/A"}}]
[]
["Tenue:",null,null,"Offizielle Schiedsrichterausrüstung blau / schwarz"]
[]
["Taggeld:",{"$nulls":4},"Fr.","**",{"$nulls":5},"Fahrspesen",{"$nulls":6},"Fr",null,1,null,null,{"$f":"Eigaben!V74","v":0}]
[]
["Die Fahrspesen (einfache Fahrt, Fr. 1,00 pro Km)  werden durch die Heim-Mannschaft bezahlt. \n**  (Das Taggeld wird direkt durch die CUPKO ausbezahlt.)"]
[]
["Modus"]
["Spielmodus:",null,null,null,"5 Gewinnsätze bis 11 (max. 15 : 14)",{"$nulls":10},"Pause zwischen den Sätzen 90 s"]
[]
["Bonus-Punkte:",{"$nulls":5},{"$f":"Eigaben!S74","v":0}]
[]
["Durchführung:\n",{"$nulls":5},"Bei einer allfälligen Verschiebung muss spätestens 5 Stunden vor Spielbeginn die Gast-Mannschaft, der Schiedsrichter und deer Chef CUPKO per Telefon und SMS informiert werden."]
[]
["Resultatmeldung"]
[]
["1. Satz",null,null,"2. Satz",null,null,"3. Satz",null,null,"4. Satz",null,null,"5. Satz",null,null,"6. Satz",null,null,"7. Satz",null,null,"8. Satz",null,null,"9. Satz"]
[null,":",null,null,":",null,null,":",null,null,":",null,null,":",null,null,":",null,null,":",null,null,":",null,null,":"]
["Sieger",{"$nulls":20},"Sätze",null,null,":"]
[]
["Resultatmeldung bis spätestens 12 Uhr des Folgetages durch den Schiedsrichter  per E-Mail, SMS oder WhatsApp an  "]
["pabst@swissfaustball.ch",{"$nulls":16},"pabst.bruno@bluewin.ch"]
[]
[]
["Mit sportlichen Grüssen\nSwiss Faustball CUPKO\nBruno Pabst (Präsident)",{"$nulls":19},"Thundorf, ",null,null,{"$f":"TODAY()","v":"2025-08-28"}]

{"sheet":"Spielbericht 30","index":84,"n_rows":58,"n_cols":36,"rows_kept":58,"cut":false,"hidden":false,"merged":[[0,6,1,35],[3,6,3,28],[3,29,3,35],[5,0,5,3],[5,4,5,8],[5,9,5,10],[5,11,5,13],[5,14,5,17],[5,18,5,28],[5,29,5,32],[5,33,5,35],[7,35,8,35],[8,5,8,16],[8,23,8,34],[9,5,9,16],[9,23,9,34],[7,0,7,5],[7,6,7,16],[7,17,8,17],[7,18,7,23],[7,24,7,34],[10,5,10,16],[10,23,10,34],[11,5,11,16],[11,23,11,34],[12,5,12,16],[12,23,12,34],[13,5,13,16],[13,23,13,34],[14,5,14,16],[14,23,14,34],[15,5,15,16],[15,23,15,34],[16,5,16,16],[16,23,16,34],[17,5,17,16],[17,23,17,34],[29,2,30,2],[29,3,30,4],[18,5,18,16],[18,23,18,34],[19,18,19,22],[20,18,20,22],[22,6,22,17],[22,27,22,35],[23,6,23,17],[23,18,23,23],[23,24,23,35],[25,0,25,5],[25,13,25,15],[31,2,32,2],[31,3,32,4],[33,2,34,2],[33,3,34,4],[35,2,36,2],[35,3,36,4],[50,8,50,10],[38,2,39,2],[38,3,39,4],[40,2,41,2],[40,3,41,4],[42,2,43,2],[42,3,43,4],[44,2,45,2],[44,3,45,4],[47,2,48,2],[47,3,48,4],[50,0,51,4],[57,0,59,23],[57,24,59,29],[57,30,59,35],[50,30,50,32],[50,33,51,35],[52,0,53,4],[52,25,52,29],[52,30,52,35],[53,25,53,29],[53,30,53,35],[50,11,50,13],[50,14,50,16],[50,17,50,20],[50,21,50,23],[50,24,50,26],[50,27,50,29],[54,0,54,35],[55,0,55,16],[55,17,55,35],[56,0,56,16],[56,17,56,35]]}
[{"$nulls":6},{"$f":"'Aufgebot A'!E1","v":"37. Schweizer Cup Männer 2025"}]
[]
[]
[{"$nulls":6},"            Spielbericht",{"$nulls":22},{"$f":"'Aufgebot 30'!A5","v":"1/4 Final"}]
[]
["Datum:  ",null,null,null,{"$f":"'Aufgebot 30'!A15","v":{"$error":"#N/A"}},{"$nulls":4},"Zeit:",null,{"$f":"'Aufgebot 30'!G15","v":{"$error":"#N/A"}},null,null,"Spielort:",null,null,null,{"$f":"'Aufgebot 30'!L15","v":{"$error":"#N/A"}},{"$nulls":10}," Spiel-Nr.:",null,null,null,{"$f":"'Aufgebot 30'!Y5","v":30}]
[]
["Mannschaft A:",{"$nulls":5},{"$f":"'Aufgebot 30'!A8","v":"STV Oberentfelden   ( 2. Liga )"},{"$nulls":10},"Verw.","Mannschaft B:",{"$nulls":5},{"$f":"'Aufgebot 30'!O8","v":"FG Elgg-Ettenhausen 1 ( NLA )"},{"$nulls":10},"Verw."]
["Nr.",null,"Spf.","Eins.","Jg.","Name/Vorname",{"$nulls":12},"Nr.",null,"Spf.","Eins.","Jg.","Name/Vorname"]
[{"$nulls":4},"","",{"$nulls":16},"",""]
[{"$nulls":4},"","",{"$nulls":10},"",{"$nulls":5},"","",{"$nulls":10},""]
[{"$nulls":4},"","",{"$nulls":10},"",{"$nulls":5},"","",{"$nulls":10},""]
[{"$nulls":4},"","",{"$nulls":10},"",{"$nulls":5},"","",{"$nulls":10},""]
[{"$nulls":4},"","",{"$nulls":10},"",{"$nulls":5},"","",{"$nulls":10},""]
[{"$nulls":4},"","",{"$nulls":10},"",{"$nulls":5},"","",{"$nulls":10},""]
[{"$nulls":4},"","",{"$nulls":10},"",{"$nulls":5},"","",{"$nulls":10},""]
[{"$nulls":4},"","",{"$nulls":10},"",{"$nulls":5},"","",{"$nulls":10},""]
[{"$nulls":4},"","",{"$nulls":10},"",{"$nulls":5},"","",{"$nulls":10},""]
[{"$nulls":4},"","",{"$nulls":16},"",""]
[" Trainer:",{"$nulls":5},"",{"$nulls":11},"Trainer:",{"$nulls":5},""]
[" Betreuer:",{"$nulls":5},"",{"$nulls":11}," Betreuer:"]
[]
[" Schiedsrichter:",{"$nulls":5},{"$f":"'Aufgebot 29'!A19&\" \"&'Aufgebot 29'!G19","v":"Patrick Sieber +41 79 473 61 88"},{"$nulls":11},"Heimmannschaft Verantw.",{"$nulls":8},{"$f":"'Aufgebot 29'!A9","v":"Lorena Lipp"}]
[" Linienrichter:",{"$nulls":17}," Linienrichter:"]
[]
["Ballwahl/Anspiel:",{"$nulls":6},"1. Satz:","A",null,"B",null,null,"5. Satz:",null,null,"A",null,"B"]
[]
["Ausserordentliche Vorfälle:  ",{"$nulls":6},"","Protest/Einsprache",null,null,null,"","Ausschluss",null,null,"","Sonstiges",null,null,null,"(Ankreuzen + Bericht mit Unterschrift auf Rückseite)"]
[]
["A",null,"Timeout","1. Satz",null,"A",{"$f":"IF('Aufgebot 30'!$G$34>0,1,\"\")","v":""},{"$f":"IF('Aufgebot 30'!$G$34>0,2,\"\")","v":""},{"$f":"IF('Aufgebot 30'!$G$34=3,3,\"\")","v":""}]
["B",{"$nulls":4},"B"]
["A",null,"Timeout","2. Satz",null,"A",{"$f":"G30","v":""},{"$f":"H30","v":""},{"$f":"I30","v":""}]
["B",{"$nulls":4},"B"]
["A",null,"Timeout","3. Satz",null,"A",{"$f":"G32","v":""},{"$f":"H32","v":""},{"$f":"I32","v":""}]
["B",{"$nulls":4},"B"]
["A",null,"Timeout","4. Satz",null,"A",{"$f":"G34","v":""},{"$f":"H34","v":""},{"$f":"I34","v":""}]
["B",{"$nulls":4},"B"]
[]
["A",null,"Timeout","5. Satz",null,"A",{"$f":"G36","v":""},{"$f":"H36","v":""},{"$f":"I36","v":""}]
["B",{"$nulls":4},"B"]
["A",null,"Timeout","6. Satz",null,"A",{"$f":"G39","v":""},{"$f":"H39","v":""},{"$f":"I39","v":""}]
["B",{"$nulls":4},"B"]
["A",null,"Timeout","7. Satz",null,"A",{"$f":"G41","v":""},{"$f":"H41","v":""},{"$f":"I41","v":""}]
["B",{"$nulls":4},"B"]
["A",null,"Timeout","8. Satz",null,"A",{"$f":"G43","v":""},{"$f":"H43","v":""},{"$f":"I43","v":""}]
["B",{"$nulls":4},"B"]
[]
["A",null,"Timeout","9. Satz",null,"A",{"$f":"G45","v":""},{"$f":"H45","v":""},{"$f":"I45","v":""}]
["B",{"$nulls":4},"B"]
[]
[" Ergebnis    (A:B) ",{"$nulls":4},"1. Satz",null,null,"2. Satz",null,null,"3. Satz",null,null,"4. Satz",null,null,"5. Satz",null,null,null,"6. Satz",null,null,"7. Satz",null,null,"8. Satz",null,null,"9. Satz"]
[{"$nulls":6},":",null,null,":",null,null,":",null,null,":",null,null,":",null,null,null,":",null,null,":",null,null,":",null,null,":"]
["Sieger",{"$nulls":24},"Total Punkte",{"$nulls":4},"Endstand (Sätze)"]
[{"$nulls":25},":",{"$nulls":4},":"]
[" Für die Richtigkeit der Eintragungen"]
[" Schiedsrichter:",{"$nulls":16},"Spielführer A:"]
[" Anschreiber:",{"$nulls":16}," Spielführer B:"]
["Mit sportlichen Grüssen\nSwiss Faustball CUPKO\nBruno Pabst (Präsident)",{"$nulls":23},"Thundorf,",{"$nulls":5},{"$f":"TODAY()","v":"2025-08-28"}]

{"sheet":"Final 2024","index":85,"n_rows":47,"n_cols":26,"rows_kept":47,"cut":false,"hidden":false,"merged":[[49,2,49,8],[43,0,43,26],[44,0,44,8],[44,9,44,15],[44,17,44,24],[46,0,46,19],[46,20,46,22],[46,23,46,26],[39,15,39,17],[39,18,39,20],[39,21,39,23],[39,24,39,26],[41,0,41,2],[41,3,41,20],[41,21,41,23],[41,24,41,26],[39,0,39,2],[39,3,39,5],[39,6,39,8],[39,9,39,11],[39,12,39,14],[35,0,35,5],[35,6,35,26],[36,0,36,26],[37,0,37,26],[38,0,38,26],[32,0,32,26],[33,6,33,7],[33,12,33,14],[33,28,33,29],[34,0,34,26],[26,35,26,38],[28,0,28,26],[30,0,30,26],[31,0,31,3],[31,28,31,29],[31,4,31,14],[31,15,31,26],[22,0,22,11],[22,12,22,14],[23,28,24,29],[24,0,24,2],[26,6,26,8],[26,12,26,18],[26,19,26,20],[26,21,26,22],[26,24,26,26],[26,28,26,29],[16,0,16,26],[16,28,16,29],[17,28,19,29],[18,17,18,26],[19,0,19,26],[18,0,18,8],[18,9,18,16],[14,0,14,5],[14,6,14,10],[14,11,14,18],[14,19,14,26],[14,28,15,29],[11,0,11,12],[11,14,11,26],[13,0,13,5],[13,6,13,10],[13,11,13,18],[13,19,13,26],[8,0,8,12],[8,14,8,26],[9,0,9,5],[9,6,9,12],[9,14,9,19],[9,20,9,26],[6,0,6,12],[6,13,7,13],[6,14,6,26],[6,28,6,29],[6,30,6,31],[7,0,7,12],[7,14,7,26],[0,4,0,21],[2,0,2,26],[2,28,2,30],[4,0,4,4],[4,20,4,23],[4,24,4,26],[4,14,4,19],[4,5,4,10],[4,11,4,13]]}
[{"$nulls":4},{"$f":"Eigaben!Z3","v":"37. Schweizer Cup Männer 2025"}]
[6,{"$nulls":4},7]
["Aufgebot Mannschaften"]
[]
["Final",{"$nulls":4},{"$f":"VLOOKUP($A$2,Eigaben!$Y$8:$AB$14,2,1)","v":"2025-09-20"},{"$nulls":5},"Ersatz",null,null,{"$f":"VLOOKUP($F$2,Eigaben!$Y$8:$AB$14,2,1)","v":"2025-09-27"},{"$nulls":5},"Spiel - Nr.",null,null,null,31]
[{"$f":"Eigaben!F83","v":64},{"$nulls":13},{"$f":"Eigaben!G83","v":0}]
["Heim - Mannschaft",{"$nulls":13},"Gast - Mannschaft"]
[{"$f":"(VLOOKUP($A$6,Eigaben!$Y$17:$Z$103,2,0))","v":"STV Affeltrangen  ( NLA )"},{"$f":"(VLOOKUP($A$6,Eigaben!$Y$17:$Z$103,2,0))","v":"STV Affeltrangen  ( NLA )"},{"$f":"(VLOOKUP($A$6,Eigaben!$Y$17:$Z$103,2,0))","v":"STV Affeltrangen  ( NLA )"},{"$f":"(VLOOKUP($A$6,Eigaben!$Y$17:$Z$103,2,0))","v":"STV Affeltrangen  ( NLA )"},{"$f":"(VLOOKUP($A$6,Eigaben!$Y$17:$Z$103,2,0))","v":"STV Affeltrangen  ( NLA )"},{"$f":"(VLOOKUP($A$6,Eigaben!$Y$17:$Z$103,2,0))","v":"STV Affeltrangen  ( NLA )"},{"$f":"(VLOOKUP($A$6,Eigaben!$Y$17:$Z$103,2,0))","v":"STV Affeltrangen  ( NLA )"},{"$f":"(VLOOKUP($A$6,Eigaben!$Y$17:$Z$103,2,0))","v":"STV Affeltrangen  ( NLA )"},{"$f":"(VLOOKUP($A$6,Eigaben!$Y$17:$Z$103,2,0))","v":"STV Affeltrangen  ( NLA )"},{"$f":"(VLOOKUP($A$6,Eigaben!$Y$17:$Z$103,2,0))","v":"STV Affeltrangen  ( NLA )"},{"$f":"(VLOOKUP($A$6,Eigaben!$Y$17:$Z$103,2,0))","v":"STV Affeltrangen  ( NLA )"},{"$f":"(VLOOKUP($A$6,Eigaben!$Y$17:$Z$103,2,0))","v":"STV Affeltrangen  ( NLA )"},{"$f":"(VLOOKUP($A$6,Eigaben!$Y$17:$Z$103,2,0))","v":"STV Affeltrangen  ( NLA )"},null,{"$f":"(VLOOKUP($O$6,Eigaben!$Y$17:$Z$103,2,0))","v":{"$error":"#N/A"}}]
[{"$f":"VLOOKUP($A$6,Eigaben!$Y$17:$AH$103,3,1)&\" \"&VLOOKUP(A6,Eigaben!Y17:AH103,4,1)","v":"Andreas Ribi"},{"$nulls":13},{"$f":"VLOOKUP($O$6,Eigaben!$Y$17:$AH$103,3,1)&\" \"&VLOOKUP($O$6,Eigaben!$Y$17:$AH$103,4,1)","v":{"$error":"#N/A"}}]
[{"$f":"VLOOKUP($A$6,Eigaben!$Y$17:$AH$103,5,1)","v":"Unterdorfstr 2b"},{"$nulls":5},{"$f":"VLOOKUP($A$6,Eigaben!$Y$17:$AH$103,6,1)&\" \"&VLOOKUP(A6,Eigaben!$Y$17:$AH$103,7,1)","v":"8507 Hörhausen"},{"$nulls":7},{"$f":"VLOOKUP($O$6,Eigaben!$Y$17:$AH$103,5,1)","v":{"$error":"#N/A"}},{"$nulls":5},{"$f":"VLOOKUP($O$6,Eigaben!$Y$17:$AV$103,6,1)&\" \"&VLOOKUP($O$6,Eigaben!$Y$17:$AV$103,7,1)","v":{"$error":"#N/A"}}]
[{"$f":"IF(Eigaben!AF54=0,\"\",VLOOKUP($A$6,Eigaben!$Y$17:$AH$103,8,1))","v":" "},{"$nulls":5},{"$f":"IF(Eigaben!$AG$54=0,\"\",VLOOKUP($A$6,Eigaben!$Y$17:$AH$103,9,1))","v":"079 585 70 85"},{"$nulls":7},{"$f":"IF(Eigaben!AF55=0,\"\",VLOOKUP($O$6,Eigaben!$Y$17:$AH$103,8,1))","v":{"$error":"#N/A"}},{"$nulls":5},{"$f":"IF(Eigaben!$P$54=0,\"\",VLOOKUP($O$6,Eigaben!$Y$17:$AH$103,9,1))","v":{"$error":"#N/A"}}]
[{"$f":"VLOOKUP($A$6,Eigaben!$Y$17:$AH$103,10,1)","v":"faustball@stv-affeltrangen.ch "},{"$nulls":13},{"$f":"VLOOKUP($O$6,Eigaben!$Y$17:$AH$103,10,1)","v":{"$error":"#N/A"}}]
[null,null,{"$f":"Eigaben!C83","v":0}]
["Datum",{"$nulls":5},"Zeit",{"$nulls":4},"Ort",{"$nulls":7},"Sportplatz"]
[{"$f":"VLOOKUP(C13,Eigaben!C83:V84,13,0)","v":{"$error":"#N/A"}},{"$nulls":5},{"$f":"VLOOKUP(C13,Eigaben!$C$83:$V$84,14,0)","v":{"$error":"#N/A"}},{"$nulls":4},{"$f":"IF(Eigaben!C6=0,\"\",VLOOKUP(C13,Eigaben!$C$83:$V$84,15,0))","v":{"$error":"#N/A"}},{"$nulls":7},{"$f":"IF(Eigaben!C6=0,\"\",VLOOKUP(C13,Eigaben!C83:V84,16,0))","v":{"$error":"#N/A"}}]
[null,null,{"$f":"Eigaben!T83","v":0},{"$nulls":8},{"$f":"Eigaben!T84","v":0},{"$nulls":5},{"$f":"Eigaben!T85","v":0}]
["Aufgebot Schiedsrichter *"]
[]
[{"$f":"IF(C16=0,\"\",VLOOKUP(C16,Schiri_25!$A$2:$L$181,3,1)&\" \"&VLOOKUP(C16,Schiri_25!$A$2:$L$181,2,1)&\" \"&VLOOKUP(C16,Schiri_25!$A$2:$L$181,9,1))","v":""},{"$nulls":8},{"$f":"IF(L16=0,\"\",VLOOKUP(L16,Schiri_25!$A$2:$L$181,3,1)&\" \"&VLOOKUP(L16,Schiri_25!$A$2:$L$181,2,1)&\" \"&VLOOKUP(L16,Schiri_25!$A$2:$L$181,9,1))","v":""},{"$nulls":7},{"$f":"IF(R16=0,\"\",VLOOKUP(R16,Schiri_25!$A$2:$L$181,3,1)&\" \"&VLOOKUP(R16,Schiri_25!$A$2:$L$181,2,1)&\" \"&VLOOKUP(R16,Schiri_25!$A$2:$L$181,9,1))","v":""}]
[]
["* Im Verhinderungsfall sofort Verbindungsaufnahme mit Bruno Pabst: 079 243 02 08"]
[]
["Eintreffen des Schiedsrichters:",{"$nulls":11},{"$f":"IF(G15=\"\",\"\",G15-\"00:30:00\")","v":{"$error":"#N/A"}}]
[]
["Tenue:",null,null,"Offizielle Schiedsrichterausrüstung blau / schwarz"]
[]
["Taggeld:",{"$nulls":4},"Fr.","**",{"$nulls":5},"Fahrspesen",{"$nulls":6},"Fr",null,1]
[]
["Die Fahrspesen (einfache Fahrt, Fr. 1,00 pro Km)  werden durch die Heim-Mannschaft bezahlt. \n**  (Das Taggeld wird direkt durch die CUPKO ausbezahlt.)"]
[{"$nulls":5},31]
["Modus"]
["Spielmodus:",null,null,null,"5 Gewinnsätze bis 11 (max. 15 : 14)",{"$nulls":10},"Pause zwischen den Sätzen 90 s"]
[]
["Bonus-Punkte:"]
[]
["Durchführung:\n",{"$nulls":5},"Bei einer allfälligen Verschiebung muss spätestens 5 Stunden vor Spielbeginn die Gast-Mannschaft, der Schiedsrichter und deer Chef CUPKO per Telefon und SMS informiert werden."]
[]
["Resultatmeldung"]
[]
["1. Satz",null,null,"2. Satz",null,null,"3. Satz",null,null,"4. Satz",null,null,"5. Satz",null,null,"6. Satz",null,null,"7. Satz",null,null,"8. Satz",null,null,"9. Satz"]
[null,":",null,null,":",null,null,":",null,null,":",null,null,":",null,null,":",null,null,":",null,null,":",null,null,":"]
["Sieger",{"$nulls":20},"Sätze",null,null,":"]
[]
["Resultatmeldung bis spätestens 12 Uhr des Folgetages durch die Heim-Mannschaft mit diesem Meldeblatt per Mail an  "]
["media@swissfaustball.ch",{"$nulls":16},"pabst@swissfaustball.ch"]
[]
["Mit sportlichen Grüssen\nSwiss Faustball CUPKO\nBruno Pabst (Präsident)",{"$nulls":19},"Thundorf, ",null,null,{"$f":"TODAY()","v":"2025-08-28"}]

{"sheet":"SB_Final 2004","index":86,"n_rows":59,"n_cols":38,"rows_kept":59,"cut":false,"hidden":false,"merged":[[10,24,10,35],[11,6,11,17],[12,6,12,17],[0,7,1,36],[3,7,3,31],[3,32,3,36],[5,5,5,9],[7,36,8,36],[7,18,8,18],[5,30,5,33],[5,34,5,36],[7,19,7,24],[7,25,7,35],[8,24,8,35],[7,7,7,17],[46,3,47,3],[46,4,47,5],[49,31,49,33],[49,15,49,17],[5,10,5,11],[5,12,5,14],[7,1,7,6],[16,24,16,35],[17,24,17,35],[13,6,13,17],[14,6,14,17],[15,6,15,17],[13,24,13,35],[14,24,14,35],[15,24,15,35],[18,6,18,17],[5,1,5,4],[20,19,20,23],[19,19,19,23],[18,24,18,35],[16,6,16,17],[17,6,17,17],[11,24,11,35],[12,24,12,35],[19,24,19,36],[5,19,5,29],[5,15,5,18],[8,6,8,17],[9,6,9,17],[10,6,10,17],[9,24,9,35],[20,24,20,36],[49,25,49,27],[49,28,49,30],[49,1,50,5],[49,9,49,11],[49,12,49,14],[49,18,49,21],[49,22,49,24],[38,4,39,5],[40,3,41,3],[44,4,45,5],[40,4,41,5],[35,4,36,5],[54,1,54,36],[55,1,55,17],[33,3,34,3],[33,4,34,5],[58,31,60,36],[58,25,60,30],[58,1,60,24],[49,34,50,36],[52,26,52,30],[56,1,56,17],[55,18,55,36],[56,18,56,36],[42,4,43,5],[44,3,45,3],[35,3,36,3],[42,3,43,3],[22,27,22,36],[22,17,22,26],[51,1,52,5],[51,31,51,36],[52,31,52,36],[51,26,51,30],[38,3,39,3],[25,14,25,16],[31,3,32,3],[23,19,23,24],[23,7,23,18],[23,25,23,36],[29,4,30,5],[31,4,32,5],[25,1,25,6],[29,3,30,3],[22,1,22,6],[19,1,19,5],[20,1,20,5],[19,6,19,18],[20,6,20,18],[22,7,22,16]]}
[{"$nulls":7},{"$f":"'Final 2024'!E1","v":"37. Schweizer Cup Männer 2025"}]
[]
[]
[{"$nulls":7},"            Spielbericht",{"$nulls":24},"Final"]
[]
[null,"Datum:  ",null,null,null,{"$f":"'Final 2024'!F5","v":"2025-09-20"},{"$nulls":4},"Zeit:",null,{"$f":"'Final 2024'!G15","v":{"$error":"#N/A"}},null,null,"Spielort:",null,null,null,{"$f":"'Final 2024'!L15&\" \"&'Final 2024'!T15","v":{"$error":"#N/A"}},{"$nulls":10}," Spiel-Nr.:",null,null,null,{"$f":"'Final 2024'!Y5","v":31}]
[]
[null,"Mannschaft A:",{"$nulls":5},{"$f":"'Final 2024'!A8","v":"STV Affeltrangen  ( NLA )"},{"$nulls":10},"Verw.","Mannschaft B:",{"$nulls":5},{"$f":"'Final 2024'!O8","v":{"$error":"#N/A"}},{"$nulls":10},"Verw."]
[null,"Nr.",null,"Spf.","Eins.","Jg.","Name/Vorname",{"$nulls":12},"Nr.",null,"Spf.","Eins.","Jg.","Name/Vorname"]
[1,1,{"$nulls":4},"Swen Aebersold",{"$nulls":12},1,{"$nulls":4},"Stefan Eggert",{"$nulls":12},1]
[2,2,{"$nulls":4},"Jan Wolfensberger",{"$nulls":12},2,{"$nulls":4},"Kenneth Schoch",{"$nulls":12},2]
[3,3,{"$nulls":4},"Maik Keller",{"$nulls":12},4,{"$nulls":4},"Christian Lässer",{"$nulls":12},3]
[4,4,{"$nulls":4},"Ramon Hochstrasser",{"$nulls":12},6,{"$nulls":4},"Lukas Lässer",{"$nulls":12},4]
[5,5,{"$nulls":4},"Robin Häfeli",{"$nulls":12},7,{"$nulls":4},"Paolo Columpsi",{"$nulls":12},5]
[6,6,{"$nulls":4},"Reto von Ballmoos",{"$nulls":12},9,{"$nulls":4},"Jonas Tremp",{"$nulls":12},6]
[7,7,{"$nulls":4},"Tim Egolf",{"$nulls":12},10,null,"X",null,null,"Malik Müller",{"$nulls":12},7]
[8,8,{"$nulls":4},"Silvan Bissig",{"$nulls":12},18,null,null,null,"","Mathias Ziereisnen",{"$nulls":10},"",null,8]
[9,{"$nulls":22},"","",{"$nulls":10},"",null,9]
[10,{"$nulls":4},"","",{"$nulls":16},"","",{"$nulls":12},10]
[null," Trainer:",{"$nulls":4},"Konrad Keller",{"$nulls":12},"Trainer:",{"$nulls":4},{"$f":"'Final 2024'!O9","v":{"$error":"#N/A"}}]
[null," Betreuer:",{"$nulls":4},"Reto Egolf",{"$nulls":12}," Betreuer:"]
[]
[null," Schiedsrichter:",{"$nulls":5},{"$f":"'Final 2024'!A19","v":""},{"$nulls":9},{"$f":"'Final 2024'!J19","v":""},{"$nulls":9},{"$f":"'Final 2024'!R19","v":""}]
[null," Linienrichter:",{"$nulls":17},"Linienrichter:"]
[]
[null,"Ballwahl/Anspiel:",{"$nulls":6},"1. Satz:","A",null,"B",null,null,"5. Satz:",null,null,"A",null,"B"]
[]
[null,"Ausserordentliche Vorfälle:  ",{"$nulls":6},"","Protest/Einsprache",null,null,null,"","Ausschluss",null,null,"","Sonstiges",null,null,null,"(Ankreuzen + Bericht mit Unterschrift auf Rückseite)"]
[]
[null,"A",null,"Timeout","1. Satz",null,"A","","",""]
[null,"B",{"$nulls":4},"B"]
[null,"A",null,"Timeout","2. Satz",null,"A","","",""]
[null,"B",{"$nulls":4},"B"]
[null,"A",null,"Timeout","3. Satz",null,"A","","",""]
[null,"B",{"$nulls":4},"B"]
[null,"A",null,"Timeout","4. Satz",null,"A","","",""]
[null,"B",{"$nulls":4},"B"]
[]
[null,"A",null,"Timeout","5. Satz",null,"A","","",""]
[null,"B",{"$nulls":4},"B"]
[null,"A",null,"Timeout","6. Satz",null,"A","","",""]
[null,"B",{"$nulls":4},"B"]
[null,"A",null,"Timeout","7. Satz",null,"A","","",""]
[null,"B",{"$nulls":4},"B"]
[null,"A",null,"Timeout","8. Satz",null,"A","","",""]
[null,"B",{"$nulls":4},"B"]
[null,"A",null,"Timeout","9. Satz",null,"A","","",""]
[null,"B",{"$nulls":4},"B"]
[]
[null," Ergebnis    (A:B) ",{"$nulls":4},"1. Satz",null,null,"2. Satz",null,null,"3. Satz",null,null,"4. Satz",null,null,"5. Satz",null,null,null,"6. Satz",null,null,"7. Satz",null,null,"8. Satz",null,null,"9. Satz"]
[{"$nulls":7},":",null,null,":",null,null,":",null,null,":",null,null,":",null,null,null,":",null,null,":",null,null,":",null,null,":"]
[null,"Sieger",{"$nulls":24},"Total Punkte",{"$nulls":4},"Endstand (Sätze)"]
[{"$nulls":26},":",{"$nulls":4},":"]
[]
[null," Für die Richtigkeit der Eintragungen"]
[null," Schiedsrichter:",{"$nulls":16},"Spielführer A:"]
[null," Anschreiber:",{"$nulls":16}," Spielführer B:"]
[]
[null,"Mit sportlichen Grüssen\nSwiss Faustball CUPKO\nBruno Pabst (Präsident)",{"$nulls":23},"Thundorf,",{"$nulls":5},{"$f":"TODAY()","v":"2025-08-28"}]